BEGIN:VCALENDAR
VERSION:2.0
PRODID:-//Buckfastleigh Town Council - ECPv6.15.20//NONSGML v1.0//EN
CALSCALE:GREGORIAN
METHOD:PUBLISH
X-WR-CALNAME:Buckfastleigh Town Council
X-ORIGINAL-URL:https://buckfastleigh.gov.uk
X-WR-CALDESC:Events for Buckfastleigh Town Council
REFRESH-INTERVAL;VALUE=DURATION:PT1H
X-Robots-Tag:noindex
X-PUBLISHED-TTL:PT1H
BEGIN:VTIMEZONE
TZID:UTC
BEGIN:STANDARD
TZOFFSETFROM:+0000
TZOFFSETTO:+0000
TZNAME:UTC
DTSTART:20180101T000000
END:STANDARD
END:VTIMEZONE
BEGIN:VEVENT
DTSTART;TZID=UTC:20191207T193000
DTEND;TZID=UTC:20191208T003000
DTSTAMP:20260423T163456
CREATED:20191111T103225Z
LAST-MODIFIED:20191128T122901Z
UID:9930-1575747000-1575765000@buckfastleigh.gov.uk
SUMMARY:The Rambunctious Social Club return to Buckfastleigh Town Hall
DESCRIPTION:“Clubbing for the Creatively Curious”
URL:https://buckfastleigh.gov.uk/event/the-rambunctious-social-club-return-to-buckfastleigh-town-hall-on-saturday-7th-december/
LOCATION:Buckfastleigh Town Hall
END:VEVENT
END:VCALENDAR