BEGIN:VCALENDAR
VERSION:2.0
PRODID:-//Buckfastleigh Town Council - ECPv6.15.20//NONSGML v1.0//EN
CALSCALE:GREGORIAN
METHOD:PUBLISH
X-WR-CALNAME:Buckfastleigh Town Council
X-ORIGINAL-URL:https://buckfastleigh.gov.uk
X-WR-CALDESC:Events for Buckfastleigh Town Council
REFRESH-INTERVAL;VALUE=DURATION:PT1H
X-Robots-Tag:noindex
X-PUBLISHED-TTL:PT1H
BEGIN:VTIMEZONE
TZID:UTC
BEGIN:STANDARD
TZOFFSETFROM:+0000
TZOFFSETTO:+0000
TZNAME:UTC
DTSTART:20190101T000000
END:STANDARD
END:VTIMEZONE
BEGIN:VEVENT
DTSTART;TZID=UTC:20200125T103000
DTEND;TZID=UTC:20200125T123000
DTSTAMP:20260423T163455
CREATED:20200113T125630Z
LAST-MODIFIED:20200121T115207Z
UID:10390-1579948200-1579955400@buckfastleigh.gov.uk
SUMMARY:Chinese New Year workshop
DESCRIPTION:Celebrate the start of the Year of the Rat\, Chinese New Year! Paper lanterns and finger rats to take home \n 
URL:https://buckfastleigh.gov.uk/event/chinese-new-year-workshop/
LOCATION:Buckfastleigh Town Hall
END:VEVENT
END:VCALENDAR