BEGIN:VCALENDAR
VERSION:2.0
PRODID:-//Buckfastleigh Town Council - ECPv6.15.20//NONSGML v1.0//EN
CALSCALE:GREGORIAN
METHOD:PUBLISH
X-ORIGINAL-URL:https://buckfastleigh.gov.uk
X-WR-CALDESC:Events for Buckfastleigh Town Council
REFRESH-INTERVAL;VALUE=DURATION:PT1H
X-Robots-Tag:noindex
X-PUBLISHED-TTL:PT1H
BEGIN:VTIMEZONE
TZID:UTC
BEGIN:STANDARD
TZOFFSETFROM:+0000
TZOFFSETTO:+0000
TZNAME:UTC
DTSTART:20190101T000000
END:STANDARD
END:VTIMEZONE
BEGIN:VEVENT
DTSTART;TZID=UTC:20200201T133000
DTEND;TZID=UTC:20200201T163000
DTSTAMP:20260423T100719
CREATED:20200127T134856Z
LAST-MODIFIED:20200128T124932Z
UID:10463-1580563800-1580574600@buckfastleigh.gov.uk
SUMMARY:Fix and Maintain Your Bike
DESCRIPTION:
URL:https://buckfastleigh.gov.uk/event/fix-and-maintain-your-bike/
LOCATION:The Bungalow\, Victoria Park\, Plymouth Road\, Buckfastleigh\, England\, TQ11 0FB
ORGANIZER;CN="Buckfastleigh Town Council":MAILTO:clerk@buckfastleigh.gov.uk
END:VEVENT
END:VCALENDAR