BEGIN:VCALENDAR
VERSION:2.0
PRODID:-//Buckfastleigh Town Council - ECPv6.15.20//NONSGML v1.0//EN
CALSCALE:GREGORIAN
METHOD:PUBLISH
X-ORIGINAL-URL:https://buckfastleigh.gov.uk
X-WR-CALDESC:Events for Buckfastleigh Town Council
REFRESH-INTERVAL;VALUE=DURATION:PT1H
X-Robots-Tag:noindex
X-PUBLISHED-TTL:PT1H
BEGIN:VTIMEZONE
TZID:UTC
BEGIN:STANDARD
TZOFFSETFROM:+0000
TZOFFSETTO:+0000
TZNAME:UTC
DTSTART:20190101T000000
END:STANDARD
END:VTIMEZONE
BEGIN:VEVENT
DTSTART;TZID=UTC:20200208T140000
DTEND;TZID=UTC:20200208T163000
DTSTAMP:20260423T100719
CREATED:20200121T164133Z
LAST-MODIFIED:20200121T164255Z
UID:10443-1581170400-1581179400@buckfastleigh.gov.uk
SUMMARY:Window Wanderland Workshop
DESCRIPTION:Window Makers Workshop to prepare for Window Wanderland next weekend \n 
URL:https://buckfastleigh.gov.uk/event/window-wanderland-workshop/
LOCATION:Buckfastleigh Town Hall
ORGANIZER;CN="Buckfastleigh Town Council":MAILTO:clerk@buckfastleigh.gov.uk
END:VEVENT
END:VCALENDAR