BEGIN:VCALENDAR
VERSION:2.0
PRODID:-//Buckfastleigh Town Council - ECPv6.15.20//NONSGML v1.0//EN
CALSCALE:GREGORIAN
METHOD:PUBLISH
X-ORIGINAL-URL:https://buckfastleigh.gov.uk
X-WR-CALDESC:Events for Buckfastleigh Town Council
REFRESH-INTERVAL;VALUE=DURATION:PT1H
X-Robots-Tag:noindex
X-PUBLISHED-TTL:PT1H
BEGIN:VTIMEZONE
TZID:UTC
BEGIN:STANDARD
TZOFFSETFROM:+0000
TZOFFSETTO:+0000
TZNAME:UTC
DTSTART:20190101T000000
END:STANDARD
END:VTIMEZONE
BEGIN:VEVENT
DTSTART;TZID=UTC:20200215T103000
DTEND;TZID=UTC:20200223T153000
DTSTAMP:20260423T100714
CREATED:20200205T103511Z
LAST-MODIFIED:20200205T103511Z
UID:10588-1581762600-1582471800@buckfastleigh.gov.uk
SUMMARY:Half Term Diesel Railcar Trains
DESCRIPTION:
URL:https://buckfastleigh.gov.uk/event/half-term-diesel-railcar-trains/
LOCATION:South Devon Railway Buckfastleigh
END:VEVENT
BEGIN:VEVENT
DTSTART;TZID=UTC:20200218T103000
DTEND;TZID=UTC:20200218T123000
DTSTAMP:20260423T100714
CREATED:20200127T140241Z
LAST-MODIFIED:20200217T124443Z
UID:10468-1582021800-1582029000@buckfastleigh.gov.uk
SUMMARY:The Lion King - 2019 version
DESCRIPTION:
URL:https://buckfastleigh.gov.uk/event/childrens-cinema/
LOCATION:Buckfastleigh Town Hall
ORGANIZER;CN="Buckfastleigh Town Council":MAILTO:clerk@buckfastleigh.gov.uk
END:VEVENT
END:VCALENDAR