BEGIN:VCALENDAR
VERSION:2.0
PRODID:-//Buckfastleigh Town Council - ECPv6.15.20//NONSGML v1.0//EN
CALSCALE:GREGORIAN
METHOD:PUBLISH
X-ORIGINAL-URL:https://buckfastleigh.gov.uk
X-WR-CALDESC:Events for Buckfastleigh Town Council
REFRESH-INTERVAL;VALUE=DURATION:PT1H
X-Robots-Tag:noindex
X-PUBLISHED-TTL:PT1H
BEGIN:VTIMEZONE
TZID:UTC
BEGIN:STANDARD
TZOFFSETFROM:+0000
TZOFFSETTO:+0000
TZNAME:UTC
DTSTART:20190101T000000
END:STANDARD
END:VTIMEZONE
BEGIN:VEVENT
DTSTART;TZID=UTC:20200312T193000
DTEND;TZID=UTC:20200312T210000
DTSTAMP:20260423T095710
CREATED:20200219T152429Z
LAST-MODIFIED:20200310T154924Z
UID:10714-1584041400-1584046800@buckfastleigh.gov.uk
SUMMARY:Buckfastleigh Tourism Forum - CANCELLED
DESCRIPTION:If you are involved with tourism in Buckfastleigh please come along to a new Tourism Forum hosted by the Town Council. This will be a great opportunity to share information\, including your plans for the new tourist season and exchange and explore ideas. \nAgenda
URL:https://buckfastleigh.gov.uk/event/buckfastleigh-tourism-forum/
LOCATION:Buckfastleigh Town Hall – Main Hall
ORGANIZER;CN="Buckfastleigh Town Council":MAILTO:clerk@buckfastleigh.gov.uk
END:VEVENT
END:VCALENDAR