BEGIN:VCALENDAR
VERSION:2.0
PRODID:-//Buckfastleigh Town Council - ECPv6.15.20//NONSGML v1.0//EN
CALSCALE:GREGORIAN
METHOD:PUBLISH
X-ORIGINAL-URL:https://buckfastleigh.gov.uk
X-WR-CALDESC:Events for Buckfastleigh Town Council
REFRESH-INTERVAL;VALUE=DURATION:PT1H
X-Robots-Tag:noindex
X-PUBLISHED-TTL:PT1H
BEGIN:VTIMEZONE
TZID:UTC
BEGIN:STANDARD
TZOFFSETFROM:+0000
TZOFFSETTO:+0000
TZNAME:UTC
DTSTART:20190101T000000
END:STANDARD
END:VTIMEZONE
BEGIN:VEVENT
DTSTART;TZID=UTC:20200316T183000
DTEND;TZID=UTC:20200316T200000
DTSTAMP:20260423T083430
CREATED:20200219T154141Z
LAST-MODIFIED:20200316T130045Z
UID:10716-1584383400-1584388800@buckfastleigh.gov.uk
SUMMARY:Buckfastleigh Community Development Project (Trust) AGM - CANCELLED
DESCRIPTION:Members of the public are cordially invited to attend the Annual General Meeting of the Buckfastleigh Community Development Project (Trust). Under Regulation 0.5 of the Constitution\, nominations for membership of the Trust may be made in writing to the Secretary\, Lucinda Guy at: messagesforlucinda@gmail.com up to 14 days before the meeting.
URL:https://buckfastleigh.gov.uk/event/buckfastleigh-community-development-project-trust-agm-2/
LOCATION:The Bungalow\, Victoria Park\, Plymouth Road\, Buckfastleigh\, England\, TQ11 0FB
END:VEVENT
END:VCALENDAR