BEGIN:VCALENDAR
VERSION:2.0
PRODID:-//Buckfastleigh Town Council - ECPv6.15.20//NONSGML v1.0//EN
CALSCALE:GREGORIAN
METHOD:PUBLISH
X-WR-CALNAME:Buckfastleigh Town Council
X-ORIGINAL-URL:https://buckfastleigh.gov.uk
X-WR-CALDESC:Events for Buckfastleigh Town Council
REFRESH-INTERVAL;VALUE=DURATION:PT1H
X-Robots-Tag:noindex
X-PUBLISHED-TTL:PT1H
BEGIN:VTIMEZONE
TZID:UTC
BEGIN:STANDARD
TZOFFSETFROM:+0000
TZOFFSETTO:+0000
TZNAME:UTC
DTSTART:20190101T000000
END:STANDARD
END:VTIMEZONE
BEGIN:VEVENT
DTSTART;TZID=UTC:20200321T190000
DTEND;TZID=UTC:20200321T230000
DTSTAMP:20260423T100710
CREATED:20200221T102004Z
LAST-MODIFIED:20200317T142727Z
UID:10721-1584817200-1584831600@buckfastleigh.gov.uk
SUMMARY:Buckfastleigh Cinema Club - BAIT - CANCELLED
DESCRIPTION:
URL:https://buckfastleigh.gov.uk/event/buckfastleigh-cinema-club-bait/
LOCATION:Buckfastleigh Town Hall
END:VEVENT
END:VCALENDAR