BEGIN:VCALENDAR
VERSION:2.0
PRODID:-//Buckfastleigh Town Council - ECPv6.15.20//NONSGML v1.0//EN
CALSCALE:GREGORIAN
METHOD:PUBLISH
X-ORIGINAL-URL:https://buckfastleigh.gov.uk
X-WR-CALDESC:Events for Buckfastleigh Town Council
REFRESH-INTERVAL;VALUE=DURATION:PT1H
X-Robots-Tag:noindex
X-PUBLISHED-TTL:PT1H
BEGIN:VTIMEZONE
TZID:UTC
BEGIN:STANDARD
TZOFFSETFROM:+0000
TZOFFSETTO:+0000
TZNAME:UTC
DTSTART:20190101T000000
END:STANDARD
END:VTIMEZONE
BEGIN:VEVENT
DTSTART;TZID=UTC:20200322T100000
DTEND;TZID=UTC:20200322T120000
DTSTAMP:20260423T100758
CREATED:20200303T111324Z
LAST-MODIFIED:20200317T142208Z
UID:10817-1584871200-1584878400@buckfastleigh.gov.uk
SUMMARY:Inflatable Fun in the Town Hall - CANCELLED
DESCRIPTION:Bouncy fun with Moorfun.  For 10 years and under
URL:https://buckfastleigh.gov.uk/event/inflatable-fun-in-the-town-hall/
LOCATION:Buckfastleigh Town Hall
ORGANIZER;CN="Buckfastleigh Town Council":MAILTO:clerk@buckfastleigh.gov.uk
END:VEVENT
END:VCALENDAR