BEGIN:VCALENDAR
VERSION:2.0
PRODID:-//Buckfastleigh Town Council - ECPv6.15.20//NONSGML v1.0//EN
CALSCALE:GREGORIAN
METHOD:PUBLISH
X-ORIGINAL-URL:https://buckfastleigh.gov.uk
X-WR-CALDESC:Events for Buckfastleigh Town Council
REFRESH-INTERVAL;VALUE=DURATION:PT1H
X-Robots-Tag:noindex
X-PUBLISHED-TTL:PT1H
BEGIN:VTIMEZONE
TZID:UTC
BEGIN:STANDARD
TZOFFSETFROM:+0000
TZOFFSETTO:+0000
TZNAME:UTC
DTSTART:20190101T000000
END:STANDARD
END:VTIMEZONE
BEGIN:VEVENT
DTSTART;TZID=UTC:20200326T193000
DTEND;TZID=UTC:20200326T213000
DTSTAMP:20260423T095756
CREATED:20200302T112135Z
LAST-MODIFIED:20200317T142321Z
UID:10795-1585251000-1585258200@buckfastleigh.gov.uk
SUMMARY:South Devon Railway Museum - Monthly meeting at the Town Hall - CANCELLED
DESCRIPTION:  
URL:https://buckfastleigh.gov.uk/event/south-devon-railway-museum-monthly-meeting-at-the-town-hall/
LOCATION:Buckfastleigh Town Hall – Room 2
END:VEVENT
END:VCALENDAR