BEGIN:VCALENDAR
VERSION:2.0
PRODID:-//Buckfastleigh Town Council - ECPv6.15.20//NONSGML v1.0//EN
CALSCALE:GREGORIAN
METHOD:PUBLISH
X-ORIGINAL-URL:https://buckfastleigh.gov.uk
X-WR-CALDESC:Events for Buckfastleigh Town Council
REFRESH-INTERVAL;VALUE=DURATION:PT1H
X-Robots-Tag:noindex
X-PUBLISHED-TTL:PT1H
BEGIN:VTIMEZONE
TZID:UTC
BEGIN:STANDARD
TZOFFSETFROM:+0000
TZOFFSETTO:+0000
TZNAME:UTC
DTSTART:20190101T000000
END:STANDARD
END:VTIMEZONE
BEGIN:VEVENT
DTSTART;TZID=UTC:20200327T140000
DTEND;TZID=UTC:20200327T151500
DTSTAMP:20260423T095756
CREATED:20191129T130141Z
LAST-MODIFIED:20200330T101900Z
UID:10056-1585317600-1585322100@buckfastleigh.gov.uk
SUMMARY:The Good Old Days - CANCELLED
DESCRIPTION:We all have some great memories – so how about coming along and sharing them?\nAt our social group at The Valiant Soldier we have tea\, biscuits\, memorabilia\, photographs and lots to talk about.\nAll welcome and dementia friendly\nSocial group for over 65s\nFri 31st January 2020 2pm – 3.15pm\nFri 28th February 2pm – 3.15pm\nFri 27th March 2pm – 3.15pm
URL:https://buckfastleigh.gov.uk/event/the-good-old-days-3-2020-03-27/
LOCATION:The Valiant Soldier\, 80 Fore St\, Buckfastleigh\, TQ11 0BS
END:VEVENT
END:VCALENDAR