BEGIN:VCALENDAR
VERSION:2.0
PRODID:-//Buckfastleigh Town Council - ECPv6.15.20//NONSGML v1.0//EN
CALSCALE:GREGORIAN
METHOD:PUBLISH
X-WR-CALNAME:Buckfastleigh Town Council
X-ORIGINAL-URL:https://buckfastleigh.gov.uk
X-WR-CALDESC:Events for Buckfastleigh Town Council
REFRESH-INTERVAL;VALUE=DURATION:PT1H
X-Robots-Tag:noindex
X-PUBLISHED-TTL:PT1H
BEGIN:VTIMEZONE
TZID:UTC
BEGIN:STANDARD
TZOFFSETFROM:+0000
TZOFFSETTO:+0000
TZNAME:UTC
DTSTART:20190101T000000
END:STANDARD
END:VTIMEZONE
BEGIN:VEVENT
DTSTART;TZID=UTC:20200520T100000
DTEND;TZID=UTC:20200520T123000
DTSTAMP:20260423T034013
CREATED:20200204T100921Z
LAST-MODIFIED:20200420T122428Z
UID:10575-1589968800-1589977800@buckfastleigh.gov.uk
SUMMARY:Walking for Health CANCELLED
DESCRIPTION:Walking for Health offers free easy guided walks in a variety of locations.  All walks start from Woodholme car park.  Meet at 9.45 am for a 10 am start. \nToday’s walk goes to either Lady’s Wood near South Brent or Holwell Lawn to see the bluebells.  Contact Val Hoare:  01803 866133 / 07792 802307.  More information about Walking for Health is here.
URL:https://buckfastleigh.gov.uk/event/walking-for-health-35/
LOCATION:victoria woodholme car park\, Plymouth Road\, Buckfastleigh\, TQ11 0BD
CATEGORIES:Walking for Health
END:VEVENT
BEGIN:VEVENT
DTSTART;TZID=UTC:20200520T190000
DTEND;TZID=UTC:20200520T210000
DTSTAMP:20260423T034013
CREATED:20200130T094451Z
LAST-MODIFIED:20200803T112736Z
UID:10513-1590001200-1590008400@buckfastleigh.gov.uk
SUMMARY:Town Council Meeting
DESCRIPTION:Agenda  (Published 5 working days before the meeting)\nMinutes  (available after approval at next meeting) \n\nPLEASE NOTE THAT THIS MEETING WILL BE HELD REMOTELY USING ZOOM. PLEASE EMAIL THE CLERK BY 5.30pm PRIOR TO THE MEETING FOR THE MEETING ID AND PASSWORD AT: clerk@buckfastleigh.gov.uk 
URL:https://buckfastleigh.gov.uk/event/annual-town-council-meeting-council-matters/
LOCATION:Buckfastleigh Town Hall
CATEGORIES:Town Council Meeting
ORGANIZER;CN="Buckfastleigh Town Council":MAILTO:clerk@buckfastleigh.gov.uk
END:VEVENT
END:VCALENDAR