BEGIN:VCALENDAR
VERSION:2.0
PRODID:-//Buckfastleigh Town Council - ECPv6.15.20//NONSGML v1.0//EN
CALSCALE:GREGORIAN
METHOD:PUBLISH
X-ORIGINAL-URL:https://buckfastleigh.gov.uk
X-WR-CALDESC:Events for Buckfastleigh Town Council
REFRESH-INTERVAL;VALUE=DURATION:PT1H
X-Robots-Tag:noindex
X-PUBLISHED-TTL:PT1H
BEGIN:VTIMEZONE
TZID:UTC
BEGIN:STANDARD
TZOFFSETFROM:+0000
TZOFFSETTO:+0000
TZNAME:UTC
DTSTART:20190101T000000
END:STANDARD
END:VTIMEZONE
BEGIN:VEVENT
DTSTART;TZID=UTC:20200715T100000
DTEND;TZID=UTC:20200715T123000
DTSTAMP:20260423T020127
CREATED:20200204T101440Z
LAST-MODIFIED:20200714T091317Z
UID:10583-1594807200-1594816200@buckfastleigh.gov.uk
SUMMARY:Walking for Health
DESCRIPTION:Walking for Health offers free easy guided walks in a variety of locations.  All walks start from Woodholme car park.  Meet at 9.45 am for a 10 am start. \nCurrently\, all walks will be in the immediate local area and socially distanced.  Contact Val Hoare:  01803 866133 or Chris Taylor:  01364 643569.  More information about Walking for Health is here.
URL:https://buckfastleigh.gov.uk/event/walking-for-health-39/
LOCATION:victoria woodholme car park\, Plymouth Road\, Buckfastleigh\, TQ11 0BD
CATEGORIES:Walking for Health
END:VEVENT
BEGIN:VEVENT
DTSTART;TZID=UTC:20200715T190000
DTEND;TZID=UTC:20200715T210000
DTSTAMP:20260423T020127
CREATED:20200130T094959Z
LAST-MODIFIED:20200813T084802Z
UID:10521-1594839600-1594846800@buckfastleigh.gov.uk
SUMMARY:Town Council Meeting
DESCRIPTION:Agenda (Published 5 working days before the meeting)\nMinutes  (available after approval at next meeting)\n\nPLEASE NOTE THAT THIS MEETING WILL BE HELD REMOTELY USING ZOOM. PLEASE EMAIL THE CLERK BY 5.30pm PRIOR TO THE MEETING FOR THE MEETING ID AND PASSWORD AT: clerk@buckfastleigh.gov.uk 
URL:https://buckfastleigh.gov.uk/event/town-council-meeting-council-matters-4/
LOCATION:Buckfastleigh Town Hall
CATEGORIES:Town Council Meeting
ORGANIZER;CN="Buckfastleigh Town Council":MAILTO:clerk@buckfastleigh.gov.uk
END:VEVENT
END:VCALENDAR