BEGIN:VCALENDAR
VERSION:2.0
PRODID:-//Buckfastleigh Town Council - ECPv6.15.20//NONSGML v1.0//EN
CALSCALE:GREGORIAN
METHOD:PUBLISH
X-WR-CALNAME:Buckfastleigh Town Council
X-ORIGINAL-URL:https://buckfastleigh.gov.uk
X-WR-CALDESC:Events for Buckfastleigh Town Council
REFRESH-INTERVAL;VALUE=DURATION:PT1H
X-Robots-Tag:noindex
X-PUBLISHED-TTL:PT1H
BEGIN:VTIMEZONE
TZID:UTC
BEGIN:STANDARD
TZOFFSETFROM:+0000
TZOFFSETTO:+0000
TZNAME:UTC
DTSTART:20190101T000000
END:STANDARD
END:VTIMEZONE
BEGIN:VEVENT
DTSTART;TZID=UTC:20200930T100000
DTEND;TZID=UTC:20200930T120000
DTSTAMP:20260422T175136
CREATED:20200827T111153Z
LAST-MODIFIED:20200929T092827Z
UID:11496-1601460000-1601467200@buckfastleigh.gov.uk
SUMMARY:Walking for Health
DESCRIPTION:Walking for Health offers free easy guided walks in a variety of locations.  All walks start from Woodholme car park.  Meet at 9.45 am for a 10 am start. \nCurrently\, all walks will be in the immediate local area and socially distanced.   Today’s walk goes to Church Steps and the Pengelly Cave Centre. \n\nAll walks are along generally flat and firm (tarmac or track) surfaces with gentle inclines for approximately 1½ miles to view the scenery\, flora and fauna and history of Dartmoor.  The walks are broken half way with a vacuum flask type mini–picnic or a stop off on the return journey for light refreshments.\n \n\n\nALL WELCOME\n\nContact Val Hoare:  01803 866133 or Chris Taylor:  01364 643569.  More information about Walking for Health is on the Teignbridge Walking for Health website.
URL:https://buckfastleigh.gov.uk/event/walking-for-health-46/
LOCATION:victoria woodholme car park\, Plymouth Road\, Buckfastleigh\, TQ11 0BD
CATEGORIES:Walking for Health
END:VEVENT
END:VCALENDAR