BEGIN:VCALENDAR
VERSION:2.0
PRODID:-//Buckfastleigh Town Council - ECPv6.15.20//NONSGML v1.0//EN
CALSCALE:GREGORIAN
METHOD:PUBLISH
X-WR-CALNAME:Buckfastleigh Town Council
X-ORIGINAL-URL:https://buckfastleigh.gov.uk
X-WR-CALDESC:Events for Buckfastleigh Town Council
REFRESH-INTERVAL;VALUE=DURATION:PT1H
X-Robots-Tag:noindex
X-PUBLISHED-TTL:PT1H
BEGIN:VTIMEZONE
TZID:UTC
BEGIN:STANDARD
TZOFFSETFROM:+0000
TZOFFSETTO:+0000
TZNAME:UTC
DTSTART:20190101T000000
END:STANDARD
END:VTIMEZONE
BEGIN:VEVENT
DTSTART;TZID=UTC:20201118T190000
DTEND;TZID=UTC:20201118T210000
DTSTAMP:20260422T143854
CREATED:20200217T105102Z
LAST-MODIFIED:20201110T094145Z
UID:10687-1605726000-1605733200@buckfastleigh.gov.uk
SUMMARY:Town Council Meeting - CANCELLED
DESCRIPTION:Agenda (Published 5 working days before the meeting)\nMinutes (available after approval at next meeting)
URL:https://buckfastleigh.gov.uk/event/town-council-meeting-council-matters-7/
LOCATION:Buckfastleigh Town Hall
CATEGORIES:Town Council Meeting
END:VEVENT
END:VCALENDAR