BEGIN:VCALENDAR
VERSION:2.0
PRODID:-//Buckfastleigh Town Council - ECPv6.15.20//NONSGML v1.0//EN
CALSCALE:GREGORIAN
METHOD:PUBLISH
X-WR-CALNAME:Buckfastleigh Town Council
X-ORIGINAL-URL:https://buckfastleigh.gov.uk
X-WR-CALDESC:Events for Buckfastleigh Town Council
REFRESH-INTERVAL;VALUE=DURATION:PT1H
X-Robots-Tag:noindex
X-PUBLISHED-TTL:PT1H
BEGIN:VTIMEZONE
TZID:UTC
BEGIN:STANDARD
TZOFFSETFROM:+0000
TZOFFSETTO:+0000
TZNAME:UTC
DTSTART:20200101T000000
END:STANDARD
END:VTIMEZONE
BEGIN:VEVENT
DTSTART;TZID=UTC:20210519T190000
DTEND;TZID=UTC:20210519T210000
DTSTAMP:20260422T054528
CREATED:20210222T092940Z
LAST-MODIFIED:20210624T134435Z
UID:12130-1621450800-1621458000@buckfastleigh.gov.uk
SUMMARY:Annual Town Council Meeting\, followed by Town Council Meeting
DESCRIPTION:Council AGM when the Chair and Deputy Chair are appointed and the meeting structure and representations to other organisations\, if applicable\, are reviewed.  This will be followed by a regular Town Council meeting. \n\nAgenda (Published 5 working days before the meeting)\nMinutes  – Annual Town Council Meeting (available after approval at next meeting)\nMinutes  – (available after approval at the next meeting)\n\nPlease note that both these meetings will be held outdoors in Victoria Park\, Plymouth Road\, Buckfastleigh and will be subject to current social distancing measures.
URL:https://buckfastleigh.gov.uk/event/town-council-meeting-58/
CATEGORIES:Town Council Meeting
END:VEVENT
END:VCALENDAR