BEGIN:VCALENDAR
VERSION:2.0
PRODID:-//Buckfastleigh Town Council - ECPv6.15.20//NONSGML v1.0//EN
CALSCALE:GREGORIAN
METHOD:PUBLISH
X-WR-CALNAME:Buckfastleigh Town Council
X-ORIGINAL-URL:https://buckfastleigh.gov.uk
X-WR-CALDESC:Events for Buckfastleigh Town Council
REFRESH-INTERVAL;VALUE=DURATION:PT1H
X-Robots-Tag:noindex
X-PUBLISHED-TTL:PT1H
BEGIN:VTIMEZONE
TZID:UTC
BEGIN:STANDARD
TZOFFSETFROM:+0000
TZOFFSETTO:+0000
TZNAME:UTC
DTSTART:20200101T000000
END:STANDARD
END:VTIMEZONE
BEGIN:VEVENT
DTSTART;TZID=UTC:20210728T190000
DTEND;TZID=UTC:20210728T210000
DTSTAMP:20260421T234646
CREATED:20210629T085430Z
LAST-MODIFIED:20210819T101330Z
UID:12465-1627498800-1627506000@buckfastleigh.gov.uk
SUMMARY:Town Council Meeting - Outdoors
DESCRIPTION:Agenda (Published 5 working days before the meeting)\nMinutes  (available after approval at next meeting)\n\nThis meeting will be held outdoors in Victoria Park. \nPOSTPONED FROM WEDNESDAY 21 JULY 2021 AT 7.00PM.
URL:https://buckfastleigh.gov.uk/event/town-council-meeting-60/
CATEGORIES:Town Council Meeting
END:VEVENT
END:VCALENDAR