BEGIN:VCALENDAR
VERSION:2.0
PRODID:-//Buckfastleigh Town Council - ECPv6.15.20//NONSGML v1.0//EN
CALSCALE:GREGORIAN
METHOD:PUBLISH
X-ORIGINAL-URL:https://buckfastleigh.gov.uk
X-WR-CALDESC:Events for Buckfastleigh Town Council
REFRESH-INTERVAL;VALUE=DURATION:PT1H
X-Robots-Tag:noindex
X-PUBLISHED-TTL:PT1H
BEGIN:VTIMEZONE
TZID:UTC
BEGIN:STANDARD
TZOFFSETFROM:+0000
TZOFFSETTO:+0000
TZNAME:UTC
DTSTART:20200101T000000
END:STANDARD
END:VTIMEZONE
BEGIN:VEVENT
DTSTART;TZID=UTC:20210807T093000
DTEND;TZID=UTC:20210807T133000
DTSTAMP:20260421T234639
CREATED:20210805T211642Z
LAST-MODIFIED:20210805T211642Z
UID:12540-1628328600-1628343000@buckfastleigh.gov.uk
SUMMARY:Bike BuS to HOUND TOR & Cycle Ride: BIG BIKE REVIVAL
DESCRIPTION:FREE minibus and bike-trailer transport for you and your bike up onto Dartmoor National Park for a FREE guided ride. Plus\, a short talk from Richard Knott\, Dartmoor National Park ecologist\, on a wildflower meadow on the moor\, and a stop for a picnic lunch (bring a packed lunch). \nYour cycle ride will start at HOUND TOR\, one of Dartmoor’s iconic granite outcrops with nearby ruins of a medieval village. The cycle route will go via Harefoot Cross\, Hemsworthy Gate and Cold East Cross\, joining the Dartmoor Way (NCN272)\, via Waterleat\, Ashburton and return to Buckfastleigh. \nThe ride will be led at an easy pace and the route means it is all downhill from Hound Tor. \nThe BIKE BUS pick up will be:  approx. 09.45am from Victoria Woodholme Car Park\, Buckfastleigh. \nWe hope you can join us for a fun ride! \nPlaces are limited. So reserve your place now! Book on Eventbrite or drop into Be Buckfastleigh and book your place in person. \nThere will be more Big Bike Revival free cycle rides on these dates: \n\n Sunday 15 August : South Brent to Ashburton via Buckfastleigh\, and return. \n Saturday 21 August : Bike Bus onto Dartmoor & Cycle Ride from Haytor\n Sunday 28 August :  e-Bike Led Ride\n Monday 30 August :  Primrose Trail Ride (Avon Valley)
URL:https://buckfastleigh.gov.uk/event/bike-bus-to-hound-tor-cycle-ride-big-bike-revival/
ATTACH;FMTTYPE=image/jpeg:https://buckfastleigh.gov.uk/wp-content/uploads/2021/08/20210807_HOUND_TOR_1080x1080-card-1-1.jpg
END:VEVENT
END:VCALENDAR