BEGIN:VCALENDAR
VERSION:2.0
PRODID:-//Buckfastleigh Town Council - ECPv6.15.20//NONSGML v1.0//EN
CALSCALE:GREGORIAN
METHOD:PUBLISH
X-WR-CALNAME:Buckfastleigh Town Council
X-ORIGINAL-URL:https://buckfastleigh.gov.uk
X-WR-CALDESC:Events for Buckfastleigh Town Council
REFRESH-INTERVAL;VALUE=DURATION:PT1H
X-Robots-Tag:noindex
X-PUBLISHED-TTL:PT1H
BEGIN:VTIMEZONE
TZID:UTC
BEGIN:STANDARD
TZOFFSETFROM:+0000
TZOFFSETTO:+0000
TZNAME:UTC
DTSTART:20200101T000000
END:STANDARD
END:VTIMEZONE
BEGIN:VEVENT
DTSTART;TZID=UTC:20210815T100000
DTEND;TZID=UTC:20210815T140000
DTSTAMP:20260421T234644
CREATED:20210811T133850Z
LAST-MODIFIED:20210811T133850Z
UID:12546-1629021600-1629036000@buckfastleigh.gov.uk
SUMMARY:CYCLE RIDE: 3 SOUTH DARTMOOR TOWNS
DESCRIPTION:Please join us for another Free BIG BIKE REVIVAL event this summer – a cycle ride to three local towns\, each with their own distinct character\, and the beautiful countryside of lower Dartmoor\, with the enjoyment of travelling by bike. \nThis is a cycle ride from South Brent to Ashburton via Buckfastleigh\, return. \nPlease be sure to book a place\, as the number of places are limited. BOOK ON EVENTBRITE: \nhttps://www.eventbrite.co.uk/e/cycle-ride-connecting-3-south-dartmoor-towns-tickets-166306632615 \nBring your bike and meet up with other participants at the Old School Community Centre\, Totnes Road\, South Brent TQ10 9BP to start the ride. The centre has a small car park. \nThe cycle route will be mainly on-road and there are a few hills\, making the ride suitable for cyclists who are confident beginners with some experience and of reasonable fitness. \nThe distance of the ride\, if you start at and return to South Brent\, is approximately 18 miles. \nThe ride will be led by an experienced cyclist and at an easy pace for the enjoyment of all riders. \nThere will be a stop in Buckfastleigh for refreshments\, and a stop in Ashburton for picnic lunch. Bring a packed lunch!
URL:https://buckfastleigh.gov.uk/event/cycle-ride-3-south-dartmoor-towns/
ATTACH;FMTTYPE=image/jpeg:https://buckfastleigh.gov.uk/wp-content/uploads/2021/08/20210815_v3_bbr_sm_3TOWNS.jpg
END:VEVENT
END:VCALENDAR