BEGIN:VCALENDAR
VERSION:2.0
PRODID:-//Buckfastleigh Town Council - ECPv6.15.20//NONSGML v1.0//EN
CALSCALE:GREGORIAN
METHOD:PUBLISH
X-WR-CALNAME:Buckfastleigh Town Council
X-ORIGINAL-URL:https://buckfastleigh.gov.uk
X-WR-CALDESC:Events for Buckfastleigh Town Council
REFRESH-INTERVAL;VALUE=DURATION:PT1H
X-Robots-Tag:noindex
X-PUBLISHED-TTL:PT1H
BEGIN:VTIMEZONE
TZID:UTC
BEGIN:STANDARD
TZOFFSETFROM:+0000
TZOFFSETTO:+0000
TZNAME:UTC
DTSTART:20200101T000000
END:STANDARD
END:VTIMEZONE
BEGIN:VEVENT
DTSTART;TZID=UTC:20210818T100000
DTEND;TZID=UTC:20210818T123000
DTSTAMP:20260421T234646
CREATED:20210709T101620Z
LAST-MODIFIED:20210709T101620Z
UID:12492-1629280800-1629289800@buckfastleigh.gov.uk
SUMMARY:Walking for Health
DESCRIPTION:We will walk in the area of Littlehempston.  Leave Woodholme Car Park at  0945\, car sharing\, please bring a mask. \nFor further information contact Chris Taylor 01364 643569
URL:https://buckfastleigh.gov.uk/event/walking-for-health-59/
LOCATION:victoria woodholme car park\, Plymouth Road\, Buckfastleigh\, TQ11 0BD
CATEGORIES:Walking for Health
END:VEVENT
BEGIN:VEVENT
DTSTART;TZID=UTC:20210818T190000
DTEND;TZID=UTC:20210818T210000
DTSTAMP:20260421T234646
CREATED:20210802T084825Z
LAST-MODIFIED:20210922T102726Z
UID:12530-1629313200-1629320400@buckfastleigh.gov.uk
SUMMARY:Town Council Meeting (at Town Hall)
DESCRIPTION:Agenda (Published 5 working days before the meeting)\nMinutes  (available after approval at next meeting)\n\nPLEASE NOTE: This meeting will now be held in Room 3 at the Town Hall rather than Buckfastleigh Rangers Football Club as previously advertised
URL:https://buckfastleigh.gov.uk/event/town-council-meeting-61/
LOCATION:Buckfastleigh Town Hall
CATEGORIES:Town Council Meeting
ORGANIZER;CN="Buckfastleigh Town Council":MAILTO:clerk@buckfastleigh.gov.uk
END:VEVENT
END:VCALENDAR