BEGIN:VCALENDAR
VERSION:2.0
PRODID:-//Buckfastleigh Town Council - ECPv6.15.20//NONSGML v1.0//EN
CALSCALE:GREGORIAN
METHOD:PUBLISH
X-WR-CALNAME:Buckfastleigh Town Council
X-ORIGINAL-URL:https://buckfastleigh.gov.uk
X-WR-CALDESC:Events for Buckfastleigh Town Council
REFRESH-INTERVAL;VALUE=DURATION:PT1H
X-Robots-Tag:noindex
X-PUBLISHED-TTL:PT1H
BEGIN:VTIMEZONE
TZID:UTC
BEGIN:STANDARD
TZOFFSETFROM:+0000
TZOFFSETTO:+0000
TZNAME:UTC
DTSTART:20200101T000000
END:STANDARD
END:VTIMEZONE
BEGIN:VEVENT
DTSTART;TZID=UTC:20210821T093000
DTEND;TZID=UTC:20210821T133000
DTSTAMP:20260421T234648
CREATED:20210814T094205Z
LAST-MODIFIED:20210814T094205Z
UID:12556-1629538200-1629552600@buckfastleigh.gov.uk
SUMMARY:BIKE BUS: RIDE FROM HAYTOR
DESCRIPTION:Free\, small group\, social cycle ride. \nFree minibus and bike-trailer transport for riders and their bikes up onto Dartmoor National Park. Plus\, a short guided talk from Dartmoor National Park Archeologist\, Andrew Crabb.\nThe cycling will start at HAYTOR\, one of Dartmoor most iconic and poplular granite outcrops. The cycle route will start at Haytor and go via Haytor Vale\, picking up the Dartmoor Way in Ilsington\, then back to Buckfastleigh. \nThe Bike Bus pick ups: \n\napprox. 09.00am from South Brent (Palstone Park)\, and\napprox. 09.45am from Buckfastleigh (Victoria Woodholme Car Park)\n\nPlaces are limited. So reserve your place now! \nThis event is subsided by support and funding from national and local organisations. If you are able to make a small contribution we would be grateful. As part of the booking process here on Eventbrite there is an option to make a donation toward the cost. \nThere will be Covid-19 precautions in place. We ask that people disinfect their hands and that you bring and wear your own mask or facecovering whilst on the Bike Bus. However should you need\, there will be some masks available at boarding. \nBring a packed lunch for a picnic lunch.
URL:https://buckfastleigh.gov.uk/event/bike-bus-ride-from-haytor/
ATTACH;FMTTYPE=image/jpeg:https://buckfastleigh.gov.uk/wp-content/uploads/2021/08/20210821_bbr_socials_HAYTOR.jpg
END:VEVENT
END:VCALENDAR