BEGIN:VCALENDAR
VERSION:2.0
PRODID:-//Buckfastleigh Town Council - ECPv6.15.20//NONSGML v1.0//EN
CALSCALE:GREGORIAN
METHOD:PUBLISH
X-WR-CALNAME:Buckfastleigh Town Council
X-ORIGINAL-URL:https://buckfastleigh.gov.uk
X-WR-CALDESC:Events for Buckfastleigh Town Council
REFRESH-INTERVAL;VALUE=DURATION:PT1H
X-Robots-Tag:noindex
X-PUBLISHED-TTL:PT1H
BEGIN:VTIMEZONE
TZID:UTC
BEGIN:STANDARD
TZOFFSETFROM:+0000
TZOFFSETTO:+0000
TZNAME:UTC
DTSTART:20200101T000000
END:STANDARD
END:VTIMEZONE
BEGIN:VEVENT
DTSTART;TZID=UTC:20210901T100000
DTEND;TZID=UTC:20210901T123000
DTSTAMP:20260421T220356
CREATED:20210709T101757Z
LAST-MODIFIED:20210709T101757Z
UID:12494-1630490400-1630499400@buckfastleigh.gov.uk
SUMMARY:Walking for Health
DESCRIPTION:We will walk in the area of Broadhempston/Berry Pomeroy. Leave Woodholme Car Park at  0945\, car sharing\, please bring a mask. \nFor further information contact Chris Taylor 01364 643569
URL:https://buckfastleigh.gov.uk/event/walking-for-health-60/
LOCATION:victoria woodholme car park\, Plymouth Road\, Buckfastleigh\, TQ11 0BD
END:VEVENT
END:VCALENDAR