BEGIN:VCALENDAR
VERSION:2.0
PRODID:-//Buckfastleigh Town Council - ECPv6.15.20//NONSGML v1.0//EN
CALSCALE:GREGORIAN
METHOD:PUBLISH
X-ORIGINAL-URL:https://buckfastleigh.gov.uk
X-WR-CALDESC:Events for Buckfastleigh Town Council
REFRESH-INTERVAL;VALUE=DURATION:PT1H
X-Robots-Tag:noindex
X-PUBLISHED-TTL:PT1H
BEGIN:VTIMEZONE
TZID:UTC
BEGIN:STANDARD
TZOFFSETFROM:+0000
TZOFFSETTO:+0000
TZNAME:UTC
DTSTART:20200101T000000
END:STANDARD
END:VTIMEZONE
BEGIN:VEVENT
DTSTART;TZID=UTC:20210911T100000
DTEND;TZID=UTC:20210911T160000
DTSTAMP:20260421T220419
CREATED:20210827T095858Z
LAST-MODIFIED:20210827T095939Z
UID:12598-1631354400-1631376000@buckfastleigh.gov.uk
SUMMARY:The Bungalow Open Day
DESCRIPTION:This is an opportunity for young people to see the space\, meet the youth workers and find out what The Bungalow can offer them. There’ll be lots of entertaining and creative free activities to enjoy\, including a pool tournament\, felting and tote bag-making\, hair and nails and pizza! Young people can bring a parent\, guardian\, sibling or friend if you wish\, or come along on their own – everyone will be made to feel welcome.
URL:https://buckfastleigh.gov.uk/event/bungalow-open-day/
LOCATION:The Bungalow\, Victoria Park\, Plymouth Road\, Buckfastleigh\, England\, TQ11 0FB
END:VEVENT
END:VCALENDAR