BEGIN:VCALENDAR
VERSION:2.0
PRODID:-//Buckfastleigh Town Council - ECPv6.15.20//NONSGML v1.0//EN
CALSCALE:GREGORIAN
METHOD:PUBLISH
X-WR-CALNAME:Buckfastleigh Town Council
X-ORIGINAL-URL:https://buckfastleigh.gov.uk
X-WR-CALDESC:Events for Buckfastleigh Town Council
REFRESH-INTERVAL;VALUE=DURATION:PT1H
X-Robots-Tag:noindex
X-PUBLISHED-TTL:PT1H
BEGIN:VTIMEZONE
TZID:UTC
BEGIN:STANDARD
TZOFFSETFROM:+0000
TZOFFSETTO:+0000
TZNAME:UTC
DTSTART:20200101T000000
END:STANDARD
END:VTIMEZONE
BEGIN:VEVENT
DTSTART;TZID=UTC:20211013T093000
DTEND;TZID=UTC:20211013T123000
DTSTAMP:20260421T203252
CREATED:20210930T094959Z
LAST-MODIFIED:20210930T094959Z
UID:12646-1634117400-1634128200@buckfastleigh.gov.uk
SUMMARY:Walking for Health
DESCRIPTION:This walk will go to Lukesland Gardens near Ivybridge.  There is an entry fee to the gardens. \nWe will meet at Victoria Woodholme Car Park at 9.45 and car share to get there. Please bring a flask of coffee etc if you wish for refreshment on the way. \nFor further information contact Chris Taylor 01364 643569
URL:https://buckfastleigh.gov.uk/event/walking-for-health-61/
LOCATION:victoria woodholme car park\, Plymouth Road\, Buckfastleigh\, TQ11 0BD
CATEGORIES:Walking for Health
END:VEVENT
END:VCALENDAR