BEGIN:VCALENDAR
VERSION:2.0
PRODID:-//Buckfastleigh Town Council - ECPv6.15.20//NONSGML v1.0//EN
CALSCALE:GREGORIAN
METHOD:PUBLISH
X-WR-CALNAME:Buckfastleigh Town Council
X-ORIGINAL-URL:https://buckfastleigh.gov.uk
X-WR-CALDESC:Events for Buckfastleigh Town Council
REFRESH-INTERVAL;VALUE=DURATION:PT1H
X-Robots-Tag:noindex
X-PUBLISHED-TTL:PT1H
BEGIN:VTIMEZONE
TZID:UTC
BEGIN:STANDARD
TZOFFSETFROM:+0000
TZOFFSETTO:+0000
TZNAME:UTC
DTSTART:20200101T000000
END:STANDARD
END:VTIMEZONE
BEGIN:VEVENT
DTSTART;TZID=UTC:20211027T093000
DTEND;TZID=UTC:20211027T123000
DTSTAMP:20260421T203253
CREATED:20210930T095205Z
LAST-MODIFIED:20210930T095307Z
UID:12648-1635327000-1635337800@buckfastleigh.gov.uk
SUMMARY:Walking for Health
DESCRIPTION:This walk will go to Berry Pomeroy Woods. \nWe will meet at Victoria Woodholme Car Park at 9.45 and car share to get there.  Please bring a flask of coffee etc if you wish for refreshment on the way.  \nFor further information contact Chris Taylor 01364 643569
URL:https://buckfastleigh.gov.uk/event/walking-for-health-62/
LOCATION:victoria woodholme car park\, Plymouth Road\, Buckfastleigh\, TQ11 0BD
CATEGORIES:Walking for Health
END:VEVENT
BEGIN:VEVENT
DTSTART;TZID=UTC:20211027T190000
DTEND;TZID=UTC:20211027T210000
DTSTAMP:20260421T203253
CREATED:20210819T103943Z
LAST-MODIFIED:20211118T102247Z
UID:12571-1635361200-1635368400@buckfastleigh.gov.uk
SUMMARY:Town Council Meeting
DESCRIPTION:Agenda  (Published 5 working days before the meeting)\nMinutes (available after approval at next meeting)\n\nThis meeting will be held in Room 3 of the Town Hall.
URL:https://buckfastleigh.gov.uk/event/town-council-meeting-63/
LOCATION:Buckfastleigh Town Hall
CATEGORIES:Town Council Meeting
ORGANIZER;CN="Buckfastleigh Town Council":MAILTO:clerk@buckfastleigh.gov.uk
END:VEVENT
END:VCALENDAR