BEGIN:VCALENDAR
VERSION:2.0
PRODID:-//Buckfastleigh Town Council - ECPv6.15.20//NONSGML v1.0//EN
CALSCALE:GREGORIAN
METHOD:PUBLISH
X-WR-CALNAME:Buckfastleigh Town Council
X-ORIGINAL-URL:https://buckfastleigh.gov.uk
X-WR-CALDESC:Events for Buckfastleigh Town Council
REFRESH-INTERVAL;VALUE=DURATION:PT1H
X-Robots-Tag:noindex
X-PUBLISHED-TTL:PT1H
BEGIN:VTIMEZONE
TZID:UTC
BEGIN:STANDARD
TZOFFSETFROM:+0000
TZOFFSETTO:+0000
TZNAME:UTC
DTSTART:20200101T000000
END:STANDARD
END:VTIMEZONE
BEGIN:VEVENT
DTSTART;TZID=UTC:20211111T103000
DTEND;TZID=UTC:20211111T123000
DTSTAMP:20260421T185312
CREATED:20211103T083640Z
LAST-MODIFIED:20211103T083640Z
UID:12703-1636626600-1636633800@buckfastleigh.gov.uk
SUMMARY:Town Councillor and Town Clerk's Surgery
DESCRIPTION:Come along for a chat with Councillor Bryony Tilsley and Judith Hart our Town Clerk. Find out what we do for our community and discuss any issues you may have about our town.
URL:https://buckfastleigh.gov.uk/event/town-councillor-and-town-clerks-surgery/
LOCATION:The Living Room\, Fore Street\, Buckfastleigh
ORGANIZER;CN="Buckfastleigh Town Council":MAILTO:clerk@buckfastleigh.gov.uk
END:VEVENT
END:VCALENDAR