BEGIN:VCALENDAR
VERSION:2.0
PRODID:-//Buckfastleigh Town Council - ECPv6.15.20//NONSGML v1.0//EN
CALSCALE:GREGORIAN
METHOD:PUBLISH
X-ORIGINAL-URL:https://buckfastleigh.gov.uk
X-WR-CALDESC:Events for Buckfastleigh Town Council
REFRESH-INTERVAL;VALUE=DURATION:PT1H
X-Robots-Tag:noindex
X-PUBLISHED-TTL:PT1H
BEGIN:VTIMEZONE
TZID:UTC
BEGIN:STANDARD
TZOFFSETFROM:+0000
TZOFFSETTO:+0000
TZNAME:UTC
DTSTART:20200101T000000
END:STANDARD
END:VTIMEZONE
BEGIN:VEVENT
DTSTART;TZID=UTC:20211211T143000
DTEND;TZID=UTC:20211211T160000
DTSTAMP:20260421T172821
CREATED:20211109T160224Z
LAST-MODIFIED:20211208T104830Z
UID:12753-1639233000-1639238400@buckfastleigh.gov.uk
SUMMARY:Buckfastleigh Cinema
DESCRIPTION:  \n \n  \n2.30 pm Raya and the Last Dragon (PG)    Doors open 1.45 pm \nTickets cost £4 for adults\, £2 for under 16s.  Please buy your tickets and book your seats in advance here: \nwww.eventbrite.co.uk/e/raya-and-the-last-dragon-at-buckfastleigh-cinema-tickets-208462044587 \nOr call the Town Hall office for help with booking on 01364 388017 \n  \n 
URL:https://buckfastleigh.gov.uk/event/buckfastleigh-cinema-4/
LOCATION:Buckfastleigh Town Hall
ORGANIZER;CN="Buckfastleigh Town Council":MAILTO:clerk@buckfastleigh.gov.uk
END:VEVENT
END:VCALENDAR