BEGIN:VCALENDAR
VERSION:2.0
PRODID:-//Buckfastleigh Town Council - ECPv6.15.20//NONSGML v1.0//EN
CALSCALE:GREGORIAN
METHOD:PUBLISH
X-ORIGINAL-URL:https://buckfastleigh.gov.uk
X-WR-CALDESC:Events for Buckfastleigh Town Council
REFRESH-INTERVAL;VALUE=DURATION:PT1H
X-Robots-Tag:noindex
X-PUBLISHED-TTL:PT1H
BEGIN:VTIMEZONE
TZID:UTC
BEGIN:STANDARD
TZOFFSETFROM:+0000
TZOFFSETTO:+0000
TZNAME:UTC
DTSTART:20210101T000000
END:STANDARD
END:VTIMEZONE
BEGIN:VEVENT
DTSTART;TZID=UTC:20220208T150000
DTEND;TZID=UTC:20220208T163000
DTSTAMP:20260421T154202
CREATED:20220127T102352Z
LAST-MODIFIED:20220127T102352Z
UID:12957-1644332400-1644337800@buckfastleigh.gov.uk
SUMMARY:Town Councillor and Town Clerk's Surgery
DESCRIPTION:  \nWhere – The Living Room\, 55 Fore Street\, Buckfastleigh \nWhy – Come along for a chat\, find out what we do for our community and discuss any issues you may have about the town. 
URL:https://buckfastleigh.gov.uk/event/town-councillor-and-town-clerks-surgery-2/
LOCATION:55 Fore Street
END:VEVENT
END:VCALENDAR