BEGIN:VCALENDAR
VERSION:2.0
PRODID:-//Buckfastleigh Town Council - ECPv6.15.20//NONSGML v1.0//EN
CALSCALE:GREGORIAN
METHOD:PUBLISH
X-ORIGINAL-URL:https://buckfastleigh.gov.uk
X-WR-CALDESC:Events for Buckfastleigh Town Council
REFRESH-INTERVAL;VALUE=DURATION:PT1H
X-Robots-Tag:noindex
X-PUBLISHED-TTL:PT1H
BEGIN:VTIMEZONE
TZID:UTC
BEGIN:STANDARD
TZOFFSETFROM:+0000
TZOFFSETTO:+0000
TZNAME:UTC
DTSTART:20210101T000000
END:STANDARD
END:VTIMEZONE
BEGIN:VEVENT
DTSTART;TZID=UTC:20220209T103000
DTEND;TZID=UTC:20220209T113000
DTSTAMP:20260421T140405
CREATED:20220106T125234Z
LAST-MODIFIED:20220106T125234Z
UID:12879-1644402600-1644406200@buckfastleigh.gov.uk
SUMMARY:Buckfastleigh Police Surgery
DESCRIPTION:Come and talk to a police officer about any concerns you may have
URL:https://buckfastleigh.gov.uk/event/buckfastleigh-police-surgery-2/
LOCATION:Buckfastleigh Town Hall
ORGANIZER;CN="Buckfastleigh Town Council":MAILTO:clerk@buckfastleigh.gov.uk
END:VEVENT
END:VCALENDAR