BEGIN:VCALENDAR
VERSION:2.0
PRODID:-//Buckfastleigh Town Council - ECPv6.15.20//NONSGML v1.0//EN
CALSCALE:GREGORIAN
METHOD:PUBLISH
X-WR-CALNAME:Buckfastleigh Town Council
X-ORIGINAL-URL:https://buckfastleigh.gov.uk
X-WR-CALDESC:Events for Buckfastleigh Town Council
REFRESH-INTERVAL;VALUE=DURATION:PT1H
X-Robots-Tag:noindex
X-PUBLISHED-TTL:PT1H
BEGIN:VTIMEZONE
TZID:UTC
BEGIN:STANDARD
TZOFFSETFROM:+0000
TZOFFSETTO:+0000
TZNAME:UTC
DTSTART:20210101T000000
END:STANDARD
END:VTIMEZONE
BEGIN:VEVENT
DTSTART;TZID=UTC:20220221T190000
DTEND;TZID=UTC:20220221T203000
DTSTAMP:20260421T140347
CREATED:20220203T104349Z
LAST-MODIFIED:20220203T104349Z
UID:12987-1645470000-1645475400@buckfastleigh.gov.uk
SUMMARY:Platinum Jubilee Planning Meeting
DESCRIPTION:A number of different organisations and businesses are making plans to celebrate the Queen’s Platinum Jubilee this June.  In order to ensure that events do not clash with each other and that everyone is aware of what others are doing\, the Town Council is organising this informal meeting .  The information will then be collated by the Town Clerk with a view to producing a flyer listing all the Jubilee events. \nThere will also be discussion of how the Town Council may be able to help with regards to possible funding and volunteers for these events.
URL:https://buckfastleigh.gov.uk/event/platinum-jubilee-planning-meeting/
LOCATION:Buckfastleigh Town Hall
END:VEVENT
END:VCALENDAR