BEGIN:VCALENDAR
VERSION:2.0
PRODID:-//Buckfastleigh Town Council - ECPv6.15.20//NONSGML v1.0//EN
CALSCALE:GREGORIAN
METHOD:PUBLISH
X-ORIGINAL-URL:https://buckfastleigh.gov.uk
X-WR-CALDESC:Events for Buckfastleigh Town Council
REFRESH-INTERVAL;VALUE=DURATION:PT1H
X-Robots-Tag:noindex
X-PUBLISHED-TTL:PT1H
BEGIN:VTIMEZONE
TZID:UTC
BEGIN:STANDARD
TZOFFSETFROM:+0000
TZOFFSETTO:+0000
TZNAME:UTC
DTSTART:20210101T000000
END:STANDARD
END:VTIMEZONE
BEGIN:VEVENT
DTSTART;TZID=UTC:20220312T100000
DTEND;TZID=UTC:20220312T130000
DTSTAMP:20260421T140407
CREATED:20220303T104820Z
LAST-MODIFIED:20220303T104820Z
UID:13108-1647079200-1647090000@buckfastleigh.gov.uk
SUMMARY:Energy Advice Workshop
DESCRIPTION:WORRIED ABOUT YOUR ENERGY BILLS? \nFree Energy Advice available in the Town Hall: \nDiscuss with the experts: \n\nHow to access help with paying bills\nWays to reduce your energy consumption
URL:https://buckfastleigh.gov.uk/event/energy-advice-workshop/
LOCATION:Buckfastleigh Town Hall
END:VEVENT
END:VCALENDAR