BEGIN:VCALENDAR
VERSION:2.0
PRODID:-//Buckfastleigh Town Council - ECPv6.15.20//NONSGML v1.0//EN
CALSCALE:GREGORIAN
METHOD:PUBLISH
X-WR-CALNAME:Buckfastleigh Town Council
X-ORIGINAL-URL:https://buckfastleigh.gov.uk
X-WR-CALDESC:Events for Buckfastleigh Town Council
REFRESH-INTERVAL;VALUE=DURATION:PT1H
X-Robots-Tag:noindex
X-PUBLISHED-TTL:PT1H
BEGIN:VTIMEZONE
TZID:UTC
BEGIN:STANDARD
TZOFFSETFROM:+0000
TZOFFSETTO:+0000
TZNAME:UTC
DTSTART:20210101T000000
END:STANDARD
END:VTIMEZONE
BEGIN:VEVENT
DTSTART;TZID=UTC:20220316T093000
DTEND;TZID=UTC:20220316T123000
DTSTAMP:20260421T140333
CREATED:20220203T114515Z
LAST-MODIFIED:20220224T101702Z
UID:12995-1647423000-1647433800@buckfastleigh.gov.uk
SUMMARY:Walking for Health
DESCRIPTION:Buckfastleigh Healthy Walking Group \nTo Steps Bridge to walk through the wild daffodils beside the River Teign \nMeet 09.45 at Victoria Woodholme Car Park.  Please bring a flask of coffee etc if you wish for refreshment on the way. \nFor further information contact Chris Taylor 01364 643569
URL:https://buckfastleigh.gov.uk/event/walking-for-health-68/
LOCATION:victoria woodholme car park\, Plymouth Road\, Buckfastleigh\, TQ11 0BD
CATEGORIES:Walking for Health
END:VEVENT
BEGIN:VEVENT
DTSTART;TZID=UTC:20220316T140000
DTEND;TZID=UTC:20220316T170000
DTSTAMP:20260421T140333
CREATED:20220303T104946Z
LAST-MODIFIED:20220303T104946Z
UID:13110-1647439200-1647450000@buckfastleigh.gov.uk
SUMMARY:Energy Advice Workshop
DESCRIPTION:WORRIED ABOUT YOUR ENERGY BILLS? \nFree Energy Advice available in the Town Hall: \nDiscuss with the experts: \n\nHow to access help with paying bills\nWays to reduce your energy consumption
URL:https://buckfastleigh.gov.uk/event/energy-advice-workshop-2/
LOCATION:Buckfastleigh Town Hall
END:VEVENT
BEGIN:VEVENT
DTSTART;TZID=UTC:20220316T190000
DTEND;TZID=UTC:20220316T210000
DTSTAMP:20260421T140333
CREATED:20211111T101013Z
LAST-MODIFIED:20220421T095819Z
UID:12762-1647457200-1647464400@buckfastleigh.gov.uk
SUMMARY:Town Council Meeting
DESCRIPTION:Agenda  (Published 5 working days before the meeting)\nMinutes  (available after approval at next meeting)\n\nThis meeting will be held in Room 3 of the Town Hall
URL:https://buckfastleigh.gov.uk/event/town-council-meeting-68/
LOCATION:Buckfastleigh Town Hall
CATEGORIES:Town Council Meeting
ORGANIZER;CN="Buckfastleigh Town Council":MAILTO:clerk@buckfastleigh.gov.uk
END:VEVENT
END:VCALENDAR