BEGIN:VCALENDAR
VERSION:2.0
PRODID:-//Buckfastleigh Town Council - ECPv6.15.20//NONSGML v1.0//EN
CALSCALE:GREGORIAN
METHOD:PUBLISH
X-ORIGINAL-URL:https://buckfastleigh.gov.uk
X-WR-CALDESC:Events for Buckfastleigh Town Council
REFRESH-INTERVAL;VALUE=DURATION:PT1H
X-Robots-Tag:noindex
X-PUBLISHED-TTL:PT1H
BEGIN:VTIMEZONE
TZID:UTC
BEGIN:STANDARD
TZOFFSETFROM:+0000
TZOFFSETTO:+0000
TZNAME:UTC
DTSTART:20210101T000000
END:STANDARD
END:VTIMEZONE
BEGIN:VEVENT
DTSTART;TZID=UTC:20220421T130000
DTEND;TZID=UTC:20220421T183000
DTSTAMP:20260421T122933
CREATED:20220419T121318Z
LAST-MODIFIED:20220419T121622Z
UID:13278-1650546000-1650565800@buckfastleigh.gov.uk
SUMMARY:Walk-in COVID vaccinations
DESCRIPTION:No need to book \nCheck your eligibility at www.nhs.uk/covid-vaccination or call 119 \nOffering 1st\, 2nd\, and boosters to ages 12 plus and spring boosters (4th dose) to over 75s.  \nThe vaccinations are offered subject to government timings from the last jab ( 3 to 6 month onwards ) and individuals must be free from Covid-19 for 28 days (over 18 years) and 3 months (below 18 years). 
URL:https://buckfastleigh.gov.uk/event/walk-in-covid-vaccinations-2/
LOCATION:Buckfastleigh Town Hall
END:VEVENT
END:VCALENDAR