BEGIN:VCALENDAR
VERSION:2.0
PRODID:-//Buckfastleigh Town Council - ECPv6.15.20//NONSGML v1.0//EN
CALSCALE:GREGORIAN
METHOD:PUBLISH
X-WR-CALNAME:Buckfastleigh Town Council
X-ORIGINAL-URL:https://buckfastleigh.gov.uk
X-WR-CALDESC:Events for Buckfastleigh Town Council
REFRESH-INTERVAL;VALUE=DURATION:PT1H
X-Robots-Tag:noindex
X-PUBLISHED-TTL:PT1H
BEGIN:VTIMEZONE
TZID:UTC
BEGIN:STANDARD
TZOFFSETFROM:+0000
TZOFFSETTO:+0000
TZNAME:UTC
DTSTART:20210101T000000
END:STANDARD
END:VTIMEZONE
BEGIN:VEVENT
DTSTART;TZID=UTC:20220401T100000
DTEND;TZID=UTC:20220401T123000
DTSTAMP:20260421T123840
CREATED:20220224T121311Z
LAST-MODIFIED:20220224T121311Z
UID:13089-1648807200-1648816200@buckfastleigh.gov.uk
SUMMARY:Citizen Advice Video Booth
DESCRIPTION:Do you need help with benefits\, money\, housing\, employment or family issues? \nSpeak to a Citizens Advice adviser via a secure confidential video link. Help is provided to use the video link and Covid-19 safety measures are in place. \nBuckfastleigh Town Hall\, 10am to 12.30pm every Friday \nOr you can call Citizens Advice on 0808 278 7997
URL:https://buckfastleigh.gov.uk/event/citizen-advice-video-booth/
LOCATION:Buckfastleigh Town Hall
CATEGORIES:CAB sessions
END:VEVENT
BEGIN:VEVENT
DTSTART;TZID=UTC:20220408T100000
DTEND;TZID=UTC:20220408T123000
DTSTAMP:20260421T123840
CREATED:20220224T121423Z
LAST-MODIFIED:20220224T121423Z
UID:13091-1649412000-1649421000@buckfastleigh.gov.uk
SUMMARY:Citizens Advice Video Booth
DESCRIPTION:Do you need help with benefits\, money\, housing\, employment or family issues? \nSpeak to a Citizens Advice adviser via a secure confidential video link. Help is provided to use the video link and Covid-19 safety measures are in place. \nBuckfastleigh Town Hall\, 10am to 12.30pm every Friday \nOr you can call Citizens Advice on 0808 278 7997
URL:https://buckfastleigh.gov.uk/event/citizens-advice-video-booth-9/
LOCATION:Buckfastleigh Town Hall
CATEGORIES:CAB sessions
END:VEVENT
BEGIN:VEVENT
DTSTART;TZID=UTC:20220415T100000
DTEND;TZID=UTC:20220415T123000
DTSTAMP:20260421T123840
CREATED:20220224T121529Z
LAST-MODIFIED:20220224T121529Z
UID:13093-1650016800-1650025800@buckfastleigh.gov.uk
SUMMARY:Citizens Advice Video Booth
DESCRIPTION:Do you need help with benefits\, money\, housing\, employment or family issues? \nSpeak to a Citizens Advice adviser via a secure confidential video link. Help is provided to use the video link and Covid-19 safety measures are in place. \nBuckfastleigh Town Hall\, 10am to 12.30pm every Friday \nOr you can call Citizens Advice on 0808 278 7997
URL:https://buckfastleigh.gov.uk/event/citizens-advice-video-booth-10/
LOCATION:Buckfastleigh Town Hall
CATEGORIES:CAB sessions
END:VEVENT
BEGIN:VEVENT
DTSTART;TZID=UTC:20220422T100000
DTEND;TZID=UTC:20220422T123000
DTSTAMP:20260421T123840
CREATED:20220224T121638Z
LAST-MODIFIED:20220224T121638Z
UID:13095-1650621600-1650630600@buckfastleigh.gov.uk
SUMMARY:Citizens Advice Video Booth
DESCRIPTION:Do you need help with benefits\, money\, housing\, employment or family issues? \nSpeak to a Citizens Advice adviser via a secure confidential video link. Help is provided to use the video link and Covid-19 safety measures are in place. \nBuckfastleigh Town Hall\, 10am to 12.30pm every Friday \nOr you can call Citizens Advice on 0808 278 7997
URL:https://buckfastleigh.gov.uk/event/citizens-advice-video-booth-11/
LOCATION:Buckfastleigh Town Hall
CATEGORIES:CAB sessions
END:VEVENT
BEGIN:VEVENT
DTSTART;TZID=UTC:20220429T100000
DTEND;TZID=UTC:20220429T123000
DTSTAMP:20260421T123840
CREATED:20220224T121750Z
LAST-MODIFIED:20220224T121750Z
UID:13097-1651226400-1651235400@buckfastleigh.gov.uk
SUMMARY:Citizens Advice Video Booth
DESCRIPTION:Do you need help with benefits\, money\, housing\, employment or family issues? \nSpeak to a Citizens Advice adviser via a secure confidential video link. Help is provided to use the video link and Covid-19 safety measures are in place. \nBuckfastleigh Town Hall\, 10am to 12.30pm every Friday \nOr you can call Citizens Advice on 0808 278 7997
URL:https://buckfastleigh.gov.uk/event/citizens-advice-video-booth-12/
LOCATION:Buckfastleigh Town Hall
CATEGORIES:CAB sessions
END:VEVENT
END:VCALENDAR