BEGIN:VCALENDAR
VERSION:2.0
PRODID:-//Buckfastleigh Town Council - ECPv6.15.20//NONSGML v1.0//EN
CALSCALE:GREGORIAN
METHOD:PUBLISH
X-ORIGINAL-URL:https://buckfastleigh.gov.uk
X-WR-CALDESC:Events for Buckfastleigh Town Council
REFRESH-INTERVAL;VALUE=DURATION:PT1H
X-Robots-Tag:noindex
X-PUBLISHED-TTL:PT1H
BEGIN:VTIMEZONE
TZID:UTC
BEGIN:STANDARD
TZOFFSETFROM:+0000
TZOFFSETTO:+0000
TZNAME:UTC
DTSTART:20230101T000000
END:STANDARD
END:VTIMEZONE
BEGIN:VEVENT
DTSTART;TZID=UTC:20240822T153000
DTEND;TZID=UTC:20240822T163000
DTSTAMP:20260423T093324
CREATED:20240809T082840Z
LAST-MODIFIED:20240815T141357Z
UID:16614-1724340600-1724344200@buckfastleigh.gov.uk
SUMMARY:Police Surgery
DESCRIPTION:
URL:https://buckfastleigh.gov.uk/event/16614/
LOCATION:Buckfastleigh Town Hall – Room 3
CATEGORIES:Police Surgery
END:VEVENT
BEGIN:VEVENT
DTSTART;TZID=UTC:20241123T130000
DTEND;TZID=UTC:20241123T140000
DTSTAMP:20260423T093324
CREATED:20241030T093700Z
LAST-MODIFIED:20241202T175842Z
UID:16841-1732366800-1732370400@buckfastleigh.gov.uk
SUMMARY:November Police Surgery
DESCRIPTION:
URL:https://buckfastleigh.gov.uk/event/november-police-surgery/
LOCATION:Buckfastleigh Town Hall- Room 5
CATEGORIES:Police Surgery
END:VEVENT
BEGIN:VEVENT
DTSTART;TZID=UTC:20250829T130000
DTEND;TZID=UTC:20250829T140000
DTSTAMP:20260423T093324
CREATED:20250804T100907Z
LAST-MODIFIED:20250804T100907Z
UID:17616-1756472400-1756476000@buckfastleigh.gov.uk
SUMMARY:August Police Surgery
DESCRIPTION:
URL:https://buckfastleigh.gov.uk/event/august-police-surgery/
LOCATION:Buckfastleigh Town Hall – Room 3
CATEGORIES:Police Surgery
END:VEVENT
END:VCALENDAR