BEGIN:VCALENDAR
VERSION:2.0
PRODID:-//Buckfastleigh Town Council - ECPv6.15.20//NONSGML v1.0//EN
CALSCALE:GREGORIAN
METHOD:PUBLISH
X-WR-CALNAME:Buckfastleigh Town Council
X-ORIGINAL-URL:https://buckfastleigh.gov.uk
X-WR-CALDESC:Events for Buckfastleigh Town Council
REFRESH-INTERVAL;VALUE=DURATION:PT1H
X-Robots-Tag:noindex
X-PUBLISHED-TTL:PT1H
BEGIN:VTIMEZONE
TZID:UTC
BEGIN:STANDARD
TZOFFSETFROM:+0000
TZOFFSETTO:+0000
TZNAME:UTC
DTSTART:20180101T000000
END:STANDARD
END:VTIMEZONE
BEGIN:VEVENT
DTSTART;TZID=UTC:20191106T193000
DTEND;TZID=UTC:20191106T210000
DTSTAMP:20260419T151224
CREATED:20190930T085326Z
LAST-MODIFIED:20191205T134057Z
UID:9687-1573068600-1573074000@buckfastleigh.gov.uk
SUMMARY:Buckfastleigh Matters Meeting
DESCRIPTION:Agenda  (Published 5 working days before the meeting)\nMinutes  (available after approval at next meeting)\nKey Messages
URL:https://buckfastleigh.gov.uk/event/buckfastleigh-matters-meeting-4/
LOCATION:Buckfastleigh Town Hall
CATEGORIES:Town Council Meeting
END:VEVENT
BEGIN:VEVENT
DTSTART;TZID=UTC:20191106T100000
DTEND;TZID=UTC:20191106T120000
DTSTAMP:20260419T151224
CREATED:20190709T092922Z
LAST-MODIFIED:20190709T092922Z
UID:9401-1573034400-1573041600@buckfastleigh.gov.uk
SUMMARY:Walking for Health
DESCRIPTION:Walking for Health offers free easy guided walks in a variety of locations.  All walks start from Woodholme car park.  Meet there at 9.45 am for a 10 am start and car share. \nToday’s walk goes to the Parke estate near Bovey Tracey.  Contact Val Hoare:  01803 866133 / 07792 802307.  More information about Walking for Health is here.
URL:https://buckfastleigh.gov.uk/event/walking-for-health-21/
LOCATION:victoria woodholme car park\, Plymouth Road\, Buckfastleigh\, TQ11 0BD
CATEGORIES:Walking for Health
END:VEVENT
BEGIN:VEVENT
DTSTART;TZID=UTC:20191031T103000
DTEND;TZID=UTC:20191031T113000
DTSTAMP:20260419T151224
CREATED:20191014T105258Z
LAST-MODIFIED:20191022T115013Z
UID:9776-1572517800-1572521400@buckfastleigh.gov.uk
SUMMARY:New Paracise Class at Buckfastleigh Town Hall on Thursday's
DESCRIPTION:Paracise – Gentle on the joints yet effective. Improves posture\, balance\, mobility and flexibility.  \nStarting Thursday 31st October at 10.30am
URL:https://buckfastleigh.gov.uk/event/new-class-at-buckfastleigh-town-hall-on-thursdays/
LOCATION:Buckfastleigh Town Hall – Room 3
ORGANIZER;CN="Fiona":MAILTO:fastfiona@hotmail.com
END:VEVENT
BEGIN:VEVENT
DTSTART;TZID=UTC:20191030T190000
DTEND;TZID=UTC:20191030T210000
DTSTAMP:20260419T151224
CREATED:20190909T105303Z
LAST-MODIFIED:20190909T105303Z
UID:9590-1572462000-1572469200@buckfastleigh.gov.uk
SUMMARY:Where Next? - Annual Review & Community Planning Workshop
DESCRIPTION:Come and join us to see what the Town Council has achieved over the past 12 months for Buckfastleigh and Buckfast and help us plan the future………. \nWith refreshments and cake! \nAll welcome.
URL:https://buckfastleigh.gov.uk/event/where-next-annual-review-community-planning-workshop/
LOCATION:Buckfastleigh Town Hall- Rooms 2 and 3
END:VEVENT
BEGIN:VEVENT
DTSTART;TZID=UTC:20191023T193000
DTEND;TZID=UTC:20191023T210000
DTSTAMP:20260419T151224
CREATED:20190930T085051Z
LAST-MODIFIED:20191128T145411Z
UID:9685-1571859000-1571864400@buckfastleigh.gov.uk
SUMMARY:Town Council Meeting
DESCRIPTION:Agenda (Published 5 working days before the meeting)\nMinutes  (available after approval at next meeting)
URL:https://buckfastleigh.gov.uk/event/town-council-meeting-41/
LOCATION:Buckfastleigh Town Hall
CATEGORIES:Town Council Meeting
END:VEVENT
BEGIN:VEVENT
DTSTART;TZID=UTC:20191023T103000
DTEND;TZID=UTC:20191023T130000
DTSTAMP:20260419T151224
CREATED:20190923T105453Z
LAST-MODIFIED:20190923T105453Z
UID:9656-1571826600-1571835600@buckfastleigh.gov.uk
SUMMARY:Walking for Health
DESCRIPTION:Walking for Health offers free easy guided walks in a variety of locations.  All walks start from Woodholme car park.  Meet there at 10.30 am and car share. \nToday’s walk goes to Lukesland Gardens near Ivybridge to enjoy the autumn foliage.  Contact Val Hoare:  01803 866133 / 07792 802307.  More information about Walking for Health is here.
URL:https://buckfastleigh.gov.uk/event/walking-for-health-24/
CATEGORIES:Walking for Health
END:VEVENT
BEGIN:VEVENT
DTSTART;TZID=UTC:20191020T130000
DTEND;TZID=UTC:20191020T160000
DTSTAMP:20260419T151224
CREATED:20191014T092943Z
LAST-MODIFIED:20191014T092943Z
UID:9769-1571576400-1571587200@buckfastleigh.gov.uk
SUMMARY:Apple Pressing on Orchard Millennium Green
DESCRIPTION:Apple pressing\, BBQ and Coffee House will run from 1.00 – 4.00pm – whatever the weather! \nContact Trefor Jones for more info:  01364 643627 \n(The Apple Day on 13th October had to be called off due to heavy rain)
URL:https://buckfastleigh.gov.uk/event/apple-pressing-on-orchard-millennium-green/
LOCATION:Orchard Millennium Green\, Station road\, Buckfastleigh\, Devon\, United Kingdom
END:VEVENT
BEGIN:VEVENT
DTSTART;TZID=UTC:20191016T183000
DTEND;TZID=UTC:20191016T210000
DTSTAMP:20260419T151224
CREATED:20190925T162023Z
LAST-MODIFIED:20191003T100729Z
UID:9669-1571250600-1571259600@buckfastleigh.gov.uk
SUMMARY:Be Wild Nature Group Launch
DESCRIPTION:A public meeting to set up a nature group for Buckfastleigh and surrounding area to identify\, conserve and celebrate the amazing wildlife in and around the town.
URL:https://buckfastleigh.gov.uk/event/be-wild-nature-group-launch/
LOCATION:Buckfastleigh Town Hall
END:VEVENT
BEGIN:VEVENT
DTSTART;TZID=UTC:20191013T120000
DTEND;TZID=UTC:20191013T160000
DTSTAMP:20260419T151224
CREATED:20190808T091557Z
LAST-MODIFIED:20191011T160407Z
UID:9471-1570968000-1570982400@buckfastleigh.gov.uk
SUMMARY:Apple Day CANCELLED DUE TO BAD WEATHER
DESCRIPTION:This is unfortunately cancelled due to bad weather \nPeople are invited to bring along their apples for pressing and to make a donation to the upkeep of the Green. (We cannot accept apples from large\, more commercial orchards). \nThere will be stalls\, refreshments including a BBQ\, and children’s activities. \n \n 
URL:https://buckfastleigh.gov.uk/event/apple-day-on-the-orchard-millennium-green/
LOCATION:Orchard Millennium Green\, Station road\, Buckfastleigh\, Devon\, United Kingdom
END:VEVENT
BEGIN:VEVENT
DTSTART;TZID=UTC:20191013T100000
DTEND;TZID=UTC:20191013T160000
DTSTAMP:20260419T151224
CREATED:20190829T095357Z
LAST-MODIFIED:20190829T095357Z
UID:9546-1570960800-1570982400@buckfastleigh.gov.uk
SUMMARY:Buckfastleigh Wool Gathering
DESCRIPTION:Talks – Workshops – Weaving – Felting – Knitting – Spinning – Saori Weaving – Natural Dyeing – Exhibits – Market Place – Delicious Local and Organic Cafe
URL:https://buckfastleigh.gov.uk/event/buckfastleigh-wool-gathering-6/
LOCATION:Buckfastleigh Town Hall
END:VEVENT
BEGIN:VEVENT
DTSTART;TZID=UTC:20191012T120000
DTEND;TZID=UTC:20191012T160000
DTSTAMP:20260419T151224
CREATED:20191003T091019Z
LAST-MODIFIED:20191003T091019Z
UID:9740-1570881600-1570896000@buckfastleigh.gov.uk
SUMMARY:Be Buckfastleigh Launch Event
DESCRIPTION:The launch event for Be Buckfastleigh will be held on Saturday 12th October from 12 to 4 pm at The Living Room.  \nThere will be music\, food and drink for all to enjoy….  Be curious\, come and join us.
URL:https://buckfastleigh.gov.uk/event/be-buckfastleigh-launch-event/
LOCATION:55 Fore Street
END:VEVENT
BEGIN:VEVENT
DTSTART;TZID=UTC:20191009T193000
DTEND;TZID=UTC:20191009T210000
DTSTAMP:20260419T151224
CREATED:20190930T084809Z
LAST-MODIFIED:20191114T095401Z
UID:9683-1570649400-1570654800@buckfastleigh.gov.uk
SUMMARY:Council Matters Meeting
DESCRIPTION:Agenda  (Published 5 working days before the meeting)\nMinutes (available after approval at next meeting)
URL:https://buckfastleigh.gov.uk/event/council-matters-meeting-3/
LOCATION:Buckfastleigh Town Hall
CATEGORIES:Town Council Meeting
END:VEVENT
BEGIN:VEVENT
DTSTART;TZID=UTC:20191009T100000
DTEND;TZID=UTC:20191009T120000
DTSTAMP:20260419T151224
CREATED:20190709T092613Z
LAST-MODIFIED:20190709T092613Z
UID:9397-1570615200-1570622400@buckfastleigh.gov.uk
SUMMARY:Walking for Health
DESCRIPTION:Walking for Health offers free easy guided walks in a variety of locations.  All walks start from Woodholme car park.  Meet there at 9.45 am for a 10 am start and car share. \nToday’s walk goes to Spitchwick by the River Dart on Dartmoor.  Contact Val Hoare:  01803 866133 / 07792 802307.  More information about Walking for Health is here.
URL:https://buckfastleigh.gov.uk/event/walking-for-health-19/
LOCATION:victoria woodholme car park\, Plymouth Road\, Buckfastleigh\, TQ11 0BD
CATEGORIES:Walking for Health
END:VEVENT
BEGIN:VEVENT
DTSTART;TZID=UTC:20191002T193000
DTEND;TZID=UTC:20191002T210000
DTSTAMP:20260419T151224
CREATED:20190926T131534Z
LAST-MODIFIED:20191107T145315Z
UID:9677-1570044600-1570050000@buckfastleigh.gov.uk
SUMMARY:Buckfastleigh Matters Meeting
DESCRIPTION:Agenda  (Published 5 working days before the meeting)\nMinutes  (available after approval at next meeting)
URL:https://buckfastleigh.gov.uk/event/buckfastleigh-matters-meeting-3/
LOCATION:Buckfastleigh Town Hall – Room 3
CATEGORIES:Town Council Meeting
END:VEVENT
BEGIN:VEVENT
DTSTART;TZID=UTC:20190929T100000
DTEND;TZID=UTC:20190929T130000
DTSTAMP:20260419T151224
CREATED:20190917T120650Z
LAST-MODIFIED:20190917T120650Z
UID:9622-1569751200-1569762000@buckfastleigh.gov.uk
SUMMARY:All Sing Sunday
DESCRIPTION:
URL:https://buckfastleigh.gov.uk/event/all-sing-sunday-5/
LOCATION:Buckfastleigh Town Hall
END:VEVENT
BEGIN:VEVENT
DTSTART;TZID=UTC:20190927T100000
DTEND;TZID=UTC:20190927T120000
DTSTAMP:20260419T151224
CREATED:20190909T103343Z
LAST-MODIFIED:20190909T103414Z
UID:9585-1569578400-1569585600@buckfastleigh.gov.uk
SUMMARY:WI Macmillan Coffee Morning
DESCRIPTION:Have a tea or coffee with delicious WI cakes – all donations to Macmillan Cancer Support. \nAll welcome
URL:https://buckfastleigh.gov.uk/event/wi-macmillan-coffee-morning/
LOCATION:The Valiant Soldier\, 80 Fore St\, Buckfastleigh\, TQ11 0BS
END:VEVENT
BEGIN:VEVENT
DTSTART;TZID=UTC:20190925T193000
DTEND;TZID=UTC:20190925T210000
DTSTAMP:20260419T151224
CREATED:20190226T125430Z
LAST-MODIFIED:20191024T102453Z
UID:8642-1569439800-1569445200@buckfastleigh.gov.uk
SUMMARY:Town Council Meeting
DESCRIPTION:Agenda (Published 5 working days before the meeting)\nMinutes  (available after approval at next meeting)
URL:https://buckfastleigh.gov.uk/event/town-council-meeting-40/
LOCATION:Buckfastleigh Town Hall
CATEGORIES:Town Council Meeting
END:VEVENT
BEGIN:VEVENT
DTSTART;TZID=UTC:20190925T100000
DTEND;TZID=UTC:20190925T120000
DTSTAMP:20260419T151224
CREATED:20190709T091450Z
LAST-MODIFIED:20190709T091939Z
UID:9395-1569405600-1569412800@buckfastleigh.gov.uk
SUMMARY:Walking for Health
DESCRIPTION:Walking for Health offers free easy guided walks in a variety of locations.  All walks start from Woodholme car park.  Meet there at 9.45 am for a 10 am start and car share. \nToday’s walk goes to the Swincombe valley on Dartmoor.  Contact Val Hoare:  01803 866133 / 07792 802307.  More information about Walking for Health is here.
URL:https://buckfastleigh.gov.uk/event/walking-for-health-18/
LOCATION:victoria woodholme car park\, Plymouth Road\, Buckfastleigh\, TQ11 0BD
CATEGORIES:Walking for Health
END:VEVENT
BEGIN:VEVENT
DTSTART;TZID=UTC:20190924T190000
DTEND;TZID=UTC:20190924T210000
DTSTAMP:20260419T151224
CREATED:20190905T092955Z
LAST-MODIFIED:20190905T093443Z
UID:9561-1569351600-1569358800@buckfastleigh.gov.uk
SUMMARY:Share Shed is coming to Buckfastleigh
DESCRIPTION:The Share Shed is coming to Buckfastleigh.  It has a library of things and equipment which members can borrow for a small fee\, and will visit weekly.  It saves us all having to buy stuff we only use once or twice a year.   Come along to find out more! \n \n 
URL:https://buckfastleigh.gov.uk/event/share-shed-is-coming-to-buckfastleigh/
LOCATION:Buckfastleigh Town Hall
END:VEVENT
BEGIN:VEVENT
DTSTART;TZID=UTC:20190919T160000
DTEND;TZID=UTC:20190919T190000
DTSTAMP:20260419T151224
CREATED:20190909T102948Z
LAST-MODIFIED:20190909T102948Z
UID:9583-1568908800-1568919600@buckfastleigh.gov.uk
SUMMARY:Dartmoor Local Plan
DESCRIPTION:Dartmoor National Park Authority public drop-in event in the Town Hall – opportunity to comment on the final draft of the new Local Plan for Dartmoor. \nPlease come along and have our say.
URL:https://buckfastleigh.gov.uk/event/dartmoor-local-plan/
LOCATION:Buckfastleigh Town Hall – Room 2
END:VEVENT
BEGIN:VEVENT
DTSTART;TZID=UTC:20190918T193000
DTEND;TZID=UTC:20190918T210000
DTSTAMP:20260419T151224
CREATED:20190909T104501Z
LAST-MODIFIED:20190909T104501Z
UID:9587-1568835000-1568840400@buckfastleigh.gov.uk
SUMMARY:British Legion A.G.M
DESCRIPTION:Come and join us to learn about our future plans.
URL:https://buckfastleigh.gov.uk/event/british-legion-a-g-m/
LOCATION:Buckfastleigh Football Club\, 3 Duckspond Road\, Buckfastleigh\, Devon\, TQ11 0NL
END:VEVENT
BEGIN:VEVENT
DTSTART;TZID=UTC:20190912T183000
DTEND;TZID=UTC:20190912T203000
DTSTAMP:20260419T151224
CREATED:20190808T100836Z
LAST-MODIFIED:20190814T095949Z
UID:9476-1568313000-1568320200@buckfastleigh.gov.uk
SUMMARY:Life on the Verge:  Wildlife and Biodiversity Planning
DESCRIPTION:Imagine the key green spaces around Buckfastleigh and Buckfast becoming havens for wildlife and awash with Dartmoor wildflowers. We’ve all been hearing about wildlife declines and the loss of their habitat. Once common species\, from bumblebees to butterflies\, are struggling – 56% of all UK species have declined in abundance since 1970. The good news is we can all help to reverse these trends. Our green spaces\, verges\, parks and gardens can be part of the solution. \nEvery Parish Council in Devon now has the opportunity to take on the responsibility for managing road verges from Devon County Council. Since 2015\, DCC have only been cutting a handful of grassland verges for health and safety reasons and leaving the rest unmanaged. If the Parish Council takes the management over\, the verges around the Parish could be managed for nature. \nIf you would like to hear more about this proposal /join in the debate/find out how to get involved\, then come to Buckfastleigh Town Hall on 12th September at 6.30 pm.  Donna Cox from Moor Meadows will give an introductory talk and renowned Dartmoor naturalist John Walters will be give a fascinating presentation on the Life on the Verge.  If weather permits we will visit some of the sites in Buckfastleigh interested in taking part.”
URL:https://buckfastleigh.gov.uk/event/wildlife-and-biodiversity-planning/
LOCATION:Buckfastleigh Town Hall
CATEGORIES:Town Council Meeting
END:VEVENT
BEGIN:VEVENT
DTSTART;TZID=UTC:20190911T193000
DTEND;TZID=UTC:20190911T210000
DTSTAMP:20260419T151224
CREATED:20190226T125157Z
LAST-MODIFIED:20191010T152956Z
UID:8638-1568230200-1568235600@buckfastleigh.gov.uk
SUMMARY:Council Matters Meeting
DESCRIPTION:Agenda  (Published 5 working days before the meeting)\nMinutes  (available after approval at next meeting)
URL:https://buckfastleigh.gov.uk/event/council-matters-meeting-2/
LOCATION:Buckfastleigh Town Hall
CATEGORIES:Town Council Meeting
END:VEVENT
BEGIN:VEVENT
DTSTART;TZID=UTC:20190911T080000
DTEND;TZID=UTC:20190911T170000
DTSTAMP:20260419T151224
CREATED:20190709T091342Z
LAST-MODIFIED:20190709T091342Z
UID:9393-1568188800-1568221200@buckfastleigh.gov.uk
SUMMARY:Walking for Health
DESCRIPTION:Walking for Health offers free easy guided walks in a variety of locations.  All walks start from Woodholme car park.  Meet there at 9.45 am for a 10 am start and car share. \nToday’s walk will be around Val’s place.  Contact Val Hoare:  01803 866133 / 07792 802307.  More information about Walking for Health is here.
URL:https://buckfastleigh.gov.uk/event/walking-for-health-17/
LOCATION:victoria woodholme car park\, Plymouth Road\, Buckfastleigh\, TQ11 0BD
CATEGORIES:Walking for Health
END:VEVENT
BEGIN:VEVENT
DTSTART;TZID=UTC:20190904T193000
DTEND;TZID=UTC:20190904T210000
DTSTAMP:20260419T151224
CREATED:20190226T125048Z
LAST-MODIFIED:20191003T102202Z
UID:8636-1567625400-1567630800@buckfastleigh.gov.uk
SUMMARY:Buckfastleigh Matters Meeting
DESCRIPTION:Agenda  (Published 5 working days before the meeting)\nMinutes  (available after approval at next meeting)
URL:https://buckfastleigh.gov.uk/event/buckfastleigh-matters-meeting-2/
LOCATION:Buckfastleigh Town Hall
CATEGORIES:Town Council Meeting
END:VEVENT
BEGIN:VEVENT
DTSTART;TZID=UTC:20190828T100000
DTEND;TZID=UTC:20190828T120000
DTSTAMP:20260419T151224
CREATED:20190709T090954Z
LAST-MODIFIED:20190709T090954Z
UID:9391-1566986400-1566993600@buckfastleigh.gov.uk
SUMMARY:Walking for Health
DESCRIPTION:Walking for Health offers free easy guided walks in a variety of locations.  All walks start from Woodholme car park.  Meet there at 9.45 am for a 10 am start and car share. \nToday’s walk goes to Longmarsh in Totnes.  Contact Val Hoare:  01803 866133 / 07792 802307.  More information about Walking for Health is here.
URL:https://buckfastleigh.gov.uk/event/walking-for-health-16/
LOCATION:victoria woodholme car park\, Plymouth Road\, Buckfastleigh\, TQ11 0BD
CATEGORIES:Walking for Health
END:VEVENT
BEGIN:VEVENT
DTSTART;TZID=UTC:20190825T153000
DTEND;TZID=UTC:20190825T170000
DTSTAMP:20260419T151224
CREATED:20190819T132116Z
LAST-MODIFIED:20190819T132116Z
UID:9519-1566747000-1566752400@buckfastleigh.gov.uk
SUMMARY:French Twinning Event
DESCRIPTION:Scoriton & Buckfastleigh Twinning Association: \nCome and meet our French Twinning friends from Fontaine-Henry \n\nMillennium Green at 15:30 on Sunday 25th August for Walking Football and French Boule (weather permitting)\nKings Arms at 17:00 for drinks and pool\n\nEveryone welcome!
URL:https://buckfastleigh.gov.uk/event/french-twinning-event/
LOCATION:Orchard Millennium Green\, Station road\, Buckfastleigh\, Devon\, United Kingdom
END:VEVENT
BEGIN:VEVENT
DTSTART;TZID=UTC:20190824T180000
DTEND;TZID=UTC:20190824T200000
DTSTAMP:20260419T151224
CREATED:20190708T111629Z
LAST-MODIFIED:20190708T111629Z
UID:9378-1566669600-1566676800@buckfastleigh.gov.uk
SUMMARY:Buckfast Residents Society Bank Holiday BBQ
DESCRIPTION:This year’s BBQ will be held on Grange Green.  Please bring your own sausages\, meat\, etc.  Donations of other food and/or drinks are also welcome.  Come along and enjoy a relaxing and social evening with your friends.  Please note that any persons under 18 are the responsibility of their parents/guardians.
URL:https://buckfastleigh.gov.uk/event/buckfast-residents-society-bank-holiday-bbq/
LOCATION:Grange Green
END:VEVENT
BEGIN:VEVENT
DTSTART;TZID=UTC:20190820T190000
DTEND;TZID=UTC:20190820T210000
DTSTAMP:20260419T151224
CREATED:20190801T105700Z
LAST-MODIFIED:20190926T131011Z
UID:9465-1566327600-1566334800@buckfastleigh.gov.uk
SUMMARY:Extraordinary Town Council Meeting
DESCRIPTION:To discuss Buckfast Abbey’s application to build a care village at Lower Mills – 0300/19\, and a new application for change of use for St. Mary’s Convent\, Buckfast Abbey to an early years and pre-school – 0339/19 \nAgenda  \nMinutes  \n 
URL:https://buckfastleigh.gov.uk/event/extraordinary-town-council-meeting-2/
LOCATION:Buckfastleigh Town Hall
CATEGORIES:Town Council Meeting
END:VEVENT
BEGIN:VEVENT
DTSTART;TZID=UTC:20190814T100000
DTEND;TZID=UTC:20190814T120000
DTSTAMP:20260419T151224
CREATED:20190709T090817Z
LAST-MODIFIED:20190709T091200Z
UID:9389-1565776800-1565784000@buckfastleigh.gov.uk
SUMMARY:Walking for Health
DESCRIPTION:Walking for Health offers free easy guided walks in a variety of locations.  All walks start from Woodholme car park.  Meet there at 9.45 am for a 10 am start and car share. \nToday’s walk is Bryn’s choice and will be in the local area.  Contact Val Hoare:  01803 866133 / 07792 802307.  More information about Walking for Health is here.
URL:https://buckfastleigh.gov.uk/event/walking-for-health-15/
LOCATION:victoria woodholme car park\, Plymouth Road\, Buckfastleigh\, TQ11 0BD
CATEGORIES:Walking for Health
END:VEVENT
END:VCALENDAR