BEGIN:VCALENDAR
VERSION:2.0
PRODID:-//Buckfastleigh Town Council - ECPv6.15.20//NONSGML v1.0//EN
CALSCALE:GREGORIAN
METHOD:PUBLISH
X-WR-CALNAME:Buckfastleigh Town Council
X-ORIGINAL-URL:https://buckfastleigh.gov.uk
X-WR-CALDESC:Events for Buckfastleigh Town Council
REFRESH-INTERVAL;VALUE=DURATION:PT1H
X-Robots-Tag:noindex
X-PUBLISHED-TTL:PT1H
BEGIN:VTIMEZONE
TZID:UTC
BEGIN:STANDARD
TZOFFSETFROM:+0000
TZOFFSETTO:+0000
TZNAME:UTC
DTSTART:20180101T000000
END:STANDARD
END:VTIMEZONE
BEGIN:VEVENT
DTSTART;TZID=UTC:20190918T193000
DTEND;TZID=UTC:20190918T210000
DTSTAMP:20260419T163533
CREATED:20190909T104501Z
LAST-MODIFIED:20190909T104501Z
UID:9587-1568835000-1568840400@buckfastleigh.gov.uk
SUMMARY:British Legion A.G.M
DESCRIPTION:Come and join us to learn about our future plans.
URL:https://buckfastleigh.gov.uk/event/british-legion-a-g-m/
LOCATION:Buckfastleigh Football Club\, 3 Duckspond Road\, Buckfastleigh\, Devon\, TQ11 0NL
END:VEVENT
BEGIN:VEVENT
DTSTART;TZID=UTC:20190912T183000
DTEND;TZID=UTC:20190912T203000
DTSTAMP:20260419T163533
CREATED:20190808T100836Z
LAST-MODIFIED:20190814T095949Z
UID:9476-1568313000-1568320200@buckfastleigh.gov.uk
SUMMARY:Life on the Verge:  Wildlife and Biodiversity Planning
DESCRIPTION:Imagine the key green spaces around Buckfastleigh and Buckfast becoming havens for wildlife and awash with Dartmoor wildflowers. We’ve all been hearing about wildlife declines and the loss of their habitat. Once common species\, from bumblebees to butterflies\, are struggling – 56% of all UK species have declined in abundance since 1970. The good news is we can all help to reverse these trends. Our green spaces\, verges\, parks and gardens can be part of the solution. \nEvery Parish Council in Devon now has the opportunity to take on the responsibility for managing road verges from Devon County Council. Since 2015\, DCC have only been cutting a handful of grassland verges for health and safety reasons and leaving the rest unmanaged. If the Parish Council takes the management over\, the verges around the Parish could be managed for nature. \nIf you would like to hear more about this proposal /join in the debate/find out how to get involved\, then come to Buckfastleigh Town Hall on 12th September at 6.30 pm.  Donna Cox from Moor Meadows will give an introductory talk and renowned Dartmoor naturalist John Walters will be give a fascinating presentation on the Life on the Verge.  If weather permits we will visit some of the sites in Buckfastleigh interested in taking part.”
URL:https://buckfastleigh.gov.uk/event/wildlife-and-biodiversity-planning/
LOCATION:Buckfastleigh Town Hall
CATEGORIES:Town Council Meeting
END:VEVENT
BEGIN:VEVENT
DTSTART;TZID=UTC:20190911T193000
DTEND;TZID=UTC:20190911T210000
DTSTAMP:20260419T163533
CREATED:20190226T125157Z
LAST-MODIFIED:20191010T152956Z
UID:8638-1568230200-1568235600@buckfastleigh.gov.uk
SUMMARY:Council Matters Meeting
DESCRIPTION:Agenda  (Published 5 working days before the meeting)\nMinutes  (available after approval at next meeting)
URL:https://buckfastleigh.gov.uk/event/council-matters-meeting-2/
LOCATION:Buckfastleigh Town Hall
CATEGORIES:Town Council Meeting
END:VEVENT
BEGIN:VEVENT
DTSTART;TZID=UTC:20190911T080000
DTEND;TZID=UTC:20190911T170000
DTSTAMP:20260419T163533
CREATED:20190709T091342Z
LAST-MODIFIED:20190709T091342Z
UID:9393-1568188800-1568221200@buckfastleigh.gov.uk
SUMMARY:Walking for Health
DESCRIPTION:Walking for Health offers free easy guided walks in a variety of locations.  All walks start from Woodholme car park.  Meet there at 9.45 am for a 10 am start and car share. \nToday’s walk will be around Val’s place.  Contact Val Hoare:  01803 866133 / 07792 802307.  More information about Walking for Health is here.
URL:https://buckfastleigh.gov.uk/event/walking-for-health-17/
LOCATION:victoria woodholme car park\, Plymouth Road\, Buckfastleigh\, TQ11 0BD
CATEGORIES:Walking for Health
END:VEVENT
BEGIN:VEVENT
DTSTART;TZID=UTC:20190904T193000
DTEND;TZID=UTC:20190904T210000
DTSTAMP:20260419T163533
CREATED:20190226T125048Z
LAST-MODIFIED:20191003T102202Z
UID:8636-1567625400-1567630800@buckfastleigh.gov.uk
SUMMARY:Buckfastleigh Matters Meeting
DESCRIPTION:Agenda  (Published 5 working days before the meeting)\nMinutes  (available after approval at next meeting)
URL:https://buckfastleigh.gov.uk/event/buckfastleigh-matters-meeting-2/
LOCATION:Buckfastleigh Town Hall
CATEGORIES:Town Council Meeting
END:VEVENT
BEGIN:VEVENT
DTSTART;TZID=UTC:20190828T100000
DTEND;TZID=UTC:20190828T120000
DTSTAMP:20260419T163533
CREATED:20190709T090954Z
LAST-MODIFIED:20190709T090954Z
UID:9391-1566986400-1566993600@buckfastleigh.gov.uk
SUMMARY:Walking for Health
DESCRIPTION:Walking for Health offers free easy guided walks in a variety of locations.  All walks start from Woodholme car park.  Meet there at 9.45 am for a 10 am start and car share. \nToday’s walk goes to Longmarsh in Totnes.  Contact Val Hoare:  01803 866133 / 07792 802307.  More information about Walking for Health is here.
URL:https://buckfastleigh.gov.uk/event/walking-for-health-16/
LOCATION:victoria woodholme car park\, Plymouth Road\, Buckfastleigh\, TQ11 0BD
CATEGORIES:Walking for Health
END:VEVENT
BEGIN:VEVENT
DTSTART;TZID=UTC:20190825T153000
DTEND;TZID=UTC:20190825T170000
DTSTAMP:20260419T163533
CREATED:20190819T132116Z
LAST-MODIFIED:20190819T132116Z
UID:9519-1566747000-1566752400@buckfastleigh.gov.uk
SUMMARY:French Twinning Event
DESCRIPTION:Scoriton & Buckfastleigh Twinning Association: \nCome and meet our French Twinning friends from Fontaine-Henry \n\nMillennium Green at 15:30 on Sunday 25th August for Walking Football and French Boule (weather permitting)\nKings Arms at 17:00 for drinks and pool\n\nEveryone welcome!
URL:https://buckfastleigh.gov.uk/event/french-twinning-event/
LOCATION:Orchard Millennium Green\, Station road\, Buckfastleigh\, Devon\, United Kingdom
END:VEVENT
BEGIN:VEVENT
DTSTART;TZID=UTC:20190824T180000
DTEND;TZID=UTC:20190824T200000
DTSTAMP:20260419T163533
CREATED:20190708T111629Z
LAST-MODIFIED:20190708T111629Z
UID:9378-1566669600-1566676800@buckfastleigh.gov.uk
SUMMARY:Buckfast Residents Society Bank Holiday BBQ
DESCRIPTION:This year’s BBQ will be held on Grange Green.  Please bring your own sausages\, meat\, etc.  Donations of other food and/or drinks are also welcome.  Come along and enjoy a relaxing and social evening with your friends.  Please note that any persons under 18 are the responsibility of their parents/guardians.
URL:https://buckfastleigh.gov.uk/event/buckfast-residents-society-bank-holiday-bbq/
LOCATION:Grange Green
END:VEVENT
BEGIN:VEVENT
DTSTART;TZID=UTC:20190820T190000
DTEND;TZID=UTC:20190820T210000
DTSTAMP:20260419T163533
CREATED:20190801T105700Z
LAST-MODIFIED:20190926T131011Z
UID:9465-1566327600-1566334800@buckfastleigh.gov.uk
SUMMARY:Extraordinary Town Council Meeting
DESCRIPTION:To discuss Buckfast Abbey’s application to build a care village at Lower Mills – 0300/19\, and a new application for change of use for St. Mary’s Convent\, Buckfast Abbey to an early years and pre-school – 0339/19 \nAgenda  \nMinutes  \n 
URL:https://buckfastleigh.gov.uk/event/extraordinary-town-council-meeting-2/
LOCATION:Buckfastleigh Town Hall
CATEGORIES:Town Council Meeting
END:VEVENT
BEGIN:VEVENT
DTSTART;TZID=UTC:20190814T100000
DTEND;TZID=UTC:20190814T120000
DTSTAMP:20260419T163533
CREATED:20190709T090817Z
LAST-MODIFIED:20190709T091200Z
UID:9389-1565776800-1565784000@buckfastleigh.gov.uk
SUMMARY:Walking for Health
DESCRIPTION:Walking for Health offers free easy guided walks in a variety of locations.  All walks start from Woodholme car park.  Meet there at 9.45 am for a 10 am start and car share. \nToday’s walk is Bryn’s choice and will be in the local area.  Contact Val Hoare:  01803 866133 / 07792 802307.  More information about Walking for Health is here.
URL:https://buckfastleigh.gov.uk/event/walking-for-health-15/
LOCATION:victoria woodholme car park\, Plymouth Road\, Buckfastleigh\, TQ11 0BD
CATEGORIES:Walking for Health
END:VEVENT
BEGIN:VEVENT
DTSTART;TZID=UTC:20190805T193000
DTEND;TZID=UTC:20190805T210000
DTSTAMP:20260419T163533
CREATED:20190625T083347Z
LAST-MODIFIED:20190625T083347Z
UID:9257-1565033400-1565038800@buckfastleigh.gov.uk
SUMMARY:Community Events Working Party
DESCRIPTION:This group has been formed to co-ordinate and promote all the town’s events.  Members of the public are invited to join.
URL:https://buckfastleigh.gov.uk/event/community-events-working-party/
LOCATION:Buckfastleigh Town Hall
END:VEVENT
BEGIN:VEVENT
DTSTART;TZID=UTC:20190804T133000
DTEND;TZID=UTC:20190804T160000
DTSTAMP:20260419T163533
CREATED:20190708T111345Z
LAST-MODIFIED:20190708T111345Z
UID:9376-1564925400-1564934400@buckfastleigh.gov.uk
SUMMARY:Buckfastleigh and District Annual Garden Show
DESCRIPTION:Classes for fruit\, veg\, flowers\, handicrafts\, paintings\, jam making\, photography and a children’s section.  A prize draw\, table top sale and refreshments.  
URL:https://buckfastleigh.gov.uk/event/buckfastleigh-and-district-annual-garden-show/
LOCATION:Buckfast Village Hall\, Buckfast Road\, Buckfast\, United Kingdom
END:VEVENT
BEGIN:VEVENT
DTSTART;TZID=UTC:20190731T100000
DTEND;TZID=UTC:20190731T120000
DTSTAMP:20260419T163533
CREATED:20190709T090657Z
LAST-MODIFIED:20190709T091105Z
UID:9387-1564567200-1564574400@buckfastleigh.gov.uk
SUMMARY:Walking for Health
DESCRIPTION:Walking for Health offers free easy guided walks in a variety of locations.  All walks start from Woodholme car park.  Meet there at 9.45 am for a 10 am start and car share. \nToday’s walk goes to the Puffing Billy Track on Dartmoor.  Contact Val Hoare:  01803 866133 / 07792 802307.  More information about Walking for Health is here.
URL:https://buckfastleigh.gov.uk/event/walking-for-health-14/
LOCATION:victoria woodholme car park\, Plymouth Road\, Buckfastleigh\, TQ11 0BD
CATEGORIES:Walking for Health
END:VEVENT
BEGIN:VEVENT
DTSTART;TZID=UTC:20190725T180000
DTEND;TZID=UTC:20190725T200000
DTSTAMP:20260419T163533
CREATED:20190701T090403Z
LAST-MODIFIED:20190701T090403Z
UID:9287-1564077600-1564084800@buckfastleigh.gov.uk
SUMMARY:Cubs Group
DESCRIPTION:CUBS \nHands up who has been missing Cubs? ??‍♀️??‍♂️⚜️\nWe’ve been working hard behind the scenes to plan our 4 week program leading up until the end of Summer term and we are pleased to say it’s in the bag. Thanks to all the Adult volunteers ?? \nCome and join us on Thursdays (yes we’ve changed the day ?) 6:15-7:45pm\, St Luke’s Church Hall\, Buckfastleigh where we will start to complete our transition to a fully formed Scout Group.  \nDates: 4\,11\,18 & 25 Jul \nYou will also get the opportunity to sign up to join the Cubs Ages 8-10 ½ yrs ?
URL:https://buckfastleigh.gov.uk/event/cubs-group-4/
LOCATION:St Luke’s Church\, Plymouth Road\, Buckfastleigh\, TQ11 0DA
END:VEVENT
BEGIN:VEVENT
DTSTART;TZID=UTC:20190724T193000
DTEND;TZID=UTC:20190724T210000
DTSTAMP:20260419T163533
CREATED:20190226T124916Z
LAST-MODIFIED:20190926T130846Z
UID:8634-1563996600-1564002000@buckfastleigh.gov.uk
SUMMARY:Town Council Meeting
DESCRIPTION:Agenda  (Published 5 working days before the meeting)\nMinutes  (available after approval at next meeting)
URL:https://buckfastleigh.gov.uk/event/town-council-meeting-39/
LOCATION:Buckfastleigh Town Hall
CATEGORIES:Town Council Meeting
END:VEVENT
BEGIN:VEVENT
DTSTART;TZID=UTC:20190724T173000
DTEND;TZID=UTC:20190724T190000
DTSTAMP:20260419T163533
CREATED:20190701T085743Z
LAST-MODIFIED:20190701T085743Z
UID:9278-1563989400-1563994800@buckfastleigh.gov.uk
SUMMARY:Beavers Group
DESCRIPTION:BEAVERS \nHands up who has been missing Beavers? ??‍♀️??‍♂️⚜️\nWe’ve been working hard behind the scenes to plan our 4 week program leading up until the end of Summer term and we are pleased to say it’s in the bag. Thanks to all the Adult volunteers ?? \nCome and join us this Weds 5:45-6:45 pm\, St Luke’s Church Hall\, Buckfastleigh where we will start to complete our transition to a fully formed Scout Group.  \nDates: 3\,10\,17 & 24 Jul \nYou will also get the opportunity to sign up to join the Beavers Ages 5 3/4 -8yrs ? \nWe look forward to seeing you all again next Wednesday.  \n 
URL:https://buckfastleigh.gov.uk/event/beavers-group-4/
LOCATION:St Luke’s Church\, Plymouth Road\, Buckfastleigh\, TQ11 0DA
END:VEVENT
BEGIN:VEVENT
DTSTART;TZID=UTC:20190720T190000
DTEND;TZID=UTC:20190720T210000
DTSTAMP:20260419T163533
CREATED:20190708T111141Z
LAST-MODIFIED:20190708T111141Z
UID:9372-1563649200-1563656400@buckfastleigh.gov.uk
SUMMARY:Buckfast Residents Society AGM
DESCRIPTION:Election of officers and members of the committee will take place.  The AGM will be followed by cheese\, wine and an opportunity to chat informally.  There will be a raffle\, so please bring your money!  We hope to see you there. \nCommittee members are Elaine Day\, Jan Gant\, Bee Griffiths\, Nigel Moores and Tina Mitchelmore
URL:https://buckfastleigh.gov.uk/event/buckfast-residents-society-agm/
LOCATION:Buckfast Village Hall\, Buckfast Road\, Buckfast\, United Kingdom
END:VEVENT
BEGIN:VEVENT
DTSTART;TZID=UTC:20190718T180000
DTEND;TZID=UTC:20190718T200000
DTSTAMP:20260419T163533
CREATED:20190701T090259Z
LAST-MODIFIED:20190701T090259Z
UID:9285-1563472800-1563480000@buckfastleigh.gov.uk
SUMMARY:Cubs Group
DESCRIPTION:CUBS \nHands up who has been missing Cubs? ??‍♀️??‍♂️⚜️\nWe’ve been working hard behind the scenes to plan our 4 week program leading up until the end of Summer term and we are pleased to say it’s in the bag. Thanks to all the Adult volunteers ?? \nCome and join us on Thursdays (yes we’ve changed the day ?) 6:15-7:45pm\, St Luke’s Church Hall\, Buckfastleigh where we will start to complete our transition to a fully formed Scout Group.  \nDates: 4\,11\,18 & 25 Jul \nYou will also get the opportunity to sign up to join the Cubs Ages 8-10 ½ yrs ?
URL:https://buckfastleigh.gov.uk/event/cubs-group-3/
LOCATION:St Luke’s Church\, Plymouth Road\, Buckfastleigh\, TQ11 0DA
END:VEVENT
BEGIN:VEVENT
DTSTART;TZID=UTC:20190717T173000
DTEND;TZID=UTC:20190717T190000
DTSTAMP:20260419T163533
CREATED:20190701T085621Z
LAST-MODIFIED:20190701T085621Z
UID:9276-1563384600-1563390000@buckfastleigh.gov.uk
SUMMARY:Beavers Group
DESCRIPTION:BEAVERS \nHands up who has been missing Beavers? ??‍♀️??‍♂️⚜️\nWe’ve been working hard behind the scenes to plan our 4 week program leading up until the end of Summer term and we are pleased to say it’s in the bag. Thanks to all the Adult volunteers ?? \nCome and join us this Weds 5:45-6:45 pm\, St Luke’s Church Hall\, Buckfastleigh where we will start to complete our transition to a fully formed Scout Group.  \nDates: 3\,10\,17 & 24 Jul \nYou will also get the opportunity to sign up to join the Beavers Ages 5 3/4 -8yrs ? \nWe look forward to seeing you all again next Wednesday.  \n 
URL:https://buckfastleigh.gov.uk/event/beavers-group-3/
LOCATION:St Luke’s Church\, Plymouth Road\, Buckfastleigh\, TQ11 0DA
END:VEVENT
BEGIN:VEVENT
DTSTART;TZID=UTC:20190717T100000
DTEND;TZID=UTC:20190717T120000
DTSTAMP:20260419T163533
CREATED:20190709T090241Z
LAST-MODIFIED:20190709T091028Z
UID:9383-1563357600-1563364800@buckfastleigh.gov.uk
SUMMARY:Walking for Health
DESCRIPTION:Walking for Health offers free easy guided walks in a variety of locations.  All walks start from Woodholme car park.  Meet there at 9.45 am for a 10 am start and car share. \nToday’s walk goes to Dr. Blackall’s Drive above the Dart valley on Dartmoor.  Contact Val Hoare:  01803 866133 / 07792 802307.  More information about Walking for Health is here. \n 
URL:https://buckfastleigh.gov.uk/event/walking-for-health-13/
LOCATION:victoria woodholme car park\, Plymouth Road\, Buckfastleigh\, TQ11 0BD
CATEGORIES:Walking for Health
END:VEVENT
BEGIN:VEVENT
DTSTART;VALUE=DATE:20190714
DTEND;VALUE=DATE:20190715
DTSTAMP:20260419T163533
CREATED:20190605T123652Z
LAST-MODIFIED:20190605T123858Z
UID:9199-1563062400-1563148799@buckfastleigh.gov.uk
SUMMARY:Upstream/Downstream - Flooding & The Future
DESCRIPTION:A day to explore the effects of flooding and how we can manage flood water naturally…\nIn conjunction with the Environment Agency project to explore natural floodwater management in Dartmoor\, join Plymouth University academic Tom Murphy and the Buckfastleigh flood action group on the 14th July for an open day to look at the effects of flooding and how these can be alleviated naturally. \nThe day will start in Buckfastleigh with a brief introduction on the climate changes expected for Dartmoor\, followed by a walk through the town for a tour of the impacts of the November 2012 floods. The walk will involve first hand accounts of the flooding impacts\, hearing from current residents about how these experiences and memories changed and continue to affect their lives. \nAfter this\, a lunchtime picnic on the Moor will be followed by a walk near Buckfastleigh and Dean Moor\, the headwaters of the Dean Burn and Mardle rivers.  We will talk about the potential for upstream natural land management to reduce flood risk to downstream communities. The walk will be an opportunity to hear the opinions from local landowners and farmers on this strategy\, discuss the challenges they face and their future land management aspirations. \nThe day is an opportunity for both upland and downstream communities to tell their story and come together to discuss natural flood management options for the prevention of flood risk.
URL:https://buckfastleigh.gov.uk/event/upstream-downstream-flooding-the-future/
LOCATION:Buckfastleigh Town Hall
END:VEVENT
BEGIN:VEVENT
DTSTART;TZID=UTC:20190711T180000
DTEND;TZID=UTC:20190711T200000
DTSTAMP:20260419T163533
CREATED:20190701T090057Z
LAST-MODIFIED:20190701T090135Z
UID:9282-1562868000-1562875200@buckfastleigh.gov.uk
SUMMARY:Cubs Group
DESCRIPTION:CUBS \nHands up who has been missing Cubs? ??‍♀️??‍♂️⚜️\nWe’ve been working hard behind the scenes to plan our 4 week program leading up until the end of Summer term and we are pleased to say it’s in the bag. Thanks to all the Adult volunteers ?? \nCome and join us on Thursdays (yes we’ve changed the day ?) 6:15-7:45pm\, St Luke’s Church Hall\, Buckfastleigh where we will start to complete our transition to a fully formed Scout Group.  \nDates: 4\,11\,18 & 25 Jul \nYou will also get the opportunity to sign up to join the Cubs Ages 8-10 ½ yrs ?
URL:https://buckfastleigh.gov.uk/event/cubs-group-2/
LOCATION:St Luke’s Church\, Plymouth Road\, Buckfastleigh\, TQ11 0DA
END:VEVENT
BEGIN:VEVENT
DTSTART;TZID=UTC:20190710T193000
DTEND;TZID=UTC:20190710T210000
DTSTAMP:20260419T163533
CREATED:20190226T124803Z
LAST-MODIFIED:20190912T170023Z
UID:8632-1562787000-1562792400@buckfastleigh.gov.uk
SUMMARY:Council Matters Meeting
DESCRIPTION:Agenda  (Published 5 working days before the meeting)\nMinutes  (available after approval at next meeting)
URL:https://buckfastleigh.gov.uk/event/council-matters-meeting/
LOCATION:Buckfastleigh Town Hall
CATEGORIES:Town Council Meeting
END:VEVENT
BEGIN:VEVENT
DTSTART;TZID=UTC:20190710T173000
DTEND;TZID=UTC:20190710T190000
DTSTAMP:20260419T163533
CREATED:20190701T085410Z
LAST-MODIFIED:20190701T085410Z
UID:9274-1562779800-1562785200@buckfastleigh.gov.uk
SUMMARY:Beavers Group
DESCRIPTION:BEAVERS \nHands up who has been missing Beavers? ??‍♀️??‍♂️⚜️\nWe’ve been working hard behind the scenes to plan our 4 week program leading up until the end of Summer term and we are pleased to say it’s in the bag. Thanks to all the Adult volunteers ?? \nCome and join us on Weds 5:45-6:45 pm\, St Luke’s Church Hall\, Buckfastleigh where we will start to complete our transition to a fully formed Scout Group.  \nDates: 3\,10\,17 & 24 Jul \nYou will also get the opportunity to sign up to join the Beavers Ages 5 3/4 -8yrs ? \nWe look forward to seeing you all again next Wednesday.  \n 
URL:https://buckfastleigh.gov.uk/event/beavers-group-2/
LOCATION:St Luke’s Church\, Plymouth Road\, Buckfastleigh\, TQ11 0DA
END:VEVENT
BEGIN:VEVENT
DTSTART;TZID=UTC:20190709T103000
DTEND;TZID=UTC:20190709T123000
DTSTAMP:20260419T163533
CREATED:20190709T092740Z
LAST-MODIFIED:20190709T092740Z
UID:9399-1562668200-1562675400@buckfastleigh.gov.uk
SUMMARY:Walking for Health
DESCRIPTION:Walking for Health offers free easy guided walks in a variety of locations.  All walks start from Woodholme car park.  Meet there at 9.45 am for a 10 am start and car share. \nToday’s walk goes to Lukesland Gardens in the Erme Valley on Dartmoor.   Note later start time for this walk.  Contact Val Hoare:  01803 866133 / 07792 802307.  More information about Walking for Health is here.
URL:https://buckfastleigh.gov.uk/event/walking-for-health-20/
LOCATION:victoria woodholme car park\, Plymouth Road\, Buckfastleigh\, TQ11 0BD
CATEGORIES:Walking for Health
END:VEVENT
BEGIN:VEVENT
DTSTART;TZID=UTC:20190704T180000
DTEND;TZID=UTC:20190704T200000
DTSTAMP:20260419T163533
CREATED:20190701T085935Z
LAST-MODIFIED:20190701T085935Z
UID:9280-1562263200-1562270400@buckfastleigh.gov.uk
SUMMARY:Cubs Group
DESCRIPTION:CUBS \nHands up who has been missing Cubs? ??‍♀️??‍♂️⚜️\nWe’ve been working hard behind the scenes to plan our 4 week program leading up until the end of Summer term and we are pleased to say it’s in the bag. Thanks to all the Adult volunteers ?? \nCome and join us this Thursday (yes we’ve changed the day ?) 6:15-7:45pm\, St Luke’s Church Hall\, Buckfastleigh where we will start to complete our transition to a fully formed Scout Group.  \nDates: 4\,11\,18 & 25 Jul \nSUBs will be payable for this period\, £5 per person\, in total.  \nYou will also get the opportunity to sign up to join the Cubs Ages 8-10 ½ yrs ?
URL:https://buckfastleigh.gov.uk/event/cubs-group/
LOCATION:St Luke’s Church\, Plymouth Road\, Buckfastleigh\, TQ11 0DA
END:VEVENT
BEGIN:VEVENT
DTSTART;TZID=UTC:20190703T193000
DTEND;TZID=UTC:20190703T210000
DTSTAMP:20260419T163533
CREATED:20190226T124621Z
LAST-MODIFIED:20190905T142334Z
UID:8630-1562182200-1562187600@buckfastleigh.gov.uk
SUMMARY:Buckfastleigh Matters Meeting
DESCRIPTION:Agenda (Published 5 working days before the meeting)\nMinutes  (available after approval at next meeting)
URL:https://buckfastleigh.gov.uk/event/buckfastleigh-matters-meeting/
LOCATION:Buckfastleigh Town Hall
CATEGORIES:Town Council Meeting
END:VEVENT
BEGIN:VEVENT
DTSTART;TZID=UTC:20190703T173000
DTEND;TZID=UTC:20190703T190000
DTSTAMP:20260419T163533
CREATED:20190701T084554Z
LAST-MODIFIED:20190701T084554Z
UID:9272-1562175000-1562180400@buckfastleigh.gov.uk
SUMMARY:Beavers Group
DESCRIPTION:BEAVERS \nHands up who has been missing Beavers? ??‍♀️??‍♂️⚜️\nWe’ve been working hard behind the scenes to plan our 4 week program leading up until the end of Summer term and we are pleased to say it’s in the bag. Thanks to all the adult volunteers ?? \nCome and join us on Wednesday 3 July\, 5:45-6:45 pm\, St Luke’s Church Hall\, Buckfastleigh where we will start to complete our transition to a fully formed Scout Group.  \nDates: 3\,10\,17 & 24 Jul \nSUBs will be payable for this period\, £5 per person\, in total.  \nYou will also get the opportunity to sign up to join the Beavers Ages 5 3/4 -8yrs ? \nWe look forward to seeing you all again on Wednesday.  \n 
URL:https://buckfastleigh.gov.uk/event/beavers-group/
LOCATION:St Luke’s Church\, Plymouth Road\, Buckfastleigh\, TQ11 0DA
END:VEVENT
BEGIN:VEVENT
DTSTART;TZID=UTC:20190703T100000
DTEND;TZID=UTC:20190703T123000
DTSTAMP:20260419T163533
CREATED:20190328T115645Z
LAST-MODIFIED:20190328T115645Z
UID:8789-1562148000-1562157000@buckfastleigh.gov.uk
SUMMARY:Walking for Health
DESCRIPTION:Walking for Health offers free easy guided walks in a variety of locations.  All walks start from Woodholme car park.  Meet there at 9.45 am for a 10 am start and car share. \nToday’s walk goes to Buckland Beacon on Dartmoor.  Contact Val Hoare:  01803 866133 / 07792 802307.  More information about Walking for Health is here. \n 
URL:https://buckfastleigh.gov.uk/event/walking-for-health-12/
LOCATION:victoria woodholme car park\, Plymouth Road\, Buckfastleigh\, TQ11 0BD
CATEGORIES:Walking for Health
END:VEVENT
BEGIN:VEVENT
DTSTART;TZID=UTC:20190630T140000
DTEND;TZID=UTC:20190630T170000
DTSTAMP:20260419T163533
CREATED:20190117T102844Z
LAST-MODIFIED:20190123T093914Z
UID:8464-1561903200-1561914000@buckfastleigh.gov.uk
SUMMARY:Orchard Millennium Green Fun Day
DESCRIPTION:Includes a variety of stalls\, games\, activities\, BBQ\, music\, performances\, and our famous Duck Race along the River Mardle 
URL:https://buckfastleigh.gov.uk/event/fun-day/
LOCATION:Orchard Millennium Green\, Station road\, Buckfastleigh\, Devon\, United Kingdom
END:VEVENT
END:VCALENDAR