BEGIN:VCALENDAR
VERSION:2.0
PRODID:-//Buckfastleigh Town Council - ECPv6.15.20//NONSGML v1.0//EN
CALSCALE:GREGORIAN
METHOD:PUBLISH
X-WR-CALNAME:Buckfastleigh Town Council
X-ORIGINAL-URL:https://buckfastleigh.gov.uk
X-WR-CALDESC:Events for Buckfastleigh Town Council
REFRESH-INTERVAL;VALUE=DURATION:PT1H
X-Robots-Tag:noindex
X-PUBLISHED-TTL:PT1H
BEGIN:VTIMEZONE
TZID:UTC
BEGIN:STANDARD
TZOFFSETFROM:+0000
TZOFFSETTO:+0000
TZNAME:UTC
DTSTART:20180101T000000
END:STANDARD
END:VTIMEZONE
BEGIN:VEVENT
DTSTART;VALUE=DATE:20190714
DTEND;VALUE=DATE:20190715
DTSTAMP:20260419T194831
CREATED:20190605T123652Z
LAST-MODIFIED:20190605T123858Z
UID:9199-1563062400-1563148799@buckfastleigh.gov.uk
SUMMARY:Upstream/Downstream - Flooding & The Future
DESCRIPTION:A day to explore the effects of flooding and how we can manage flood water naturally…\nIn conjunction with the Environment Agency project to explore natural floodwater management in Dartmoor\, join Plymouth University academic Tom Murphy and the Buckfastleigh flood action group on the 14th July for an open day to look at the effects of flooding and how these can be alleviated naturally. \nThe day will start in Buckfastleigh with a brief introduction on the climate changes expected for Dartmoor\, followed by a walk through the town for a tour of the impacts of the November 2012 floods. The walk will involve first hand accounts of the flooding impacts\, hearing from current residents about how these experiences and memories changed and continue to affect their lives. \nAfter this\, a lunchtime picnic on the Moor will be followed by a walk near Buckfastleigh and Dean Moor\, the headwaters of the Dean Burn and Mardle rivers.  We will talk about the potential for upstream natural land management to reduce flood risk to downstream communities. The walk will be an opportunity to hear the opinions from local landowners and farmers on this strategy\, discuss the challenges they face and their future land management aspirations. \nThe day is an opportunity for both upland and downstream communities to tell their story and come together to discuss natural flood management options for the prevention of flood risk.
URL:https://buckfastleigh.gov.uk/event/upstream-downstream-flooding-the-future/
LOCATION:Buckfastleigh Town Hall
END:VEVENT
BEGIN:VEVENT
DTSTART;TZID=UTC:20190711T180000
DTEND;TZID=UTC:20190711T200000
DTSTAMP:20260419T194831
CREATED:20190701T090057Z
LAST-MODIFIED:20190701T090135Z
UID:9282-1562868000-1562875200@buckfastleigh.gov.uk
SUMMARY:Cubs Group
DESCRIPTION:CUBS \nHands up who has been missing Cubs? ??‍♀️??‍♂️⚜️\nWe’ve been working hard behind the scenes to plan our 4 week program leading up until the end of Summer term and we are pleased to say it’s in the bag. Thanks to all the Adult volunteers ?? \nCome and join us on Thursdays (yes we’ve changed the day ?) 6:15-7:45pm\, St Luke’s Church Hall\, Buckfastleigh where we will start to complete our transition to a fully formed Scout Group.  \nDates: 4\,11\,18 & 25 Jul \nYou will also get the opportunity to sign up to join the Cubs Ages 8-10 ½ yrs ?
URL:https://buckfastleigh.gov.uk/event/cubs-group-2/
LOCATION:St Luke’s Church\, Plymouth Road\, Buckfastleigh\, TQ11 0DA
END:VEVENT
BEGIN:VEVENT
DTSTART;TZID=UTC:20190710T193000
DTEND;TZID=UTC:20190710T210000
DTSTAMP:20260419T194831
CREATED:20190226T124803Z
LAST-MODIFIED:20190912T170023Z
UID:8632-1562787000-1562792400@buckfastleigh.gov.uk
SUMMARY:Council Matters Meeting
DESCRIPTION:Agenda  (Published 5 working days before the meeting)\nMinutes  (available after approval at next meeting)
URL:https://buckfastleigh.gov.uk/event/council-matters-meeting/
LOCATION:Buckfastleigh Town Hall
CATEGORIES:Town Council Meeting
END:VEVENT
BEGIN:VEVENT
DTSTART;TZID=UTC:20190710T173000
DTEND;TZID=UTC:20190710T190000
DTSTAMP:20260419T194831
CREATED:20190701T085410Z
LAST-MODIFIED:20190701T085410Z
UID:9274-1562779800-1562785200@buckfastleigh.gov.uk
SUMMARY:Beavers Group
DESCRIPTION:BEAVERS \nHands up who has been missing Beavers? ??‍♀️??‍♂️⚜️\nWe’ve been working hard behind the scenes to plan our 4 week program leading up until the end of Summer term and we are pleased to say it’s in the bag. Thanks to all the Adult volunteers ?? \nCome and join us on Weds 5:45-6:45 pm\, St Luke’s Church Hall\, Buckfastleigh where we will start to complete our transition to a fully formed Scout Group.  \nDates: 3\,10\,17 & 24 Jul \nYou will also get the opportunity to sign up to join the Beavers Ages 5 3/4 -8yrs ? \nWe look forward to seeing you all again next Wednesday.  \n 
URL:https://buckfastleigh.gov.uk/event/beavers-group-2/
LOCATION:St Luke’s Church\, Plymouth Road\, Buckfastleigh\, TQ11 0DA
END:VEVENT
BEGIN:VEVENT
DTSTART;TZID=UTC:20190709T103000
DTEND;TZID=UTC:20190709T123000
DTSTAMP:20260419T194831
CREATED:20190709T092740Z
LAST-MODIFIED:20190709T092740Z
UID:9399-1562668200-1562675400@buckfastleigh.gov.uk
SUMMARY:Walking for Health
DESCRIPTION:Walking for Health offers free easy guided walks in a variety of locations.  All walks start from Woodholme car park.  Meet there at 9.45 am for a 10 am start and car share. \nToday’s walk goes to Lukesland Gardens in the Erme Valley on Dartmoor.   Note later start time for this walk.  Contact Val Hoare:  01803 866133 / 07792 802307.  More information about Walking for Health is here.
URL:https://buckfastleigh.gov.uk/event/walking-for-health-20/
LOCATION:victoria woodholme car park\, Plymouth Road\, Buckfastleigh\, TQ11 0BD
CATEGORIES:Walking for Health
END:VEVENT
BEGIN:VEVENT
DTSTART;TZID=UTC:20190704T180000
DTEND;TZID=UTC:20190704T200000
DTSTAMP:20260419T194831
CREATED:20190701T085935Z
LAST-MODIFIED:20190701T085935Z
UID:9280-1562263200-1562270400@buckfastleigh.gov.uk
SUMMARY:Cubs Group
DESCRIPTION:CUBS \nHands up who has been missing Cubs? ??‍♀️??‍♂️⚜️\nWe’ve been working hard behind the scenes to plan our 4 week program leading up until the end of Summer term and we are pleased to say it’s in the bag. Thanks to all the Adult volunteers ?? \nCome and join us this Thursday (yes we’ve changed the day ?) 6:15-7:45pm\, St Luke’s Church Hall\, Buckfastleigh where we will start to complete our transition to a fully formed Scout Group.  \nDates: 4\,11\,18 & 25 Jul \nSUBs will be payable for this period\, £5 per person\, in total.  \nYou will also get the opportunity to sign up to join the Cubs Ages 8-10 ½ yrs ?
URL:https://buckfastleigh.gov.uk/event/cubs-group/
LOCATION:St Luke’s Church\, Plymouth Road\, Buckfastleigh\, TQ11 0DA
END:VEVENT
BEGIN:VEVENT
DTSTART;TZID=UTC:20190703T193000
DTEND;TZID=UTC:20190703T210000
DTSTAMP:20260419T194831
CREATED:20190226T124621Z
LAST-MODIFIED:20190905T142334Z
UID:8630-1562182200-1562187600@buckfastleigh.gov.uk
SUMMARY:Buckfastleigh Matters Meeting
DESCRIPTION:Agenda (Published 5 working days before the meeting)\nMinutes  (available after approval at next meeting)
URL:https://buckfastleigh.gov.uk/event/buckfastleigh-matters-meeting/
LOCATION:Buckfastleigh Town Hall
CATEGORIES:Town Council Meeting
END:VEVENT
BEGIN:VEVENT
DTSTART;TZID=UTC:20190703T173000
DTEND;TZID=UTC:20190703T190000
DTSTAMP:20260419T194831
CREATED:20190701T084554Z
LAST-MODIFIED:20190701T084554Z
UID:9272-1562175000-1562180400@buckfastleigh.gov.uk
SUMMARY:Beavers Group
DESCRIPTION:BEAVERS \nHands up who has been missing Beavers? ??‍♀️??‍♂️⚜️\nWe’ve been working hard behind the scenes to plan our 4 week program leading up until the end of Summer term and we are pleased to say it’s in the bag. Thanks to all the adult volunteers ?? \nCome and join us on Wednesday 3 July\, 5:45-6:45 pm\, St Luke’s Church Hall\, Buckfastleigh where we will start to complete our transition to a fully formed Scout Group.  \nDates: 3\,10\,17 & 24 Jul \nSUBs will be payable for this period\, £5 per person\, in total.  \nYou will also get the opportunity to sign up to join the Beavers Ages 5 3/4 -8yrs ? \nWe look forward to seeing you all again on Wednesday.  \n 
URL:https://buckfastleigh.gov.uk/event/beavers-group/
LOCATION:St Luke’s Church\, Plymouth Road\, Buckfastleigh\, TQ11 0DA
END:VEVENT
BEGIN:VEVENT
DTSTART;TZID=UTC:20190703T100000
DTEND;TZID=UTC:20190703T123000
DTSTAMP:20260419T194831
CREATED:20190328T115645Z
LAST-MODIFIED:20190328T115645Z
UID:8789-1562148000-1562157000@buckfastleigh.gov.uk
SUMMARY:Walking for Health
DESCRIPTION:Walking for Health offers free easy guided walks in a variety of locations.  All walks start from Woodholme car park.  Meet there at 9.45 am for a 10 am start and car share. \nToday’s walk goes to Buckland Beacon on Dartmoor.  Contact Val Hoare:  01803 866133 / 07792 802307.  More information about Walking for Health is here. \n 
URL:https://buckfastleigh.gov.uk/event/walking-for-health-12/
LOCATION:victoria woodholme car park\, Plymouth Road\, Buckfastleigh\, TQ11 0BD
CATEGORIES:Walking for Health
END:VEVENT
BEGIN:VEVENT
DTSTART;TZID=UTC:20190630T140000
DTEND;TZID=UTC:20190630T170000
DTSTAMP:20260419T194831
CREATED:20190117T102844Z
LAST-MODIFIED:20190123T093914Z
UID:8464-1561903200-1561914000@buckfastleigh.gov.uk
SUMMARY:Orchard Millennium Green Fun Day
DESCRIPTION:Includes a variety of stalls\, games\, activities\, BBQ\, music\, performances\, and our famous Duck Race along the River Mardle 
URL:https://buckfastleigh.gov.uk/event/fun-day/
LOCATION:Orchard Millennium Green\, Station road\, Buckfastleigh\, Devon\, United Kingdom
END:VEVENT
BEGIN:VEVENT
DTSTART;TZID=UTC:20190628T190000
DTEND;TZID=UTC:20190628T213000
DTSTAMP:20260419T194831
CREATED:20190620T101205Z
LAST-MODIFIED:20190620T101205Z
UID:9246-1561748400-1561757400@buckfastleigh.gov.uk
SUMMARY:Climate Emergency Meeting
DESCRIPTION:
URL:https://buckfastleigh.gov.uk/event/climate-emergency-meeting/
LOCATION:Buckfastleigh Town Hall
END:VEVENT
BEGIN:VEVENT
DTSTART;TZID=UTC:20190626T193000
DTEND;TZID=UTC:20190626T210000
DTSTAMP:20260419T194831
CREATED:20190114T121345Z
LAST-MODIFIED:20190725T102417Z
UID:8447-1561577400-1561582800@buckfastleigh.gov.uk
SUMMARY:Town Council Meeting
DESCRIPTION:Agenda (Published 5 working days before the meeting)\nMinutes  (available after approval at next meeting)
URL:https://buckfastleigh.gov.uk/event/finance-committee-meeting-8/
LOCATION:Buckfastleigh Town Hall
CATEGORIES:Town Council Meeting
END:VEVENT
BEGIN:VEVENT
DTSTART;TZID=UTC:20190625T190000
DTEND;TZID=UTC:20190625T210000
DTSTAMP:20260419T194831
CREATED:20190625T115137Z
LAST-MODIFIED:20190625T115137Z
UID:9263-1561489200-1561496400@buckfastleigh.gov.uk
SUMMARY:Traders Meeting
DESCRIPTION:
URL:https://buckfastleigh.gov.uk/event/traders-meeting-3/
LOCATION:Buckfastleigh Town Hall
END:VEVENT
BEGIN:VEVENT
DTSTART;TZID=UTC:20190623T140000
DTEND;TZID=UTC:20190623T170000
DTSTAMP:20260419T194831
CREATED:20190604T095241Z
LAST-MODIFIED:20190604T095241Z
UID:9178-1561298400-1561309200@buckfastleigh.gov.uk
SUMMARY:Buckfastleigh Makers Meeting
DESCRIPTION:
URL:https://buckfastleigh.gov.uk/event/buckfastleigh-makers-meeting/
LOCATION:The Courtyard\, Longwood Court\, Fore Street\, Buckfastleigh\, The Courtyard\, Longwood Court\, Fore Street\, Buckfastleigh
END:VEVENT
BEGIN:VEVENT
DTSTART;TZID=UTC:20190622T193000
DTEND;TZID=UTC:20190622T220000
DTSTAMP:20260419T194831
CREATED:20190606T143817Z
LAST-MODIFIED:20190620T095111Z
UID:9210-1561231800-1561240800@buckfastleigh.gov.uk
SUMMARY:A Star is Born - Buckfastleigh Cinema
DESCRIPTION:Buckfastleigh Cinema presents A Star is Born with Lady Gaga and Bradley Cooper.  (15) \nLicensed bar serving cocktails\, mocktails\, wine\, beer\, popcorn\, ice cream and nibbles. \nDoors open 7.30 pm; film at 8.30 pm.   \nTickets on the door.
URL:https://buckfastleigh.gov.uk/event/a-star-is-born-buckfastleigh-cinema/
LOCATION:Buckfastleigh Town Hall
END:VEVENT
BEGIN:VEVENT
DTSTART;TZID=UTC:20190619T100000
DTEND;TZID=UTC:20190619T123000
DTSTAMP:20260419T194831
CREATED:20190328T115500Z
LAST-MODIFIED:20190328T115521Z
UID:8786-1560938400-1560947400@buckfastleigh.gov.uk
SUMMARY:Walking for Health
DESCRIPTION:Walking for Health offers free easy guided walks in a variety of locations.  All walks start from Woodholme car park.  Meet there at 9.45 am for a 10 am start and car share. \nToday’s walk goes from Venford Reservoir to Bench Tor.  Contact Val Hoare:  01803 866133 / 07792 802307.  More information about Walking for Health is here. \n 
URL:https://buckfastleigh.gov.uk/event/walking-for-health-11/
LOCATION:victoria woodholme car park\, Plymouth Road\, Buckfastleigh\, TQ11 0BD
CATEGORIES:Walking for Health
END:VEVENT
BEGIN:VEVENT
DTSTART;TZID=UTC:20190612T193000
DTEND;TZID=UTC:20190612T210000
DTSTAMP:20260419T194831
CREATED:20190114T121220Z
LAST-MODIFIED:20190710T203112Z
UID:8445-1560367800-1560373200@buckfastleigh.gov.uk
SUMMARY:Council Matters Meeting
DESCRIPTION:Agenda  (Published 5 working days before the meeting)\nMinutes  (available after approval at next meeting)
URL:https://buckfastleigh.gov.uk/event/town-council-meeting-38/
LOCATION:Buckfastleigh Town Hall
CATEGORIES:Town Council Meeting
END:VEVENT
BEGIN:VEVENT
DTSTART;TZID=UTC:20190612T173000
DTEND;TZID=UTC:20190612T200000
DTSTAMP:20260419T194831
CREATED:20190513T160100Z
LAST-MODIFIED:20190513T160100Z
UID:8950-1560360600-1560369600@buckfastleigh.gov.uk
SUMMARY:Free taster session for the Scout Group
DESCRIPTION:Beavers 5:45 – 6:45pm \nCubs 7 – 8pm
URL:https://buckfastleigh.gov.uk/event/free-taster-session-for-the-scout-group-4/
LOCATION:St Luke’s Church\, Plymouth Road\, Buckfastleigh\, TQ11 0DA
END:VEVENT
BEGIN:VEVENT
DTSTART;TZID=UTC:20190610T193000
DTEND;TZID=UTC:20190610T203000
DTSTAMP:20260419T194831
CREATED:20190517T144332Z
LAST-MODIFIED:20190517T144332Z
UID:9127-1560195000-1560198600@buckfastleigh.gov.uk
SUMMARY:Buckfast Village Hall Public Meeting
DESCRIPTION:To vote on the surrender of the existing lease of Buckfast Village Hall – come and have your say and vote if you are a resident in Buckfastleigh and Buckfast.
URL:https://buckfastleigh.gov.uk/event/buckfast-village-hall-public-meeting/
LOCATION:Buckfast Village Hall\, Buckfast Road\, Buckfast\, United Kingdom
END:VEVENT
BEGIN:VEVENT
DTSTART;TZID=UTC:20190607T180000
DTEND;TZID=UTC:20190607T203000
DTSTAMP:20260419T194831
CREATED:20190212T122759Z
LAST-MODIFIED:20190212T123122Z
UID:8586-1559930400-1559939400@buckfastleigh.gov.uk
SUMMARY:Buckfastleigh SOUP
DESCRIPTION:Following the tasty success of the first ever Buckfastleigh SOUP community fundraising event  in October 2018\, Buckfastleigh Town Council and Teignbridge CVS have organised the next event to support small groups and individuals with new community ideas. \nLocal people come together\, donate for a bowl of soup and two tokens to vote\, and listen to four local individuals or small groups pitch their project idea.  \nPitchers each have the floor for up to five minutes and must rely on their passion\, creativity and speaking abilities to win over the audience – no giveaways or PowerPoint. \nWith the presentations over\, soup is served – time to think\, chat with others\, and mull over the ideas before choosing your favourites. \nThe winning pitches each get to take home between them the money taken at the door and their share of local donations. They get to use it to fund their plans\, with the promise they will come back to report on their progress at the next SOUP event. \nThis time we will have a rolling registration for those wishing to pitch – remember you do not need to have a constitution to pitch just a great idea benefitting the community!  \nThose wishing to pitch should write a paragraph about their idea/project and send it to anja@teigncvs.org.uk   Please include: the name of the project; contact details (including an email address and telephone number); a brief project summary including how you will spend the money and the desired outcomes and any practical or technical help you hope to get from your community.
URL:https://buckfastleigh.gov.uk/event/buckfastleigh-soup/
LOCATION:Buckfastleigh Town Hall
END:VEVENT
BEGIN:VEVENT
DTSTART;TZID=UTC:20190605T193000
DTEND;TZID=UTC:20190605T213000
DTSTAMP:20260419T194831
CREATED:20190114T121059Z
LAST-MODIFIED:20190704T111903Z
UID:8443-1559763000-1559770200@buckfastleigh.gov.uk
SUMMARY:Extraordinary Town Council Meeting & Buckfastleigh Matters Meeting
DESCRIPTION:Extraordinary Town Council Agenda \nExtraordinary Town Council Minutes (available after approval at next meeting)\nBuckfastleigh Matters  Agenda (published 5 working days before the meeting)\nBuckfastleigh Matters Minutes  (available after approval at the next meeting)
URL:https://buckfastleigh.gov.uk/event/environment-and-transport-committee-meeting-7/
LOCATION:Buckfastleigh Town Hall
CATEGORIES:Town Council Meeting
END:VEVENT
BEGIN:VEVENT
DTSTART;TZID=UTC:20190605T173000
DTEND;TZID=UTC:20190605T200000
DTSTAMP:20260419T194831
CREATED:20190513T155934Z
LAST-MODIFIED:20190513T160000Z
UID:8948-1559755800-1559764800@buckfastleigh.gov.uk
SUMMARY:Free taster session for the Scout Group
DESCRIPTION:Beavers 5:45 – 6:45pm \nCubs 7 – 8pm
URL:https://buckfastleigh.gov.uk/event/free-taster-session-for-the-scout-group-3/
LOCATION:St Luke’s Church\, Plymouth Road\, Buckfastleigh\, TQ11 0DA
END:VEVENT
BEGIN:VEVENT
DTSTART;TZID=UTC:20190605T100000
DTEND;TZID=UTC:20190605T123000
DTSTAMP:20260419T194831
CREATED:20190328T115319Z
LAST-MODIFIED:20190328T115319Z
UID:8784-1559728800-1559737800@buckfastleigh.gov.uk
SUMMARY:Walking for Health
DESCRIPTION:Walking for Health offers free easy guided walks in a variety of locations.  All walks start from Woodholme car park.  Meet there at 9.45 am for a 10 am start and car share. \nToday’s walk goes to Yar Tor on Dartmoor for a walk above the Dart valley.  Contact Val Hoare:  01803 866133 / 07792 802307.  More information about Walking for Health is here. \n 
URL:https://buckfastleigh.gov.uk/event/walking-for-health-10/
LOCATION:victoria woodholme car park\, Plymouth Road\, Buckfastleigh\, TQ11 0BD
CATEGORIES:Walking for Health
END:VEVENT
BEGIN:VEVENT
DTSTART;TZID=UTC:20190601T070000
DTEND;TZID=UTC:20190601T080000
DTSTAMP:20260419T194831
CREATED:20190510T123130Z
LAST-MODIFIED:20190510T123319Z
UID:8933-1559372400-1559376000@buckfastleigh.gov.uk
SUMMARY:Boot Camp
DESCRIPTION:Boot Camp will run every Saturday through the summer.  You can buy a book of 12 tickets for £50 – 12 for the price of 10.  Further info:  phone 01364 642222 or email bfl.pool@yahoo.co.uk \n \n 
URL:https://buckfastleigh.gov.uk/event/boot-camp/
LOCATION:Victoria Park\, Plymouth Road\, Buckfastleigh\, United Kingdom
END:VEVENT
BEGIN:VEVENT
DTSTART;TZID=UTC:20190529T183000
DTEND;TZID=UTC:20190529T193000
DTSTAMP:20260419T194831
CREATED:20190510T122717Z
LAST-MODIFIED:20190510T123417Z
UID:8930-1559154600-1559158200@buckfastleigh.gov.uk
SUMMARY:Aqua Circuits
DESCRIPTION:Aqua Circuits will run every Wednesday through the summer.  You can buy a book of 12 tickets for £50 – 12 for the price of 10.  Further info:  phone 01364 642222 or email bfl.pool@yahoo.co.uk
URL:https://buckfastleigh.gov.uk/event/aqua-circuits/
LOCATION:Buckfastleigh Swimming Pool
END:VEVENT
BEGIN:VEVENT
DTSTART;TZID=UTC:20190528T190000
DTEND;TZID=UTC:20190528T203000
DTSTAMP:20260419T194831
CREATED:20190423T093621Z
LAST-MODIFIED:20190423T095532Z
UID:8863-1559070000-1559075400@buckfastleigh.gov.uk
SUMMARY:Traders Meeting
DESCRIPTION:An opportunity to discuss with the Town Council ways to improve business in the town.  Representatives of DCC Highways Department and TDC Car Parking Department have been invited.
URL:https://buckfastleigh.gov.uk/event/traders-meeting-2/
LOCATION:Buckfastleigh Town Hall
END:VEVENT
BEGIN:VEVENT
DTSTART;TZID=UTC:20190527T183000
DTEND;TZID=UTC:20190527T193000
DTSTAMP:20260419T194831
CREATED:20190510T121301Z
LAST-MODIFIED:20190510T123449Z
UID:8925-1558981800-1558985400@buckfastleigh.gov.uk
SUMMARY:Aquafit Exercise Class
DESCRIPTION:Aquafit will run every Monday through the summer.  You can buy a book of 12 tickets for £50 – 12 for the price of 10.  Further info:  phone 01364 642222 or email bfl.pool@yahoo.co.uk \n 
URL:https://buckfastleigh.gov.uk/event/aquafit-exercise-class/
LOCATION:Buckfastleigh Swimming Pool
END:VEVENT
BEGIN:VEVENT
DTSTART;TZID=UTC:20190526T103000
DTEND;TZID=UTC:20190526T130000
DTSTAMP:20260419T194831
CREATED:20190508T154824Z
LAST-MODIFIED:20190508T154824Z
UID:8904-1558866600-1558875600@buckfastleigh.gov.uk
SUMMARY:All Sing Sunday
DESCRIPTION:
URL:https://buckfastleigh.gov.uk/event/all-sing-sunday-4/
LOCATION:Buckfastleigh Town Hall
END:VEVENT
BEGIN:VEVENT
DTSTART;TZID=UTC:20190526T090000
DTEND;TZID=UTC:20190526T103000
DTSTAMP:20260419T194831
CREATED:20190510T114913Z
LAST-MODIFIED:20190510T115015Z
UID:8913-1558861200-1558866600@buckfastleigh.gov.uk
SUMMARY:Lido Road Trip - Meet the author of The Lido Guide
DESCRIPTION:The week-long #LidoRoadTrip to celebrate the forthcoming publication of The Lido Guide takes Emma to Buckfastleigh on Sunday 26th May. She’ll be there from 9am to 10.30am.  \nCome along for a swim\, see the book (which will be available to buy ahead of the publication date of 13th June) and talk all things lido.
URL:https://buckfastleigh.gov.uk/event/8913/
LOCATION:Buckfastleigh Swimming Pool
END:VEVENT
BEGIN:VEVENT
DTSTART;TZID=UTC:20190525T140000
DTEND;TZID=UTC:20190525T180000
DTSTAMP:20260419T194831
CREATED:20190510T120652Z
LAST-MODIFIED:20190510T124426Z
UID:8920-1558792800-1558807200@buckfastleigh.gov.uk
SUMMARY:Swimming Pool opens
DESCRIPTION:During half-term (25 May to 2 June)\, swim times are 2-6 pm in the afternoons every day.  During term times (3 June to 26 July)\, weekday afternoon swims start at 3.30 pm. \n 
URL:https://buckfastleigh.gov.uk/event/swimming-pool-opens/
LOCATION:Buckfastleigh Swimming Pool
END:VEVENT
END:VCALENDAR