BEGIN:VCALENDAR
VERSION:2.0
PRODID:-//Buckfastleigh Town Council - ECPv6.15.20//NONSGML v1.0//EN
CALSCALE:GREGORIAN
METHOD:PUBLISH
X-WR-CALNAME:Buckfastleigh Town Council
X-ORIGINAL-URL:https://buckfastleigh.gov.uk
X-WR-CALDESC:Events for Buckfastleigh Town Council
REFRESH-INTERVAL;VALUE=DURATION:PT1H
X-Robots-Tag:noindex
X-PUBLISHED-TTL:PT1H
BEGIN:VTIMEZONE
TZID:UTC
BEGIN:STANDARD
TZOFFSETFROM:+0000
TZOFFSETTO:+0000
TZNAME:UTC
DTSTART:20180101T000000
END:STANDARD
END:VTIMEZONE
BEGIN:VEVENT
DTSTART;TZID=UTC:20190605T193000
DTEND;TZID=UTC:20190605T213000
DTSTAMP:20260420T035604
CREATED:20190114T121059Z
LAST-MODIFIED:20190704T111903Z
UID:8443-1559763000-1559770200@buckfastleigh.gov.uk
SUMMARY:Extraordinary Town Council Meeting & Buckfastleigh Matters Meeting
DESCRIPTION:Extraordinary Town Council Agenda \nExtraordinary Town Council Minutes (available after approval at next meeting)\nBuckfastleigh Matters  Agenda (published 5 working days before the meeting)\nBuckfastleigh Matters Minutes  (available after approval at the next meeting)
URL:https://buckfastleigh.gov.uk/event/environment-and-transport-committee-meeting-7/
LOCATION:Buckfastleigh Town Hall
CATEGORIES:Town Council Meeting
END:VEVENT
BEGIN:VEVENT
DTSTART;TZID=UTC:20190605T173000
DTEND;TZID=UTC:20190605T200000
DTSTAMP:20260420T035604
CREATED:20190513T155934Z
LAST-MODIFIED:20190513T160000Z
UID:8948-1559755800-1559764800@buckfastleigh.gov.uk
SUMMARY:Free taster session for the Scout Group
DESCRIPTION:Beavers 5:45 – 6:45pm \nCubs 7 – 8pm
URL:https://buckfastleigh.gov.uk/event/free-taster-session-for-the-scout-group-3/
LOCATION:St Luke’s Church\, Plymouth Road\, Buckfastleigh\, TQ11 0DA
END:VEVENT
BEGIN:VEVENT
DTSTART;TZID=UTC:20190605T100000
DTEND;TZID=UTC:20190605T123000
DTSTAMP:20260420T035604
CREATED:20190328T115319Z
LAST-MODIFIED:20190328T115319Z
UID:8784-1559728800-1559737800@buckfastleigh.gov.uk
SUMMARY:Walking for Health
DESCRIPTION:Walking for Health offers free easy guided walks in a variety of locations.  All walks start from Woodholme car park.  Meet there at 9.45 am for a 10 am start and car share. \nToday’s walk goes to Yar Tor on Dartmoor for a walk above the Dart valley.  Contact Val Hoare:  01803 866133 / 07792 802307.  More information about Walking for Health is here. \n 
URL:https://buckfastleigh.gov.uk/event/walking-for-health-10/
LOCATION:victoria woodholme car park\, Plymouth Road\, Buckfastleigh\, TQ11 0BD
CATEGORIES:Walking for Health
END:VEVENT
BEGIN:VEVENT
DTSTART;TZID=UTC:20190601T070000
DTEND;TZID=UTC:20190601T080000
DTSTAMP:20260420T035604
CREATED:20190510T123130Z
LAST-MODIFIED:20190510T123319Z
UID:8933-1559372400-1559376000@buckfastleigh.gov.uk
SUMMARY:Boot Camp
DESCRIPTION:Boot Camp will run every Saturday through the summer.  You can buy a book of 12 tickets for £50 – 12 for the price of 10.  Further info:  phone 01364 642222 or email bfl.pool@yahoo.co.uk \n \n 
URL:https://buckfastleigh.gov.uk/event/boot-camp/
LOCATION:Victoria Park\, Plymouth Road\, Buckfastleigh\, United Kingdom
END:VEVENT
BEGIN:VEVENT
DTSTART;TZID=UTC:20190529T183000
DTEND;TZID=UTC:20190529T193000
DTSTAMP:20260420T035604
CREATED:20190510T122717Z
LAST-MODIFIED:20190510T123417Z
UID:8930-1559154600-1559158200@buckfastleigh.gov.uk
SUMMARY:Aqua Circuits
DESCRIPTION:Aqua Circuits will run every Wednesday through the summer.  You can buy a book of 12 tickets for £50 – 12 for the price of 10.  Further info:  phone 01364 642222 or email bfl.pool@yahoo.co.uk
URL:https://buckfastleigh.gov.uk/event/aqua-circuits/
LOCATION:Buckfastleigh Swimming Pool
END:VEVENT
BEGIN:VEVENT
DTSTART;TZID=UTC:20190528T190000
DTEND;TZID=UTC:20190528T203000
DTSTAMP:20260420T035604
CREATED:20190423T093621Z
LAST-MODIFIED:20190423T095532Z
UID:8863-1559070000-1559075400@buckfastleigh.gov.uk
SUMMARY:Traders Meeting
DESCRIPTION:An opportunity to discuss with the Town Council ways to improve business in the town.  Representatives of DCC Highways Department and TDC Car Parking Department have been invited.
URL:https://buckfastleigh.gov.uk/event/traders-meeting-2/
LOCATION:Buckfastleigh Town Hall
END:VEVENT
BEGIN:VEVENT
DTSTART;TZID=UTC:20190527T183000
DTEND;TZID=UTC:20190527T193000
DTSTAMP:20260420T035604
CREATED:20190510T121301Z
LAST-MODIFIED:20190510T123449Z
UID:8925-1558981800-1558985400@buckfastleigh.gov.uk
SUMMARY:Aquafit Exercise Class
DESCRIPTION:Aquafit will run every Monday through the summer.  You can buy a book of 12 tickets for £50 – 12 for the price of 10.  Further info:  phone 01364 642222 or email bfl.pool@yahoo.co.uk \n 
URL:https://buckfastleigh.gov.uk/event/aquafit-exercise-class/
LOCATION:Buckfastleigh Swimming Pool
END:VEVENT
BEGIN:VEVENT
DTSTART;TZID=UTC:20190526T103000
DTEND;TZID=UTC:20190526T130000
DTSTAMP:20260420T035604
CREATED:20190508T154824Z
LAST-MODIFIED:20190508T154824Z
UID:8904-1558866600-1558875600@buckfastleigh.gov.uk
SUMMARY:All Sing Sunday
DESCRIPTION:
URL:https://buckfastleigh.gov.uk/event/all-sing-sunday-4/
LOCATION:Buckfastleigh Town Hall
END:VEVENT
BEGIN:VEVENT
DTSTART;TZID=UTC:20190526T090000
DTEND;TZID=UTC:20190526T103000
DTSTAMP:20260420T035604
CREATED:20190510T114913Z
LAST-MODIFIED:20190510T115015Z
UID:8913-1558861200-1558866600@buckfastleigh.gov.uk
SUMMARY:Lido Road Trip - Meet the author of The Lido Guide
DESCRIPTION:The week-long #LidoRoadTrip to celebrate the forthcoming publication of The Lido Guide takes Emma to Buckfastleigh on Sunday 26th May. She’ll be there from 9am to 10.30am.  \nCome along for a swim\, see the book (which will be available to buy ahead of the publication date of 13th June) and talk all things lido.
URL:https://buckfastleigh.gov.uk/event/8913/
LOCATION:Buckfastleigh Swimming Pool
END:VEVENT
BEGIN:VEVENT
DTSTART;TZID=UTC:20190525T140000
DTEND;TZID=UTC:20190525T180000
DTSTAMP:20260420T035604
CREATED:20190510T120652Z
LAST-MODIFIED:20190510T124426Z
UID:8920-1558792800-1558807200@buckfastleigh.gov.uk
SUMMARY:Swimming Pool opens
DESCRIPTION:During half-term (25 May to 2 June)\, swim times are 2-6 pm in the afternoons every day.  During term times (3 June to 26 July)\, weekday afternoon swims start at 3.30 pm. \n 
URL:https://buckfastleigh.gov.uk/event/swimming-pool-opens/
LOCATION:Buckfastleigh Swimming Pool
END:VEVENT
BEGIN:VEVENT
DTSTART;TZID=UTC:20190525T103000
DTEND;TZID=UTC:20190525T160000
DTSTAMP:20260420T035604
CREATED:20190516T114631Z
LAST-MODIFIED:20190516T114631Z
UID:8974-1558780200-1558800000@buckfastleigh.gov.uk
SUMMARY:D-Day in Buckfastleigh
DESCRIPTION:  \n  \n 
URL:https://buckfastleigh.gov.uk/event/d-day-in-buckfastleigh/
LOCATION:The Valiant Soldier\, 80 Fore St\, Buckfastleigh\, TQ11 0BS
END:VEVENT
BEGIN:VEVENT
DTSTART;TZID=UTC:20190525T103000
DTEND;TZID=UTC:20190525T160000
DTSTAMP:20260420T035604
CREATED:20190502T154105Z
LAST-MODIFIED:20190517T144845Z
UID:8883-1558780200-1558800000@buckfastleigh.gov.uk
SUMMARY:D-Day Exhibition at the Valiant Soldier May to October 2019
DESCRIPTION:Official Opening Saturday 25th May \nThis year is the 75th Anniversary of the ‘D-Day’ Normandy landings so our temporary exhibition this year is about the hundreds of American G.I.s stationed here during the run up to the invasion. \nDiscover the stories about a local hero in Normandy and life in Buckfastleigh during the war. \nFree entry to local residents on the 25th May.
URL:https://buckfastleigh.gov.uk/event/d-day-exhibition-at-the-valiant-soldier-may-to-october-2019/
LOCATION:The Valiant Soldier\, 80 Fore St\, Buckfastleigh\, TQ11 0BS
END:VEVENT
BEGIN:VEVENT
DTSTART;TZID=UTC:20190524T193000
DTEND;TZID=UTC:20190524T210000
DTSTAMP:20260420T035604
CREATED:20190521T111225Z
LAST-MODIFIED:20190521T111327Z
UID:9140-1558726200-1558731600@buckfastleigh.gov.uk
SUMMARY:Climate Emergency:  First Citizens Steering Group Meeting
DESCRIPTION:In March\, Buckfastleigh passed a motion declaring a Climate Emergency and vowing to do whatever is in its power to make the town of Buckfastleigh carbon neutral by 2030. \nWe decided to set up a working group to recommend to council and carry out actions that will do three things…\n• Enable council to achieve this goal within its own activities\n• Inform\, promote\, support encourage and resource our local community to implement actions to achieve this goal\n• Promote and campaign for action and legislation at all levels of government locally\, nationally and beyond to achieve this goal. \nWe can’t do this on our own and we will need to get government on-side to have any hope of achieving it\, but by committing to the process in this proposal we can make a start and show the way. \nThis meeting is for those who are interested in being a part of this group. \nCllr. Andy Stokes\, Chair & Mayor
URL:https://buckfastleigh.gov.uk/event/climate-emergency-first-citizens-steering-group-meeting/
LOCATION:Buckfastleigh Town Hall
END:VEVENT
BEGIN:VEVENT
DTSTART;TZID=UTC:20190522T190000
DTEND;TZID=UTC:20190522T213000
DTSTAMP:20260420T035604
CREATED:20190703T153550Z
LAST-MODIFIED:20210423T114716Z
UID:9335-1558551600-1558560600@buckfastleigh.gov.uk
SUMMARY:Annual Town Meeting and Town Council Meeting
DESCRIPTION:Annual Town Agenda (Published 5 working days before the meeting)\nAnnual Town Minutes  (available after approval at next meeting)\nTown Council Agenda \nTown Council Minutes
URL:https://buckfastleigh.gov.uk/event/annual-town-meeting-and-town-council-meeting-3/
LOCATION:Buckfastleigh Town Hall – Room 3
CATEGORIES:Town Council Meeting
END:VEVENT
BEGIN:VEVENT
DTSTART;TZID=UTC:20190522T173000
DTEND;TZID=UTC:20190522T200000
DTSTAMP:20260420T035604
CREATED:20190513T155739Z
LAST-MODIFIED:20190513T155739Z
UID:8946-1558546200-1558555200@buckfastleigh.gov.uk
SUMMARY:Free taster session for the Scout Group
DESCRIPTION:Beavers 5:45 – 6:45pm \nCubs 7 – 8pm
URL:https://buckfastleigh.gov.uk/event/free-taster-session-for-the-scout-group-2/
LOCATION:St Luke’s Church\, Plymouth Road\, Buckfastleigh\, TQ11 0DA
END:VEVENT
BEGIN:VEVENT
DTSTART;TZID=UTC:20190522T100000
DTEND;TZID=UTC:20190522T123000
DTSTAMP:20260420T035604
CREATED:20190328T103957Z
LAST-MODIFIED:20190328T103957Z
UID:8781-1558519200-1558528200@buckfastleigh.gov.uk
SUMMARY:Walking for Health
DESCRIPTION:Walking for Health offers free easy guided walks in a variety of locations.  All walks start from Woodholme car park.  Meet there at 9.45 am for a 10 am start and car share. \nToday’s walk goes to Holwell Lawn to walk through the bluebells.  Contact Val Hoare:  01803 866133 / 07792 802307.  More information about Walking for Health is here. \n \n  \n 
URL:https://buckfastleigh.gov.uk/event/walking-for-health-9/
LOCATION:victoria woodholme car park\, Plymouth Road\, Buckfastleigh\, TQ11 0BD
CATEGORIES:Walking for Health
END:VEVENT
BEGIN:VEVENT
DTSTART;TZID=UTC:20190518T193000
DTEND;TZID=UTC:20190518T223000
DTSTAMP:20260420T035604
CREATED:20190510T112109Z
LAST-MODIFIED:20190510T112109Z
UID:8910-1558207800-1558218600@buckfastleigh.gov.uk
SUMMARY:Buckfastleigh Cinema - The Favourite
DESCRIPTION:
URL:https://buckfastleigh.gov.uk/event/buckfastleigh-cinema-the-favourite/
LOCATION:Buckfastleigh Town Hall
END:VEVENT
BEGIN:VEVENT
DTSTART;TZID=UTC:20190515T190000
DTEND;TZID=UTC:20190515T210000
DTSTAMP:20260420T035604
CREATED:20190114T120404Z
LAST-MODIFIED:20190701T091613Z
UID:8435-1557946800-1557954000@buckfastleigh.gov.uk
SUMMARY:Annual Town Council Meeting and Council Matters
DESCRIPTION:Annual Town Council Agenda  (Published 5 working days before the meeting)\nAnnual Town Council Minutes (available after approval at next meeting)\nCouncil Matters Agenda\nMinutes  (available after approval at next meeting)
URL:https://buckfastleigh.gov.uk/event/annual-town-council-meeting-3/
LOCATION:Buckfastleigh Town Hall
CATEGORIES:Town Council Meeting
END:VEVENT
BEGIN:VEVENT
DTSTART;TZID=UTC:20190515T173000
DTEND;TZID=UTC:20190515T200000
DTSTAMP:20260420T035604
CREATED:20190513T155615Z
LAST-MODIFIED:20190513T155823Z
UID:8943-1557941400-1557950400@buckfastleigh.gov.uk
SUMMARY:Free taster session for the Scout Group
DESCRIPTION:Beavers 5:45 – 6:45pm \nCubs 7 – 8pm
URL:https://buckfastleigh.gov.uk/event/free-taster-session-for-the-scout-group/
LOCATION:St Luke’s Church\, Plymouth Road\, Buckfastleigh\, TQ11 0DA
END:VEVENT
BEGIN:VEVENT
DTSTART;TZID=UTC:20190512T110000
DTEND;TZID=UTC:20190512T120000
DTSTAMP:20260420T035604
CREATED:20190507T114338Z
LAST-MODIFIED:20190507T114338Z
UID:8885-1557658800-1557662400@buckfastleigh.gov.uk
SUMMARY:Bootcamp Sundays 11am Buckfastleigh Rugby Club
DESCRIPTION:Fun fitness for all abilities at the Rugby Club on a Sunday morning. suitable for 14 years plus. 14 – 18 year olds get first session free.\n£5 per session.
URL:https://buckfastleigh.gov.uk/event/bootcamp-sundays-11am-buckfastleigh-rugby-club/
LOCATION:Buckfastleigh Rugby Club
END:VEVENT
BEGIN:VEVENT
DTSTART;TZID=UTC:20190508T100000
DTEND;TZID=UTC:20190508T123000
DTSTAMP:20260420T035604
CREATED:20190328T103635Z
LAST-MODIFIED:20190328T103635Z
UID:8779-1557309600-1557318600@buckfastleigh.gov.uk
SUMMARY:Walking for Health
DESCRIPTION:Walking for Health offers free easy guided walks in a variety of locations.  All walks start from Woodholme car park.  Meet there at 9.45 am for a 10 am start and car share. \nToday’s walk goes to Berry Pomeroy woods to enjoy the bluebells.  Contact Val Hoare:  01803 866133 / 07792 802307.  More information about Walking for Health is here. \n  \n 
URL:https://buckfastleigh.gov.uk/event/walking-for-health-8/
LOCATION:victoria woodholme car park\, Plymouth Road\, Buckfastleigh\, TQ11 0BD
CATEGORIES:Walking for Health
END:VEVENT
BEGIN:VEVENT
DTSTART;TZID=UTC:20190501T193000
DTEND;TZID=UTC:20190501T210000
DTSTAMP:20260420T035604
CREATED:20190114T120935Z
LAST-MODIFIED:20190417T115926Z
UID:8441-1556739000-1556744400@buckfastleigh.gov.uk
SUMMARY:Buckfastleigh Matters Meeting - Cancelled
DESCRIPTION:Due to the election on May 2nd\, this meeting has been cancelled
URL:https://buckfastleigh.gov.uk/event/environment-and-transport-committee-meeting-6/
LOCATION:Buckfastleigh Town Hall
CATEGORIES:Town Council Meeting
END:VEVENT
BEGIN:VEVENT
DTSTART;TZID=UTC:20190427T193000
DTEND;TZID=UTC:20190427T220000
DTSTAMP:20260420T035604
CREATED:20190417T113103Z
LAST-MODIFIED:20190417T114822Z
UID:8851-1556393400-1556402400@buckfastleigh.gov.uk
SUMMARY:Bohemian Rhapsody
DESCRIPTION:Buckfastleigh Community Cinema returns with this fabulous film about the life and times of Freddie Mercury\, lead singer of Queen. \nLarge screen\, cocktails and a great atmosphere
URL:https://buckfastleigh.gov.uk/event/bohemian-rhapsody/
LOCATION:Buckfastleigh Town Hall
END:VEVENT
BEGIN:VEVENT
DTSTART;TZID=UTC:20190427T130000
DTEND;TZID=UTC:20190427T170000
DTSTAMP:20260420T035604
CREATED:20190402T085748Z
LAST-MODIFIED:20190402T085941Z
UID:8809-1556370000-1556384400@buckfastleigh.gov.uk
SUMMARY:Buckfastleigh Bat Day
DESCRIPTION:
URL:https://buckfastleigh.gov.uk/event/buckfastleigh-bat-day/
LOCATION:Victoria Park\, Plymouth Road\, Buckfastleigh\, United Kingdom
ORGANIZER;CN="Buckfastleigh Town Council":MAILTO:clerk@buckfastleigh.gov.uk
END:VEVENT
BEGIN:VEVENT
DTSTART;TZID=UTC:20190426T100000
DTEND;TZID=UTC:20190426T120000
DTSTAMP:20260420T035604
CREATED:20190417T100844Z
LAST-MODIFIED:20190417T100844Z
UID:8849-1556272800-1556280000@buckfastleigh.gov.uk
SUMMARY:Celebrating 150 years of the Cooperative Society in Buckfastleigh
DESCRIPTION:Coffee morning with scones and cream – £3.00 or by donation \nThere is also a competition with entry forms available from the Coop and a raffle with prizes donated by the Coop.
URL:https://buckfastleigh.gov.uk/event/celebrating-150-years-of-the-cooperative-society-in-buckfastleigh/
LOCATION:The Valiant Soldier\, 80 Fore St\, Buckfastleigh\, TQ11 0BS
END:VEVENT
BEGIN:VEVENT
DTSTART;TZID=UTC:20190424T193000
DTEND;TZID=UTC:20190424T210000
DTSTAMP:20260420T035604
CREATED:20190114T120215Z
LAST-MODIFIED:20190524T131154Z
UID:8433-1556134200-1556139600@buckfastleigh.gov.uk
SUMMARY:Town Council Meeting
DESCRIPTION:Agenda (Published 5 working days before the meeting)\nMinutes  (available after approval at next meeting)
URL:https://buckfastleigh.gov.uk/event/finance-committee-meeting-6/
LOCATION:Buckfastleigh Town Hall
CATEGORIES:Town Council Meeting
END:VEVENT
BEGIN:VEVENT
DTSTART;TZID=UTC:20190424T100000
DTEND;TZID=UTC:20190424T123000
DTSTAMP:20260420T035604
CREATED:20190328T101226Z
LAST-MODIFIED:20190328T101649Z
UID:8773-1556100000-1556109000@buckfastleigh.gov.uk
SUMMARY:Walking for Health
DESCRIPTION:Walking for Health offers free easy guided walks in a variety of locations.  All walks start from Woodholme car park.  Meet there at 9.45 am for a 10 am start and car share. \nToday’s walk goes to Shipley Bridge to walk in the Avon valley.  Contact Val Hoare:  01803 866133 / 07792 802307.  More information about Walking for Health is here.
URL:https://buckfastleigh.gov.uk/event/walking-for-health-7/
LOCATION:victoria woodholme car park\, Plymouth Road\, Buckfastleigh\, TQ11 0BD
CATEGORIES:Walking for Health
END:VEVENT
BEGIN:VEVENT
DTSTART;TZID=UTC:20190416T190000
DTEND;TZID=UTC:20190416T210000
DTSTAMP:20260420T035604
CREATED:20190301T125309Z
LAST-MODIFIED:20190301T125309Z
UID:8659-1555441200-1555448400@buckfastleigh.gov.uk
SUMMARY:Buckfastleigh Residents Association AGM
DESCRIPTION:This meeting is open to all Teign House tenants.  Jo Reece\, Chief Executive of Teign Housing and David Luke\, Development Officer\, will be attending so if you have any questions for them\, please contact Barbara Bray on 642089
URL:https://buckfastleigh.gov.uk/event/buckfastleigh-residents-association-agm-2/
LOCATION:Buckfastleigh Town Hall
END:VEVENT
BEGIN:VEVENT
DTSTART;TZID=UTC:20190414T140000
DTEND;TZID=UTC:20190414T170000
DTSTAMP:20260420T035604
CREATED:20190325T094705Z
LAST-MODIFIED:20190325T094705Z
UID:8731-1555250400-1555261200@buckfastleigh.gov.uk
SUMMARY:Enchanted Easter
DESCRIPTION:
URL:https://buckfastleigh.gov.uk/event/enchanted-easter/
LOCATION:Buckfastleigh Town Hall
ORGANIZER;CN="Buckfastleigh Town Council":MAILTO:clerk@buckfastleigh.gov.uk
END:VEVENT
BEGIN:VEVENT
DTSTART;TZID=UTC:20190413T100000
DTEND;TZID=UTC:20190413T160000
DTSTAMP:20260420T035604
CREATED:20190326T103433Z
LAST-MODIFIED:20190326T125705Z
UID:8743-1555149600-1555171200@buckfastleigh.gov.uk
SUMMARY:Rural Skip Service
DESCRIPTION:
URL:https://buckfastleigh.gov.uk/event/rural-skip-service/
LOCATION:victoria woodholme car park\, Plymouth Road\, Buckfastleigh\, TQ11 0BD
END:VEVENT
END:VCALENDAR