BEGIN:VCALENDAR
VERSION:2.0
PRODID:-//Buckfastleigh Town Council - ECPv6.15.20//NONSGML v1.0//EN
CALSCALE:GREGORIAN
METHOD:PUBLISH
X-WR-CALNAME:Buckfastleigh Town Council
X-ORIGINAL-URL:https://buckfastleigh.gov.uk
X-WR-CALDESC:Events for Buckfastleigh Town Council
REFRESH-INTERVAL;VALUE=DURATION:PT1H
X-Robots-Tag:noindex
X-PUBLISHED-TTL:PT1H
BEGIN:VTIMEZONE
TZID:UTC
BEGIN:STANDARD
TZOFFSETFROM:+0000
TZOFFSETTO:+0000
TZNAME:UTC
DTSTART:20170101T000000
END:STANDARD
END:VTIMEZONE
BEGIN:VEVENT
DTSTART;TZID=UTC:20190314T193000
DTEND;TZID=UTC:20190314T213000
DTSTAMP:20260420T064019
CREATED:20190221T103708Z
LAST-MODIFIED:20190221T103708Z
UID:8604-1552591800-1552599000@buckfastleigh.gov.uk
SUMMARY:Groundswell - The Grassroots Battle for the NHS and Democracy
DESCRIPTION:“…an urgent\, compelling film that deserves to be seen widely.” (The Independent) \nDo you care about the NHS? Do you know what is happening to it? Do you want the NHS to be there for you and your children in the future? \nSave Our Hospital Services Devon (SOHS)\, – Torbay & South Devon invite you to join us for ‘GROUNDSWELL: The Grassroots Battle for the NHS & Democracy’ – a film that unveils the truth about the attacks on the NHS and shows how people are fighting back to keep it alive… \nFollowed by a discussion hosted with the filmmaker\, John Furse. \nThursday March 14th at 7:30pm\, Buckfastleigh Town Hall (upstairs with the award-winning Buckfastleigh Community Cinema’s full-size screen & sound system). \nRefreshments available. \nYour donations (£5 suggested) will be used to pay for costs (any surplus to SOHS campaign fund)
URL:https://buckfastleigh.gov.uk/event/groundswell-the-grassroots-battle-for-the-nhs-and-democracy/
LOCATION:Buckfastleigh Town Hall
END:VEVENT
BEGIN:VEVENT
DTSTART;TZID=UTC:20190313T193000
DTEND;TZID=UTC:20190313T210000
DTSTAMP:20260420T064019
CREATED:20190114T115301Z
LAST-MODIFIED:20190426T122553Z
UID:8423-1552505400-1552510800@buckfastleigh.gov.uk
SUMMARY:Town Council Meeting
DESCRIPTION:Agenda  (Published 5 working days before the meeting)\nKey messages\nMinutes (available after approval at next meeting)
URL:https://buckfastleigh.gov.uk/event/town-council-meeting-37/
LOCATION:Buckfastleigh Town Hall
CATEGORIES:Town Council Meeting
END:VEVENT
BEGIN:VEVENT
DTSTART;TZID=UTC:20190313T100000
DTEND;TZID=UTC:20190313T123000
DTSTAMP:20260420T064019
CREATED:20190123T114439Z
LAST-MODIFIED:20190123T114439Z
UID:8503-1552471200-1552480200@buckfastleigh.gov.uk
SUMMARY:Walking for Health
DESCRIPTION:Walking for Health offers free easy guided walks in a variety of locations.  All walks start from Woodholme car park.  Meet there at 9.45 am for a 10 am start and car share. \nToday’s walk goes from Dartington Hall to the Deer Park.  Contact Val Hoare:  01803 866133 / 07792 802307.  More information about Walking for Health is here.
URL:https://buckfastleigh.gov.uk/event/walking-for-health-4/
LOCATION:victoria woodholme car park\, Plymouth Road\, Buckfastleigh\, TQ11 0BD
CATEGORIES:Walking for Health
END:VEVENT
BEGIN:VEVENT
DTSTART;TZID=UTC:20190308T193000
DTEND;TZID=UTC:20190308T213000
DTSTAMP:20260420T064019
CREATED:20190125T120825Z
LAST-MODIFIED:20190125T120825Z
UID:8524-1552073400-1552080600@buckfastleigh.gov.uk
SUMMARY:Helen Chadwick Song Theatre presents - Truth
DESCRIPTION:Truth e-flyer Buckfastleigh \nCreated and composed by Helen Chadwick and directed/choreographed by Steven Hoggett\, Truth comes to Buckfastleigh Town Hall on Friday 8th March at 7.30pm.\nA singing workshop is also being held from 4.15pm- 5.45pm.
URL:https://buckfastleigh.gov.uk/event/helen-chadwick-song-theatre-presents-truth/
LOCATION:Buckfastleigh Town Hall – Main Hall
END:VEVENT
BEGIN:VEVENT
DTSTART;TZID=UTC:20190306T193000
DTEND;TZID=UTC:20190306T210000
DTSTAMP:20260420T064019
CREATED:20190114T114934Z
LAST-MODIFIED:20190404T123642Z
UID:8419-1551900600-1551906000@buckfastleigh.gov.uk
SUMMARY:Environment and Transport Committee Meeting
DESCRIPTION:Agenda (Published 5 working days before the meeting)\nMinutes  (available after approval at next meeting)
URL:https://buckfastleigh.gov.uk/event/environment-transport-committee-2/
LOCATION:Buckfastleigh Town Hall
CATEGORIES:Town Council Meeting
END:VEVENT
BEGIN:VEVENT
DTSTART;TZID=UTC:20190227T193000
DTEND;TZID=UTC:20190227T210000
DTSTAMP:20260420T064019
CREATED:20180925T134410Z
LAST-MODIFIED:20190328T120858Z
UID:7885-1551295800-1551301200@buckfastleigh.gov.uk
SUMMARY:Finance Committee Meeting
DESCRIPTION:Agenda  (Published 5 working days before the meeting)\n Minutes  (available after approval at next meeting)
URL:https://buckfastleigh.gov.uk/event/finance-committee-meeting-4/
LOCATION:Buckfastleigh Town Hall
CATEGORIES:Town Council Meeting
END:VEVENT
BEGIN:VEVENT
DTSTART;TZID=UTC:20190227T100000
DTEND;TZID=UTC:20190227T123000
DTSTAMP:20260420T064019
CREATED:20190123T113807Z
LAST-MODIFIED:20190123T113838Z
UID:8499-1551261600-1551270600@buckfastleigh.gov.uk
SUMMARY:Walking for Health
DESCRIPTION:Walking for Health offers free easy guided walks in a variety of locations.  All walks start from Woodholme car park.  Meet there at 9.45 am for a 10 am start and car share. \nToday’s walk goes from Huccaby Bridge to St. Raphael’s Chapel to see the snowdrops.  Contact Val Hoare:  01803 866133 / 07792 802307.  More information about Walking for Health is here.
URL:https://buckfastleigh.gov.uk/event/walking-for-health-3/
LOCATION:victoria woodholme car park\, Plymouth Road\, Buckfastleigh\, TQ11 0BD
CATEGORIES:Walking for Health
END:VEVENT
BEGIN:VEVENT
DTSTART;TZID=UTC:20190216T140000
DTEND;TZID=UTC:20190216T170000
DTSTAMP:20260420T064019
CREATED:20190206T164146Z
LAST-MODIFIED:20190211T104700Z
UID:8558-1550325600-1550336400@buckfastleigh.gov.uk
SUMMARY:Window Wanderland Workshop
DESCRIPTION:A creative workshop with Participate Arts to make art for your window display as part of Window Wanderland.  This is a magical walking trail to light up our streets which will take place on Saturday 2nd March 6.00 – 9.00pm. \nFor more information click this link: \nhttps://www.windowwanderland.com/event/buckfastleigh-2019/
URL:https://buckfastleigh.gov.uk/event/window-wanderland/
LOCATION:Buckfastleigh Town Hall
ORGANIZER;CN="Buckfastleigh Town Council":MAILTO:clerk@buckfastleigh.gov.uk
END:VEVENT
BEGIN:VEVENT
DTSTART;TZID=UTC:20190213T193000
DTEND;TZID=UTC:20190213T213000
DTSTAMP:20260420T064019
CREATED:20180925T125704Z
LAST-MODIFIED:20190314T133334Z
UID:7880-1550086200-1550093400@buckfastleigh.gov.uk
SUMMARY:Town Council Meeting
DESCRIPTION:Agenda \nMinutes  (available after approval at next meeting)
URL:https://buckfastleigh.gov.uk/event/environment-and-transport-committee-meeting-4/
LOCATION:Buckfastleigh Town Hall
CATEGORIES:Town Council Meeting
END:VEVENT
BEGIN:VEVENT
DTSTART;TZID=UTC:20190213T100000
DTEND;TZID=UTC:20190213T123000
DTSTAMP:20260420T064019
CREATED:20190117T132340Z
LAST-MODIFIED:20190123T113010Z
UID:8476-1550052000-1550061000@buckfastleigh.gov.uk
SUMMARY:Walking for Health
DESCRIPTION:Walking for Health offers free easy guided walks in a variety of locations.  All walks start from Woodholme car park.  Meet there at 9.45 am for a 10 am start. \nToday’s walk goes along the Mardle valley to Hillah woods.  Contact Val Hoare:  01803 866133 / 07792 802307.  More information about Walking for Health is here. \n \n 
URL:https://buckfastleigh.gov.uk/event/walking-for-health-2/
LOCATION:victoria woodholme car park\, Plymouth Road\, Buckfastleigh\, TQ11 0BD
CATEGORIES:Walking for Health
END:VEVENT
BEGIN:VEVENT
DTSTART;TZID=UTC:20190211T193000
DTEND;TZID=UTC:20190211T210000
DTSTAMP:20260420T064019
CREATED:20190117T102435Z
LAST-MODIFIED:20190117T102435Z
UID:8460-1549913400-1549918800@buckfastleigh.gov.uk
SUMMARY:Orchard Millennium Green AGM
DESCRIPTION:
URL:https://buckfastleigh.gov.uk/event/orchard-millennium-green-agm/
LOCATION:St Luke’s Church\, Plymouth Road\, Buckfastleigh\, TQ11 0DA
END:VEVENT
BEGIN:VEVENT
DTSTART;TZID=UTC:20190206T193000
DTEND;TZID=UTC:20190206T210000
DTSTAMP:20260420T064019
CREATED:20180924T122124Z
LAST-MODIFIED:20190307T112938Z
UID:7857-1549481400-1549486800@buckfastleigh.gov.uk
SUMMARY:Environment and Transport Committee Meeting
DESCRIPTION:Agenda (Published 5 working days before the meeting)\nMinutes  (available after approval at next meeting)
URL:https://buckfastleigh.gov.uk/event/environment-and-transport-committee-7/
LOCATION:Buckfastleigh Town Hall
CATEGORIES:Town Council Meeting
END:VEVENT
BEGIN:VEVENT
DTSTART;TZID=UTC:20190205T180000
DTEND;TZID=UTC:20190205T200000
DTSTAMP:20260420T064019
CREATED:20190117T124130Z
LAST-MODIFIED:20190117T124159Z
UID:8468-1549389600-1549396800@buckfastleigh.gov.uk
SUMMARY:Have Your Say!  Youth Consultation
DESCRIPTION:Young Devon and the Town Council invite you to give feedback about the design of Buckfastleigh’s youth strategy.  All community members and ages welcome.   \nWhat’s important to you and your family?  What’s missing for young people in our town?  What areas of work do you feel need to be focussed on to support young people? \nCome along and give us your thoughts.  If you are unable to attend\, please email any responses to ben.feasey@youngdevon.org
URL:https://buckfastleigh.gov.uk/event/have-your-say-youth-consultation/
LOCATION:Buckfastleigh Town Hall
CATEGORIES:Town Council Meeting
END:VEVENT
BEGIN:VEVENT
DTSTART;TZID=UTC:20190202T100000
DTEND;TZID=UTC:20190202T140000
DTSTAMP:20260420T064019
CREATED:20181231T113728Z
LAST-MODIFIED:20181231T113804Z
UID:8388-1549101600-1549116000@buckfastleigh.gov.uk
SUMMARY:Buckfastleigh Ice Gala 2019
DESCRIPTION:BIG4 – Swim fast\, swim slow\, swim with a hat on your head\, have fun!\nBuckfastleigh Ice Gala is upon us again.  \nSince we started in 2016 we’ve been a little haven of ice swimming for those of you who love cold water\, or just want to challenge yourselves. We invite you to join us and celebrate with 80 odd people from the community of outdoor swimmers in the South West. \nWe have four races – freestyle\, head up breaststroke\, individual medley and relays. We also have a prize for the Best Dressed – hats\, costumes or whatever funky attire takes your fancy. \nThis year the money raised will go towards the cost of a new boiler\, ensuring that our pool is able to serve summer and winter swimming for years to come. But we also invite you to raise money for your own causes; as ice swimming is challenging. In 2016\, three relay teams from Newton Abbot College raised money for their school trip to Borneo\, for example. \nThe races and fees: \nFreestyle (42m) – men’s and women’s races. £10 + eventbrite fee \nHead up Breaststroke (42m) – men’s and women’s races. £10 + eventbrite fee \nIndividual medley (84m) – men’s and women’s races. One length of each of freestyle\, breaststroke\, backstroke and butterfly. £10 + eventbrite fee \nRelays (42m each x 4) – mixed teams. At least one of each gender in a team. £25 + eventbrite fee. \nNote – the race rules require you to wear no more than a swimming costume\, goggles and hat. Wetsuits\, rash vests\, thermal tops\, bottoms etc are not allowed. But there are exceptions for wacky costumes and hats! \nMore information\nThe gala will be at Buckfastleigh Pool. Just off the A38 in south Devon. Parking is adjacent. \nThere will be hot drinks\, soup and bread. And cakes\, lots of cakes. \nWe have hot showers\, shelter and a hot tent to help you warm up afterwards. \nOnce you’ve entered we will keep you up to date on the Buckfastleigh Open Air Pool – Victoria Park page on Facebook. And we’ll email you (bcc’d) about the fine details nearer the time. \nIf you’d like more info in the meantime please email info@buckfastleighpool.co.uk \nENTRY SALES CLOSE ON 26th January 2019. \nRegistration will be open from 1000 to 1100 on the day\, please arrive in plenty of time for your swim – a schedule of races\, start times and information regarding the start procedure will be published nearer the time on the FB event page.
URL:https://buckfastleigh.gov.uk/event/buckfastleigh-ice-gala-2019/
LOCATION:Buckfastleigh Open Air Pool\, Victoria Park\, Buckfastleigh\, TQ11 0BD\, United Kingdom
END:VEVENT
BEGIN:VEVENT
DTSTART;TZID=UTC:20190202T100000
DTEND;TZID=UTC:20190202T113000
DTSTAMP:20260420T064019
CREATED:20190125T120101Z
LAST-MODIFIED:20190125T120101Z
UID:8521-1549101600-1549107000@buckfastleigh.gov.uk
SUMMARY:Shadow Puppet Workshop
DESCRIPTION:Shadow Puppet Workshop with the Clockwork Moth.\nSaturday 2nd February at Buckfastleigh Town Hall.\nAll welcome\, materials provided.\n£3 each.
URL:https://buckfastleigh.gov.uk/event/shadow-puppet-workshop/
LOCATION:Buckfastleigh Town Hall – Room 3
ORGANIZER;CN="The Clockwork Moth":MAILTO:theclockworkmoth@hotmail.com
END:VEVENT
BEGIN:VEVENT
DTSTART;TZID=UTC:20190130T193000
DTEND;TZID=UTC:20190130T213000
DTSTAMP:20260420T064019
CREATED:20180925T125459Z
LAST-MODIFIED:20190214T130827Z
UID:7876-1548876600-1548883800@buckfastleigh.gov.uk
SUMMARY:Town Council Meeting
DESCRIPTION:Agenda \nKey messages\nMinutes  (available after approval at next meeting)
URL:https://buckfastleigh.gov.uk/event/town-council-meeting-36/
LOCATION:Buckfastleigh Town Hall
CATEGORIES:Town Council Meeting
END:VEVENT
BEGIN:VEVENT
DTSTART;TZID=UTC:20190130T100000
DTEND;TZID=UTC:20190130T120000
DTSTAMP:20260420T064019
CREATED:20190117T131304Z
LAST-MODIFIED:20190123T112521Z
UID:8471-1548842400-1548849600@buckfastleigh.gov.uk
SUMMARY:Walking for Health
DESCRIPTION:Walking for Health offers free easy guided walks in a variety of locations.  All walks start from Woodholme car park.  Meet there at 9.45 am for a 10 am start and car share. \nToday’s walk goes from Staverton Station to Abham\, passing carpets of snowdrops.  Contact Val Hoare:  01803 866133 / 07792 802307.  More information about Walking for Health is here.
URL:https://buckfastleigh.gov.uk/event/walking-for-health/
LOCATION:victoria woodholme car park\, Plymouth Road\, Buckfastleigh\, TQ11 0BD
CATEGORIES:Walking for Health
END:VEVENT
BEGIN:VEVENT
DTSTART;TZID=UTC:20190129T193000
DTEND;TZID=UTC:20190129T210000
DTSTAMP:20260420T064019
CREATED:20181220T144741Z
LAST-MODIFIED:20190404T123838Z
UID:8379-1548790200-1548795600@buckfastleigh.gov.uk
SUMMARY:TRED Committee Meeting
DESCRIPTION:Agenda (Published 5 working days before the meeting)\nMinutes  (available after approval at next meeting)
URL:https://buckfastleigh.gov.uk/event/tred-committee-meeting/
LOCATION:Buckfastleigh Town Hall
CATEGORIES:Town Council Meeting
END:VEVENT
BEGIN:VEVENT
DTSTART;TZID=UTC:20190127T103000
DTEND;TZID=UTC:20190127T130000
DTSTAMP:20260420T064019
CREATED:20190117T123616Z
LAST-MODIFIED:20190117T141855Z
UID:8466-1548585000-1548594000@buckfastleigh.gov.uk
SUMMARY:All Sing Sunday
DESCRIPTION:Join us in our community sing-song-sunday morning!  All welcome\, including families with children of all ages.  Bring food to share…. and come and learn some songs to sing in harmony
URL:https://buckfastleigh.gov.uk/event/all-sing-sunday-3/
LOCATION:Buckfastleigh Town Hall
END:VEVENT
BEGIN:VEVENT
DTSTART;TZID=UTC:20190123T193000
DTEND;TZID=UTC:20190123T210000
DTSTAMP:20260420T064019
CREATED:20180925T125615Z
LAST-MODIFIED:20190122T115525Z
UID:7878-1548271800-1548277200@buckfastleigh.gov.uk
SUMMARY:Finance Committee Meeting - CANCELLED
DESCRIPTION:The Finance Committee meeting this month has been cancelled.  Relevant business will be discussed at the Full Council Meeting on Wednesday\, January 30th. \n\nAgenda  (Published 5 working days before the meeting)\nMinutes (available after approval at next meeting)
URL:https://buckfastleigh.gov.uk/event/finance-committee-meeting-3/
LOCATION:Buckfastleigh Town Hall
CATEGORIES:Town Council Meeting
END:VEVENT
BEGIN:VEVENT
DTSTART;TZID=UTC:20190102T193000
DTEND;TZID=UTC:20190102T210000
DTSTAMP:20260420T064019
CREATED:20180925T125351Z
LAST-MODIFIED:20190211T115718Z
UID:7874-1546457400-1546462800@buckfastleigh.gov.uk
SUMMARY:Environment and Transport Committee Meeting
DESCRIPTION:Agenda (Published 5 working days before the meeting)\nMinutes
URL:https://buckfastleigh.gov.uk/event/environment-and-transport-committee-meeting-3/
LOCATION:Buckfastleigh Town Hall
CATEGORIES:Town Council Meeting
END:VEVENT
BEGIN:VEVENT
DTSTART;TZID=UTC:20181215T180000
DTEND;TZID=UTC:20181215T200000
DTSTAMP:20260420T064019
CREATED:20181120T092808Z
LAST-MODIFIED:20181120T093030Z
UID:8239-1544896800-1544904000@buckfastleigh.gov.uk
SUMMARY:Christmas Wreath Making Workshop for Adults at Buckfastleigh Town Hall
DESCRIPTION:Booking is essential for this workshop with The Clockwork Moth.\nBeginners welcome.\nPlease bring your own secateurs and garden gloves if you have them.
URL:https://buckfastleigh.gov.uk/event/christmas-wreath-making-workshop-for-adults-at-buckfastleigh-town-hall/
LOCATION:Buckfastleigh Town Hall – Room 3
ORGANIZER;CN="The Clockwork Moth":MAILTO:theclockworkmoth@hotmail.com
END:VEVENT
BEGIN:VEVENT
DTSTART;TZID=UTC:20181212T193000
DTEND;TZID=UTC:20181212T213000
DTSTAMP:20260420T064019
CREATED:20180924T122505Z
LAST-MODIFIED:20190130T215343Z
UID:7860-1544643000-1544650200@buckfastleigh.gov.uk
SUMMARY:Town Council Meeting
DESCRIPTION:Agenda  \nKey messages\nMinutes  (available after approval at next meeting)
URL:https://buckfastleigh.gov.uk/event/town-council-meeting-35/
LOCATION:Buckfastleigh Town Hall
CATEGORIES:Town Council Meeting
END:VEVENT
BEGIN:VEVENT
DTSTART;TZID=UTC:20181211T100000
DTEND;TZID=UTC:20181211T113000
DTSTAMP:20260420T064019
CREATED:20181002T151005Z
LAST-MODIFIED:20190211T120309Z
UID:7909-1544522400-1544527800@buckfastleigh.gov.uk
SUMMARY:Environment and Transport Committee
DESCRIPTION:Agenda \nMinutes\n\nPLEASE NOTE CHANGE OF DATE AND TIME
URL:https://buckfastleigh.gov.uk/event/environment-and-transport-committee-8/
LOCATION:Buckfastleigh Town Hall – Chamber
CATEGORIES:Town Council Meeting
END:VEVENT
BEGIN:VEVENT
DTSTART;TZID=UTC:20181209T130000
DTEND;TZID=UTC:20181209T153000
DTSTAMP:20260420T064019
CREATED:20181112T095256Z
LAST-MODIFIED:20181112T095256Z
UID:8139-1544360400-1544369400@buckfastleigh.gov.uk
SUMMARY:Christmas at Old Forde House
DESCRIPTION:A Christmas carol sing-along with Ogwell Village Choir plus a history tour of the house\, mince pies and tea/coffee.  Music by The Forde House Trio.  No booking required.  
URL:https://buckfastleigh.gov.uk/event/christmas-at-old-forde-house/
LOCATION:Old Forde House\, Newton aBBOT
END:VEVENT
BEGIN:VEVENT
DTSTART;TZID=UTC:20181206T140000
DTEND;TZID=UTC:20181206T153000
DTSTAMP:20260420T064019
CREATED:20181119T122934Z
LAST-MODIFIED:20181119T122934Z
UID:8214-1544104800-1544110200@buckfastleigh.gov.uk
SUMMARY:Support Group for Dementia Carers
DESCRIPTION:
URL:https://buckfastleigh.gov.uk/event/support-group-for-dementia-carers/
LOCATION:St Joseph’s Church Hall\, 96 Queen Street\, Newton Abbot\, TQ12 2ET
END:VEVENT
BEGIN:VEVENT
DTSTART;TZID=UTC:20181205T160000
DTEND;TZID=UTC:20181205T200000
DTSTAMP:20260420T064019
CREATED:20181122T102506Z
LAST-MODIFIED:20181122T102506Z
UID:8258-1544025600-1544040000@buckfastleigh.gov.uk
SUMMARY:Christmas Fair
DESCRIPTION:Buckfastleigh is set to stage its 4th annual Christmas Fair on Wednesday 5th December from 4.00 – 8.00pm.  Visitors young and old coming to join in the fun and festivities can expect two fantastic new attractions for 2018! \nTo get you in the spirit\, the town’s first ever all weather skating rink\, complete with snow machine will be situated in The Globe Car Park.  Suitable for all ages and abilities this is an opportunity to have a bit of fun while keeping a dry bottom! \nIn between skating take a stroll down Fore Street to the Valiant Soldier\, the pub that closed its doors in the late1960’s and never re-opened.  For one night only this museum will open its doors for a truly nostalgic experience.  You’ll be able to dress in Victorian costume\, have your photo taken and enjoy a sing-a-long in the bar with pianist Andy Williamson.       \nIn keeping with previous years an action packed evening of fun is planned for the whole family.  This year’s entertainment includes: \n\nA street auction with a seasonal twist hosted by experienced auctioneer David Ship\, dig deep to support the running of this marvellous evening by bidding on one of the fabulous lots on offer\nThe Lost Sound-Dartmoor Folk Choir\nCarols sung by children from Buckfast and Buckfastleigh schools\nChildren’s entertainer the magical Sicromagic\nClassic songs of old from Peter Dell\nCarols on the Green held on the Millennium Green at 5:30pm\n\nShops and stalls galore!  With more than 40 street stalls selling a wide range of seasonal goods\, food\, gifts and much more\, it’s an ideal opportunity to shop for presents or the Christmas table.  There will be a giant bouncy slide\, balloons\, hot food & drink and all the delights of a seasonal event.  Many of the local shops will also stay open for late shopping. \nSanta has Buckfastleigh specially pencilled in\, so why not come and say hello!
URL:https://buckfastleigh.gov.uk/event/christmas-fair/
LOCATION:The Valiant Soldier\, 80 Fore St\, Buckfastleigh\, TQ11 0BS
END:VEVENT
BEGIN:VEVENT
DTSTART;TZID=UTC:20181130T100000
DTEND;TZID=UTC:20181130T160000
DTSTAMP:20260420T064019
CREATED:20181119T130533Z
LAST-MODIFIED:20181119T130533Z
UID:8233-1543572000-1543593600@buckfastleigh.gov.uk
SUMMARY:Dementia Friends Champion Training
DESCRIPTION:Become a Dementia Friends Champion by attending this whole day volunteer induction session. You’ll see a Dementia Friends Information Session delivered by a Dementia Friends Officer and then learn how to deliver the session yourself with the chance to discuss the activities and our key messages\, before taking part in a practice presentation. Tea and coffee will be provided but please bring your own lunch.
URL:https://buckfastleigh.gov.uk/event/dementia-friends-champion-training/
LOCATION:Old Forde House\, Newton aBBOT
END:VEVENT
BEGIN:VEVENT
DTSTART;TZID=UTC:20181128T193000
DTEND;TZID=UTC:20181128T210000
DTSTAMP:20260420T064019
CREATED:20180718T100818Z
LAST-MODIFIED:20190204T165528Z
UID:7619-1543433400-1543438800@buckfastleigh.gov.uk
SUMMARY:Finance Committee Meeting
DESCRIPTION:Agenda  (Published 5 working days before the meeting)\nMinutes  (available after approval at next meeting)
URL:https://buckfastleigh.gov.uk/event/finance-committee-meeting-2/
LOCATION:Buckfastleigh Town Hall
CATEGORIES:Town Council Meeting
END:VEVENT
BEGIN:VEVENT
DTSTART;TZID=UTC:20181127T190000
DTEND;TZID=UTC:20181127T203000
DTSTAMP:20260420T064019
CREATED:20181120T100931Z
LAST-MODIFIED:20181120T100931Z
UID:8244-1543345200-1543350600@buckfastleigh.gov.uk
SUMMARY:Conscious Light at Buckfastleigh Town Hall on Tuesday 27th November at 7pm
DESCRIPTION:
URL:https://buckfastleigh.gov.uk/event/conscious-light-at-buckfastleigh-town-hall-on-tuesday-27th-november-at-7pm/
LOCATION:Buckfastleigh Town Hall – Room 2
ORGANIZER;CN="Gavin Brown":MAILTO:tremendous121@yahoo.co.uk
END:VEVENT
END:VCALENDAR