BEGIN:VCALENDAR
VERSION:2.0
PRODID:-//Buckfastleigh Town Council - ECPv6.15.20//NONSGML v1.0//EN
CALSCALE:GREGORIAN
METHOD:PUBLISH
X-WR-CALNAME:Buckfastleigh Town Council
X-ORIGINAL-URL:https://buckfastleigh.gov.uk
X-WR-CALDESC:Events for Buckfastleigh Town Council
REFRESH-INTERVAL;VALUE=DURATION:PT1H
X-Robots-Tag:noindex
X-PUBLISHED-TTL:PT1H
BEGIN:VTIMEZONE
TZID:UTC
BEGIN:STANDARD
TZOFFSETFROM:+0000
TZOFFSETTO:+0000
TZNAME:UTC
DTSTART:20170101T000000
END:STANDARD
END:VTIMEZONE
BEGIN:VEVENT
DTSTART;TZID=UTC:20181122T100000
DTEND;TZID=UTC:20181122T123000
DTSTAMP:20260422T221322
CREATED:20181106T111413Z
LAST-MODIFIED:20181106T111413Z
UID:8125-1542880800-1542889800@buckfastleigh.gov.uk
SUMMARY:Buckfastleigh Town Hall & Institute AGM
DESCRIPTION:
URL:https://buckfastleigh.gov.uk/event/buckfastleigh-town-hall-institute-agm/
LOCATION:Buckfastleigh Town Hall – Chamber
ORGANIZER;CN="Buckfastleigh Town Hall &amp%3B Institute":MAILTO:admin@buckfastleigh.gov.uk
END:VEVENT
BEGIN:VEVENT
DTSTART;TZID=UTC:20181121T193000
DTEND;TZID=UTC:20181121T210000
DTSTAMP:20260422T221322
CREATED:20181119T104103Z
LAST-MODIFIED:20181119T105359Z
UID:8208-1542828600-1542834000@buckfastleigh.gov.uk
SUMMARY:Buckfastleigh in the Red? - Town Council Forum
DESCRIPTION:Retail is in crisis country-wide and our local businesses are struggling to survive.   Plans by the Abbey may impact existing local businesses.  \nCome and find out more and/or tell your business’s story.   What can the community & Town Council do to help? 
URL:https://buckfastleigh.gov.uk/event/buckfastleigh-in-the-red-town-council-forum/
LOCATION:Buckfastleigh Town Hall
END:VEVENT
BEGIN:VEVENT
DTSTART;TZID=UTC:20181117T100000
DTEND;TZID=UTC:20181117T160000
DTSTAMP:20260422T221322
CREATED:20181001T095802Z
LAST-MODIFIED:20181001T095802Z
UID:7902-1542448800-1542470400@buckfastleigh.gov.uk
SUMMARY:Advent Fair and Craft Market - South Devon Steiner School
DESCRIPTION:South Devon Steiner School Advent Fair and Craft Market Saturday 17th November 2018 10am – 4pm\nFREE VINTAGE BUS FROM BUCKFASTLEIGH\, DARTINGTON AND TOTNES.
URL:https://buckfastleigh.gov.uk/event/advent-fair-and-craft-market-south-devon-steiner-school/
LOCATION:South Devon Steiner School\, Hood Manor\, Dartington\, TQ9 6AB\, United Kingdom
END:VEVENT
BEGIN:VEVENT
DTSTART;TZID=UTC:20181117T100000
DTEND;TZID=UTC:20181117T140000
DTSTAMP:20260422T221322
CREATED:20181115T095445Z
LAST-MODIFIED:20181115T095513Z
UID:8181-1542448800-1542463200@buckfastleigh.gov.uk
SUMMARY:Ashburton & Buckfastleigh Health & Wellbeing Event
DESCRIPTION:Ashburton & Buckfastleigh Health and Wellbeing Centre (previously the hospital) invites you to their event: \n\nFree health checks\nChildren’s activities\nSee their specialised equipment\nAdvice on self-help and carer support\nAdvice on planning for older age\nSee how their teams support people in the community\nRefreshments\nEveryone welcome – including assistance dogs
URL:https://buckfastleigh.gov.uk/event/ashburton-and-buckfastleigh-health-and-wellbeing-event/
LOCATION:Ashburton & Buckfastleigh Health & Wellbeing CEntre\, East Street\, Ashburton\, TQ13 7AP
END:VEVENT
BEGIN:VEVENT
DTSTART;TZID=UTC:20181115T193000
DTEND;TZID=UTC:20181115T213000
DTSTAMP:20260422T221322
CREATED:20181109T103424Z
LAST-MODIFIED:20181109T103424Z
UID:8135-1542310200-1542317400@buckfastleigh.gov.uk
SUMMARY:Buckfastleigh Unearthed
DESCRIPTION:
URL:https://buckfastleigh.gov.uk/event/buckfastleigh-unearthed/
LOCATION:Buckfastleigh Town Hall
END:VEVENT
BEGIN:VEVENT
DTSTART;TZID=UTC:20181114T190000
DTEND;TZID=UTC:20181114T213000
DTSTAMP:20260422T221322
CREATED:20180718T100714Z
LAST-MODIFIED:20181217T124334Z
UID:7617-1542222000-1542231000@buckfastleigh.gov.uk
SUMMARY:Town Council Meeting
DESCRIPTION:Agenda  (Published 5 working days before the meeting)\nSummary \nMinutes \n\nPLEASE NOTE EARLIER TIME
URL:https://buckfastleigh.gov.uk/event/town-council-meeting-34/
LOCATION:Buckfastleigh Town Hall
CATEGORIES:Town Council Meeting
END:VEVENT
BEGIN:VEVENT
DTSTART;TZID=UTC:20181114T190000
DTEND;TZID=UTC:20181114T200000
DTSTAMP:20260422T221322
CREATED:20181012T094003Z
LAST-MODIFIED:20181012T094003Z
UID:7995-1542222000-1542225600@buckfastleigh.gov.uk
SUMMARY:Become a Dementia Friend
DESCRIPTION:
URL:https://buckfastleigh.gov.uk/event/become-a-dementia-friend/
LOCATION:Buckfastleigh Town Hall
CATEGORIES:Town Council Meeting
END:VEVENT
BEGIN:VEVENT
DTSTART;TZID=UTC:20181107T193000
DTEND;TZID=UTC:20181107T210000
DTSTAMP:20260422T221322
CREATED:20180718T100612Z
LAST-MODIFIED:20181115T123713Z
UID:7615-1541619000-1541624400@buckfastleigh.gov.uk
SUMMARY:Environment and Transport Committee Meeting
DESCRIPTION:Agenda (Published 5 working days before the meeting)\nMinutes (available after approval at next meeting)
URL:https://buckfastleigh.gov.uk/event/environment-and-transport-committee-meeting-2/
LOCATION:Buckfastleigh Town Hall
CATEGORIES:Town Council Meeting
END:VEVENT
BEGIN:VEVENT
DTSTART;TZID=UTC:20181101T140000
DTEND;TZID=UTC:20181101T170000
DTSTAMP:20260422T221322
CREATED:20181022T093208Z
LAST-MODIFIED:20181023T113744Z
UID:8036-1541080800-1541091600@buckfastleigh.gov.uk
SUMMARY:Hello Autumn - Whittling and Woodwork
DESCRIPTION:Work with knives and wood.  For ages 9 years and older  
URL:https://buckfastleigh.gov.uk/event/whittling-and-woodwork/
LOCATION:Victoria Park\, Plymouth Road\, Buckfastleigh\, United Kingdom
END:VEVENT
BEGIN:VEVENT
DTSTART;TZID=UTC:20181028T103000
DTEND;TZID=UTC:20181028T130000
DTSTAMP:20260422T221322
CREATED:20181015T111638Z
LAST-MODIFIED:20181015T111638Z
UID:8008-1540722600-1540731600@buckfastleigh.gov.uk
SUMMARY:All Sing Sunday
DESCRIPTION:A bi-monthly drop-in community sing song on a Sunday morning.  Open to all\, including families with children of all ages.  With rotating choir leaders.  Bring food to share and learn songs to sing in harmony.
URL:https://buckfastleigh.gov.uk/event/all-sing-sunday-2/
LOCATION:Buckfastleigh Town Hall
END:VEVENT
BEGIN:VEVENT
DTSTART;TZID=UTC:20181028T100000
DTEND;TZID=UTC:20181028T123000
DTSTAMP:20260422T221322
CREATED:20180807T204514Z
LAST-MODIFIED:20180911T102558Z
UID:7709-1540720800-1540729800@buckfastleigh.gov.uk
SUMMARY:Buckfastleigh Naturally Healthy - Tai Chi & Nature
DESCRIPTION:Buckfastleigh Naturally Healthy presents Forest Chi – River\, Forest & Autumn Colours\nThe session includes a gentle wander through woodland along the River Dart\, some Tai Chi and Qigong exercises and moves\, some times of stillness and tuning in with the changing seasons\, and ends with a picnic.  It aims to be relaxed\, sociable and restorative and no experience of Tai Chi is needed. \nThe event is free and funded by Buckfastleigh Town Council… \nStarts 10:30am Newbridge car Park (or meet at Victoria Woodholme Car park for car share at 10am) \nFREE – funded by Buckfastleigh Town Council – Book early to secure a place – email: kate@forestchi.co.uk or phone 01837 840959
URL:https://buckfastleigh.gov.uk/event/forest-chi-tai-chi-nature-2/
LOCATION:Woodholme Car Park\, Plymouth Road\, TQ11 0FB
END:VEVENT
BEGIN:VEVENT
DTSTART;TZID=UTC:20181027T140000
DTEND;TZID=UTC:20181027T170000
DTSTAMP:20260422T221322
CREATED:20181022T092842Z
LAST-MODIFIED:20181022T100125Z
UID:8032-1540648800-1540659600@buckfastleigh.gov.uk
SUMMARY:Hello Autumn - Forging and Metal Work
DESCRIPTION:Create with fire and iron.  For ages 9 years and older   
URL:https://buckfastleigh.gov.uk/event/forging-and-metal-work/
LOCATION:The Bungalow\, Victoria Park\, Plymouth Road\, Buckfastleigh\, England\, TQ11 0FB
END:VEVENT
BEGIN:VEVENT
DTSTART;TZID=UTC:20181026T190000
DTEND;TZID=UTC:20181026T210000
DTSTAMP:20260422T221322
CREATED:20181022T093026Z
LAST-MODIFIED:20181023T114215Z
UID:8034-1540580400-1540587600@buckfastleigh.gov.uk
SUMMARY:Hello Autumn - Illustrating Nature
DESCRIPTION:Draw pictures for a new Nature Board for the Orchard Millennium Green.  For ages 7 years and older  
URL:https://buckfastleigh.gov.uk/event/illustrating-nature/
LOCATION:Buckfastleigh Youth Club
END:VEVENT
BEGIN:VEVENT
DTSTART;TZID=UTC:20181026T180000
DTEND;TZID=UTC:20181026T203000
DTSTAMP:20260422T221322
CREATED:20180903T094243Z
LAST-MODIFIED:20180903T095440Z
UID:7779-1540576800-1540585800@buckfastleigh.gov.uk
SUMMARY:Buckfastleigh SOUP Event
DESCRIPTION:SOUP is a non-bureaucratic way to find out about\, support\, and fund local community projects. Starting in Detroit in 2010\, it is now run all over the UK and is particularly suitable for small projects and individuals trying to get funding for new ideas that benefit the local community. \nFollowing the success of a Teignmouth SOUP event in April\, which was attended by over 50 people and saw two local groups walk away with funding\, SOUP is now coming to Buckfastleigh. \nThe first ever Buckfastleigh SOUP will now take place on Friday 26th October 2018\, 6.00 pm at Buckfastleigh Town Hall\, supported by Buckfastleigh Town Council. \nThe idea is simple: Local people come together\, give a donation for a bowl of soup\, and listen to three or four people pitch their project idea.  \nPitchers each have the floor for up to five minutes and must rely on their passion and speaking abilities to win over the audience. \nWith the presentations over\, soup is served and participants will have time to think\, chat with others\, and mull over the ideas before choosing their favourite idea. \nThe winning pitches get to take home\, between them\, a share both of money taken at the door and of a £ 400 local donation. They get to use it to fund their plans\, with the promise they will come back to report on their progress at the next SOUP event. \nThose wishing to pitch should write a paragraph about their idea or project\, and send it to anja@teigncvs.org.uk  ideally by 11th October 2018. Places to attend can be booked at tcvs.eventbrite.co.uk \nFor more information contact Anja at anja@teigncvs.org.uk or on 01626326123
URL:https://buckfastleigh.gov.uk/event/buckfastleigh-soup-event/
LOCATION:Buckfastleigh Town Hall
END:VEVENT
BEGIN:VEVENT
DTSTART;TZID=UTC:20181026T140000
DTEND;TZID=UTC:20181026T170000
DTSTAMP:20260422T221322
CREATED:20181022T092712Z
LAST-MODIFIED:20181023T114524Z
UID:8030-1540562400-1540573200@buckfastleigh.gov.uk
SUMMARY:Hello Autumn:  Enchanted - Halloween Craft Activities
DESCRIPTION:A magical afternoon of crafts\, creativity and storytelling for Hallowe’en.  Lantern making.  Creepy crawly crafts.  Storytelling at 3.30 pm.  Feel free to dress up and dress warmly.  Refreshments for sale.  All ages welcome
URL:https://buckfastleigh.gov.uk/event/enchanted-halloween-craft-activities/
LOCATION:Victoria Park\, Plymouth Road\, Buckfastleigh\, United Kingdom
END:VEVENT
BEGIN:VEVENT
DTSTART;TZID=UTC:20181025T150000
DTEND;TZID=UTC:20181025T170000
DTSTAMP:20260422T221322
CREATED:20181022T092308Z
LAST-MODIFIED:20181023T114419Z
UID:8028-1540479600-1540486800@buckfastleigh.gov.uk
SUMMARY:Hello Autumn - Football Skills Session
DESCRIPTION:Improve your football skills with Thijs.  Girls and boys welcome.  For ages 9 years and older
URL:https://buckfastleigh.gov.uk/event/hello-autumn-football-skills-session-2/
LOCATION:Duckspond Playing Field
END:VEVENT
BEGIN:VEVENT
DTSTART;TZID=UTC:20181024T193000
DTEND;TZID=UTC:20181024T210000
DTSTAMP:20260422T221322
CREATED:20180718T100443Z
LAST-MODIFIED:20181019T120046Z
UID:7613-1540409400-1540414800@buckfastleigh.gov.uk
SUMMARY:Finance Council Meeting
DESCRIPTION:Agenda (Published 5 working days before the meeting)\nMinutes (available after approval at next meeting)\n\nPLEASE NOTE THAT THIS MEETING HAS BEEN CANCELLED
URL:https://buckfastleigh.gov.uk/event/finance-council-meeting/
LOCATION:Buckfastleigh Town Hall
CATEGORIES:Town Council Meeting
END:VEVENT
BEGIN:VEVENT
DTSTART;TZID=UTC:20181024T150000
DTEND;TZID=UTC:20181024T170000
DTSTAMP:20260422T221322
CREATED:20181022T092119Z
LAST-MODIFIED:20181023T114337Z
UID:8025-1540393200-1540400400@buckfastleigh.gov.uk
SUMMARY:Hello Autumn - Football Skills Session
DESCRIPTION:Improve your football skills with Thijs.  Girls and boys welcome.  For ages 9 years and older
URL:https://buckfastleigh.gov.uk/event/hello-autumn-football-skills-session/
LOCATION:Duckspond Playing Field
END:VEVENT
BEGIN:VEVENT
DTSTART;TZID=UTC:20181021T100000
DTEND;TZID=UTC:20181021T160000
DTSTAMP:20260422T221322
CREATED:20180904T084901Z
LAST-MODIFIED:20180904T084901Z
UID:7786-1540116000-1540137600@buckfastleigh.gov.uk
SUMMARY:Buckfastleigh Wool Gathering
DESCRIPTION:A gathering of designer makers\, spinners\, dyers\, felters\, weavers\, knitters\, sheep breeders\, artisans and wool enthusiasts.  Taster sessions.  Demos.  Delicious pop-up cafe.  Marketplace.
URL:https://buckfastleigh.gov.uk/event/buckfastleigh-wool-gathering-4/
LOCATION:Buckfastleigh Town Hall
END:VEVENT
BEGIN:VEVENT
DTSTART;TZID=UTC:20181017T193000
DTEND;TZID=UTC:20181017T210000
DTSTAMP:20260422T221322
CREATED:20180724T102941Z
LAST-MODIFIED:20180823T163127Z
UID:7651-1539804600-1539810000@buckfastleigh.gov.uk
SUMMARY:Buckfastleigh - Where Next?  Community Consultation
DESCRIPTION:Come and talk to the Town Council.  Find out what’s going on\, help us plan for the future….  and eat cake! \nJoin us for our annual workshop where you get to find out what we have been doing and help us think about the future of the parish…
URL:https://buckfastleigh.gov.uk/event/buckfastleigh-where-next-community-consultation/
LOCATION:Buckfastleigh Town Hall
CATEGORIES:Town Council Meeting
END:VEVENT
BEGIN:VEVENT
DTSTART;TZID=UTC:20181017T100000
DTEND;TZID=UTC:20181017T133000
DTSTAMP:20260422T221322
CREATED:20180913T111414Z
LAST-MODIFIED:20180913T111914Z
UID:7823-1539770400-1539783000@buckfastleigh.gov.uk
SUMMARY:Buckfastleigh Naturally Healthy - Wanders for Wellbeing
DESCRIPTION:You are invited to a gentle guided walk in Hembury woods\, exploring the practice of shinrin-yoku with Emma Capper\, nature and forest therapy guide.  \nMeet 10 am at Woodholme car park. \nAdvance booking required:  emma@emmacapper.co.uk or 07771 515817
URL:https://buckfastleigh.gov.uk/event/wanders-for-wellbeing-2/
LOCATION:Hembury Woods
END:VEVENT
BEGIN:VEVENT
DTSTART;TZID=UTC:20181010T193000
DTEND;TZID=UTC:20181010T213000
DTSTAMP:20260422T221322
CREATED:20180718T100343Z
LAST-MODIFIED:20181115T114453Z
UID:7611-1539199800-1539207000@buckfastleigh.gov.uk
SUMMARY:Town Council Meeting
DESCRIPTION: Agenda (Published 5 working days before the meeting)\nSummary (available soon after the meeting)\nMinutes  (available after approval at next meeting)
URL:https://buckfastleigh.gov.uk/event/town-council-meeting-33/
LOCATION:Buckfastleigh Town Hall
CATEGORIES:Town Council Meeting
END:VEVENT
BEGIN:VEVENT
DTSTART;TZID=UTC:20181005T193000
DTEND;TZID=UTC:20181005T213000
DTSTAMP:20260422T221322
CREATED:20180911T104814Z
LAST-MODIFIED:20180911T104814Z
UID:7806-1538767800-1538775000@buckfastleigh.gov.uk
SUMMARY:Fun Bingo
DESCRIPTION:Ashburton District Friends of Guiding presents an evening of Fun Bingo in St. Luke’s Church (lower hall).   Refreshments\, raffle\, prizes.
URL:https://buckfastleigh.gov.uk/event/fun-bingo/
LOCATION:St. Lukes Church
END:VEVENT
BEGIN:VEVENT
DTSTART;TZID=UTC:20181003T193000
DTEND;TZID=UTC:20181003T210000
DTSTAMP:20260422T221322
CREATED:20180718T100238Z
LAST-MODIFIED:20181004T135328Z
UID:7609-1538595000-1538600400@buckfastleigh.gov.uk
SUMMARY:Environment and Transport Committee Meeting
DESCRIPTION:Agenda (Published 5 working days before the meeting)\nMinutes  (available after approval at next meeting)
URL:https://buckfastleigh.gov.uk/event/environment-and-transport-committee-meeting/
LOCATION:Buckfastleigh Town Hall
CATEGORIES:Town Council Meeting
END:VEVENT
BEGIN:VEVENT
DTSTART;TZID=UTC:20181002T193000
DTEND;TZID=UTC:20181002T210000
DTSTAMP:20260422T221322
CREATED:20180925T105410Z
LAST-MODIFIED:20190130T165931Z
UID:7863-1538508600-1538514000@buckfastleigh.gov.uk
SUMMARY:Tourism\, Recreation and Economic Development Committee Meeting
DESCRIPTION:Agenda (Published 5 working days before the meeting)\nMinutes  (available after approval at next meeting)
URL:https://buckfastleigh.gov.uk/event/tourism-recreation-and-economic-development-meeting/
LOCATION:Buckfastleigh Town Hall
CATEGORIES:Town Council Meeting
END:VEVENT
BEGIN:VEVENT
DTSTART;TZID=UTC:20180929T100000
DTEND;TZID=UTC:20180929T133000
DTSTAMP:20260422T221322
CREATED:20180913T111248Z
LAST-MODIFIED:20180913T111824Z
UID:7819-1538215200-1538227800@buckfastleigh.gov.uk
SUMMARY:Buckfastleigh Naturally Healthy - Wanders for Wellbeing
DESCRIPTION:You are invited to a gentle guided walk in Hembury woods\, exploring the practice of shinrin-yoku with Emma Capper\, nature and forest therapy guide.  \nMeet 10 am at Woodholme car park. \nAdvance booking required:  emma@emmacapper.co.uk or 07771 515817
URL:https://buckfastleigh.gov.uk/event/wanders-for-wellbeing/
LOCATION:Hembury Woods
END:VEVENT
BEGIN:VEVENT
DTSTART;TZID=UTC:20180926T193000
DTEND;TZID=UTC:20180926T210000
DTSTAMP:20260422T221322
CREATED:20180718T100129Z
LAST-MODIFIED:20181130T130739Z
UID:7607-1537990200-1537995600@buckfastleigh.gov.uk
SUMMARY:Finance Committee Meeting
DESCRIPTION:Agenda  (Published 5 working days before the meeting)\nMinutes  (available after approval at next meeting
URL:https://buckfastleigh.gov.uk/event/finance-committee-meeting/
LOCATION:Buckfastleigh Town Hall
CATEGORIES:Town Council Meeting
END:VEVENT
BEGIN:VEVENT
DTSTART;TZID=UTC:20180926T190000
DTEND;TZID=UTC:20180926T203000
DTSTAMP:20260422T221322
CREATED:20180911T104416Z
LAST-MODIFIED:20180911T104416Z
UID:7803-1537988400-1537993800@buckfastleigh.gov.uk
SUMMARY:Bat Talk
DESCRIPTION:Find out more about the work being done by the Devon Greater Horseshoe Bat Project in and around Buckfastleigh.  Learn more about this fascinating species that lives right on your doostep.  \nSee how you can help the bats\, get involved with the project and make Buckfastleigh a bat-friendly community. \nThe talk is free but please let us know if you’re coming so we have an idea of numbers.  Email:  bats@devonwildlifetrust.org or phone 01392 260849 \nPart of the September 2018 Bat Festival
URL:https://buckfastleigh.gov.uk/event/bat-talk/
LOCATION:Buckfastleigh Town Hall
END:VEVENT
BEGIN:VEVENT
DTSTART;TZID=UTC:20180924T190000
DTEND;TZID=UTC:20180924T210000
DTSTAMP:20260422T221322
CREATED:20180802T102432Z
LAST-MODIFIED:20180802T102432Z
UID:7696-1537815600-1537822800@buckfastleigh.gov.uk
SUMMARY:Buckfastleigh Emergency Plan Test Run
DESCRIPTION:The Buckfastleigh Emergency Plan has recently been reviewed and updated.  A core group of volunteers who have already received training will test out the new plan to make sure everything runs smoothly.  \nContact the Town Clerk if you are interested in attending:  clerk@buckfastleigh.gov.uk or 01364 642576
URL:https://buckfastleigh.gov.uk/event/buckfastleigh-emergency-plan-test-run/
LOCATION:Buckfastleigh Town Hall
END:VEVENT
BEGIN:VEVENT
DTSTART;TZID=UTC:20180920T100000
DTEND;TZID=UTC:20180920T123000
DTSTAMP:20260422T221322
CREATED:20180807T204115Z
LAST-MODIFIED:20180807T204745Z
UID:7707-1537437600-1537446600@buckfastleigh.gov.uk
SUMMARY:Buckfastleigh Naturally Healthy - Tai Chi & Nature
DESCRIPTION:Buckfastleigh Naturally Healthy presents Forest Chi – Equinox: Movement & Stillness to tune in with the changing of the seasons.\nSession includes a gentle wander through woodland along the River Dart\, some Tai Chi and Qigong exercises and moves\, some times of stillness and tuning in with the changing seasons\, and end with a picnic. \nThe sessions aim to be relaxed\, sociable and restorative and no experience of Tai Chi is needed. \nStarts 10:30am Newbridge Car Park (or Meet at Victoria Woodholme Car park for car share at 10am) \nFREE – funded by Buckfastleigh Town Council – Book early to secure our place – email: kate@forestchi.co.uk or phone 01837 840959
URL:https://buckfastleigh.gov.uk/event/forest-chi-tai-chi-nature/
LOCATION:Woodholme Car Park\, Plymouth Road\, TQ11 0FB
END:VEVENT
END:VCALENDAR