BEGIN:VCALENDAR
VERSION:2.0
PRODID:-//Buckfastleigh Town Council - ECPv6.15.20//NONSGML v1.0//EN
CALSCALE:GREGORIAN
METHOD:PUBLISH
X-WR-CALNAME:Buckfastleigh Town Council
X-ORIGINAL-URL:https://buckfastleigh.gov.uk
X-WR-CALDESC:Events for Buckfastleigh Town Council
REFRESH-INTERVAL;VALUE=DURATION:PT1H
X-Robots-Tag:noindex
X-PUBLISHED-TTL:PT1H
BEGIN:VTIMEZONE
TZID:UTC
BEGIN:STANDARD
TZOFFSETFROM:+0000
TZOFFSETTO:+0000
TZNAME:UTC
DTSTART:20160101T000000
END:STANDARD
END:VTIMEZONE
BEGIN:VEVENT
DTSTART;TZID=UTC:20171216T193000
DTEND;TZID=UTC:20171216T210000
DTSTAMP:20260423T065043
CREATED:20171208T150440Z
LAST-MODIFIED:20171208T150440Z
UID:6177-1513452600-1513458000@buckfastleigh.gov.uk
SUMMARY:The Collati Singers
DESCRIPTION:Bob Chilcott – On Christmas Night\, Vaughan Williams – Fantasia and a selection of seasonal music with conductor Trefor Farrow and organist Robin Stubbs \nFREE entry with retiring collection
URL:https://buckfastleigh.gov.uk/event/the-collati-singers-2/
LOCATION:St. Lukes Church
END:VEVENT
BEGIN:VEVENT
DTSTART;TZID=UTC:20171216T153000
DTEND;TZID=UTC:20171216T233000
DTSTAMP:20260423T065043
CREATED:20171110T101947Z
LAST-MODIFIED:20171208T160448Z
UID:6070-1513438200-1513467000@buckfastleigh.gov.uk
SUMMARY:Buckfastleigh Cinema Club presents: The BFG + It's a Wonderful Life
DESCRIPTION:
URL:https://buckfastleigh.gov.uk/event/buckfastleigh-cinema-club-presents-saturday-16th-december/
LOCATION:Buckfastleigh Town Hall
END:VEVENT
BEGIN:VEVENT
DTSTART;TZID=UTC:20171213T193000
DTEND;TZID=UTC:20171213T213000
DTSTAMP:20260423T065043
CREATED:20171010T201512Z
LAST-MODIFIED:20171010T201512Z
UID:6016-1513193400-1513200600@buckfastleigh.gov.uk
SUMMARY:Town Council Meeting
DESCRIPTION:
URL:https://buckfastleigh.gov.uk/event/town-council-meeting-25/
END:VEVENT
BEGIN:VEVENT
DTSTART;TZID=UTC:20171210T080000
DTEND;TZID=UTC:20171210T170000
DTSTAMP:20260423T065043
CREATED:20171127T120041Z
LAST-MODIFIED:20171127T120041Z
UID:6134-1512892800-1512925200@buckfastleigh.gov.uk
SUMMARY:Totnes YFC Charity Log Chop - Delivery Sunday 10th December
DESCRIPTION:Totnes YFC Charity Log Chop in aid of Rowcroft Hospice & The Juvenile Diabetes Research Foundation.\n£65 for a Pick Up load of logs\, delivered FREE within 15 miles of Totnes.\nCall Jordan 07532 184474 or Tom 07412 282624
URL:https://buckfastleigh.gov.uk/event/totnes-yfc-charity-log-chop-delivery-sunday-10th-december/
END:VEVENT
BEGIN:VEVENT
DTSTART;TZID=UTC:20171209T163000
DTEND;TZID=UTC:20171209T213000
DTSTAMP:20260423T065043
CREATED:20171121T111423Z
LAST-MODIFIED:20171121T111423Z
UID:6119-1512837000-1512855000@buckfastleigh.gov.uk
SUMMARY:The Seed Community Festive Meal Saturday 9th December 2017 @ Buckfastleigh Town Hall
DESCRIPTION:“Our fourth and festive community meal of the year is taking place on Saturday 9th December at the Town Hall!!!! We have teamed up with Hoedown events and this time it will be a sit down seasonal meal for all the family and dance time/live music afterwards. There will be some children activities and fun for everyone of all ages. There will be a licensed bar and also a chance to come and help out the chef in the kitchen and learn some new skills and have a blast.If you would like to be involved in helping in the kitchen or at the event generally please get in touch with Liz (07866 179402). Tickets to reserve your places can be got at The Seed. They are £2 each which is refundable on the night. Vegan/Vegetarian/Children well catered for! Its going to be so much fun!!!”
URL:https://buckfastleigh.gov.uk/event/the-seed-community-festive-meal-saturday-9th-december-2017-buckfastleigh-town-hall/
LOCATION:Buckfastleigh Town Hall – Main Hall
ORGANIZER;CN="The Seed":MAILTO:buckfastleighseed@gmail.com
END:VEVENT
BEGIN:VEVENT
DTSTART;TZID=UTC:20171209T100000
DTEND;TZID=UTC:20171209T130000
DTSTAMP:20260423T065043
CREATED:20170904T105431Z
LAST-MODIFIED:20170904T105431Z
UID:5938-1512813600-1512824400@buckfastleigh.gov.uk
SUMMARY:Make Christmas Presents and a Christmas Wreath
DESCRIPTION:Dangerous Dads – Save £££££ this year making your own fab gifts and an evergreen wreath for the front door!\nMeet at Waycotts Orchard\, Meffifield Road\, Buckfastleigh.
URL:https://buckfastleigh.gov.uk/event/make-christmas-presents-and-a-christmas-wreath/
END:VEVENT
BEGIN:VEVENT
DTSTART;TZID=UTC:20171207T190000
DTEND;TZID=UTC:20171207T210000
DTSTAMP:20260423T065043
CREATED:20171120T144434Z
LAST-MODIFIED:20171120T144434Z
UID:6112-1512673200-1512680400@buckfastleigh.gov.uk
SUMMARY:FREE Community Training Programme
DESCRIPTION:People\, partners and funding – essential elements for creating a successful community group. See the Home Page for further details. \nRegister your interest by emailing clerk@buckfastleigh.gov.uk giving your name\, the name of your organisation and a contact number by Tuesday 5th December.
URL:https://buckfastleigh.gov.uk/event/free-community-training-programme-2/
LOCATION:Buckfastleigh Town Hall – Room 2
END:VEVENT
BEGIN:VEVENT
DTSTART;TZID=UTC:20171206T160000
DTEND;TZID=UTC:20171206T200000
DTSTAMP:20260423T065043
CREATED:20171013T092605Z
LAST-MODIFIED:20171013T092605Z
UID:6036-1512576000-1512590400@buckfastleigh.gov.uk
SUMMARY:Buckfastleigh Christmas Fair 6th December 4-8pm
DESCRIPTION:“Following last year’s huge success this year’s 3rd annual Buckfastleigh Christmas Fair will take place in the heart of town on Wednesday 6th December.\nAnother fun packed evening is planned for the whole family and live street entertainment for all will be the theme. The evening will start with local school children getting us in to the early spirit of Christmas with their special blend of carols. Local musicians will brighten the streets with music for the ears\, while story teller Greg Porter will captivate children with stories written for the occasion. There will also be an opportunity for children to busy themselves in the craft workshop.\nBy special appointment Elfic – Juggler & Jester will be joining us and is sure to have us rolling in laughter with his comic interaction and Peter Dell will join us once again to entertain us all with classic songs from old. We have also been assured that Santa and his helpers will be paying us a special visit!\nOver 40 street stalls will be selling a wide range of seasonal goods\, food\, ideal gifts for Christmas and many local shops will stay open for late shopping. There will be a giant bouncy slide\, balloons\, popcorn and much\, much more.\nAs with last year the annual ‘Carols on the Green’ will be linking arms with the Christmas Fair. Time for the start of ‘Carols on the Green’ will be announced shortly.\nRaffle tickets for the ‘Cash Prize Draw’ will be on sale on the night so please dig deep to support the running of this fabulous evening.\nThe evening’s event will take place in Fore Street\, Station Road and Elliot Plain and will run from 4.00 – 8.00pm. Road closure will be in place from 2.00pm – 9.00pm to allow stall holders to prepare their wares.\nIf you would like an application form to run your own stall or require any other information about the evening please drop in to see Cathy Veasey in the Brainwave Charity Shop\, Fore Street\, or contact Paul Roberts on 07740492842 or by email on roberts999@hotmail.com\nCome and join us. We look forward to seeing you there”
URL:https://buckfastleigh.gov.uk/event/buckfastleigh-christmas-fair-6th-december-4-8pm/
ORGANIZER;CN="Buckfastleigh Christmas Fair":MAILTO:roberts999@hotmail.com
END:VEVENT
BEGIN:VEVENT
DTSTART;TZID=UTC:20171206T093000
DTEND;TZID=UTC:20171206T110000
DTSTAMP:20260423T065043
CREATED:20171010T201344Z
LAST-MODIFIED:20171010T201430Z
UID:6013-1512552600-1512558000@buckfastleigh.gov.uk
SUMMARY:Planning\, Environment and Transport Committee
DESCRIPTION:Please note that this is a morning meeting due to the Buckfastleigh Christmas Fair in the evening
URL:https://buckfastleigh.gov.uk/event/planning-environment-and-transport-committee-18/
LOCATION:Buckfastleigh Town Hall – Chamber
END:VEVENT
BEGIN:VEVENT
DTSTART;TZID=UTC:20171203T193000
DTEND;TZID=UTC:20171203T213000
DTSTAMP:20260423T065043
CREATED:20171124T143703Z
LAST-MODIFIED:20171124T143703Z
UID:6132-1512329400-1512336600@buckfastleigh.gov.uk
SUMMARY:Wolf's End - a play by the MED Theatre's Young Company
DESCRIPTION:In the 1780s\, at a time of great change on Dartmoor\, roads and houses are built\, moorland is enclosed and conifer forests replace the native scrub\, but how did the improvers’ dreams of turning the Moor into an agricultural prairie impact its wild inhabitants? And would the new roads really prepare the way for prosperity on Dartmoor? \n“Wolf’s End” is a new drama by MED Theatre’s Wild Nights Company\, explores this period of development and integrates the legend of the last wolves to be killed in Britain\, rumoured to have been shot on Dartmoor at this time. \nTickets: £7.00/£5.00 –  email: info@medtheatre.co.uk or call 01647 441356
URL:https://buckfastleigh.gov.uk/event/wolfs-end-a-play-by-the-med-theatres-young-company/
LOCATION:Buckfast Village Hall\, Buckfast Road\, Buckfast\, United Kingdom
END:VEVENT
BEGIN:VEVENT
DTSTART;TZID=UTC:20171202T193000
DTEND;TZID=UTC:20171202T223000
DTSTAMP:20260423T065043
CREATED:20171114T115236Z
LAST-MODIFIED:20171114T115236Z
UID:6074-1512243000-1512253800@buckfastleigh.gov.uk
SUMMARY:Christmas Pub Quiz@The Kings Arms Buckfastleigh - Saturday 2nd December at 7:30pm
DESCRIPTION:
URL:https://buckfastleigh.gov.uk/event/christmas-pub-quizthe-kings-arms-buckfastleigh-saturday-2nd-december-at-730pm/
END:VEVENT
BEGIN:VEVENT
DTSTART;TZID=UTC:20171202T110000
DTEND;TZID=UTC:20171202T160000
DTSTAMP:20260423T065043
CREATED:20171121T110645Z
LAST-MODIFIED:20171121T110645Z
UID:6115-1512212400-1512230400@buckfastleigh.gov.uk
SUMMARY:Saturday 2nd December 2017 11-4pm Solidwool Factory\, Buckfastleigh Town Mill
DESCRIPTION:Saturday 2nd December 11-4pm Free Entry\n@Solidwool Factory\, Buckfastleigh Town Mill.\n“A one off gathering of exciting brands that share a commitment to craftsmanship & quality”
URL:https://buckfastleigh.gov.uk/event/saturday-2nd-december-2017-11-4pm-solidwool-factory-buckfastleigh-town-mill/
LOCATION:Buckfastleigh Town Mill
END:VEVENT
BEGIN:VEVENT
DTSTART;TZID=UTC:20171129T153000
DTEND;TZID=UTC:20171129T163000
DTSTAMP:20260423T065043
CREATED:20171116T092711Z
LAST-MODIFIED:20171116T092711Z
UID:6087-1511969400-1511973000@buckfastleigh.gov.uk
SUMMARY:Moorfun Events @ Buckfastleigh Town Hall - Free after school inflatable sessions.
DESCRIPTION:Next FREE session’s: Wednesday 29th November & Wednesday 13th December\, 3:30-4:30pm
URL:https://buckfastleigh.gov.uk/event/moorfun-events-buckfastleigh-town-hall-free-after-school-inflatable-sessions/
LOCATION:Buckfastleigh Town Hall
END:VEVENT
BEGIN:VEVENT
DTSTART;TZID=UTC:20171125T103000
DTEND;TZID=UTC:20171125T140000
DTSTAMP:20260423T065043
CREATED:20171117T112945Z
LAST-MODIFIED:20171117T112945Z
UID:6091-1511605800-1511618400@buckfastleigh.gov.uk
SUMMARY:Buckfastleigh W.I Christmas Fair@Buckfastleigh Town Hall
DESCRIPTION:Saturday 25th November 2017\n10:30-2:00pm\nBuckfastleigh Town Hall
URL:https://buckfastleigh.gov.uk/event/buckfastleigh-w-i-christmas-fairbuckfastleigh-town-hall/
LOCATION:Buckfastleigh Town Hall
END:VEVENT
BEGIN:VEVENT
DTSTART;TZID=UTC:20171122T193000
DTEND;TZID=UTC:20171122T210000
DTSTAMP:20260423T065043
CREATED:20171010T201158Z
LAST-MODIFIED:20171010T201233Z
UID:6011-1511379000-1511384400@buckfastleigh.gov.uk
SUMMARY:Finance Committee
DESCRIPTION:
URL:https://buckfastleigh.gov.uk/event/finance-committee-18/
LOCATION:Buckfastleigh Town Hall – Chamber
END:VEVENT
BEGIN:VEVENT
DTSTART;TZID=UTC:20171120T100000
DTEND;TZID=UTC:20171120T120000
DTSTAMP:20260423T065043
CREATED:20171114T120153Z
LAST-MODIFIED:20171114T120153Z
UID:6080-1511172000-1511179200@buckfastleigh.gov.uk
SUMMARY:The Friendship Group - Buckfastleigh Town Hall every Monday 10-12pm Buckfastleigh Town Hall
DESCRIPTION:
URL:https://buckfastleigh.gov.uk/event/the-friendship-group-buckfastleigh-town-hall-every-monday-10-12pm-buckfastleigh-town-hall/
END:VEVENT
BEGIN:VEVENT
DTSTART;TZID=UTC:20171118T130000
DTEND;TZID=UTC:20171118T160000
DTSTAMP:20260423T065043
CREATED:20170904T105224Z
LAST-MODIFIED:20170904T105224Z
UID:5936-1511010000-1511020800@buckfastleigh.gov.uk
SUMMARY:Autumn Crafts
DESCRIPTION:Dangerous Dads – Make some great gifts from Natural Materials\nMeet at Woodlanders\, Woodland Road\, Ashburton.
URL:https://buckfastleigh.gov.uk/event/autumn-crafts/
END:VEVENT
BEGIN:VEVENT
DTSTART;TZID=UTC:20171114T080000
DTEND;TZID=UTC:20171114T170000
DTSTAMP:20260423T065043
CREATED:20171114T115656Z
LAST-MODIFIED:20171114T115656Z
UID:6077-1510646400-1510678800@buckfastleigh.gov.uk
SUMMARY:Christmas Organ Music with Richard Lester at St Luke's Church Saturday 2nd December 10:30am
DESCRIPTION:Retiring collection towards the Patchwork Quilt Challenge supporting local Charities including the Children’s Hospice South West.
URL:https://buckfastleigh.gov.uk/event/christmas-organ-music-with-richard-lester-at-st-lukes-church-saturday-2nd-december-1030am/
END:VEVENT
BEGIN:VEVENT
DTSTART;TZID=UTC:20171108T193000
DTEND;TZID=UTC:20171108T213000
DTSTAMP:20260423T065043
CREATED:20171010T201059Z
LAST-MODIFIED:20171010T201059Z
UID:6009-1510169400-1510176600@buckfastleigh.gov.uk
SUMMARY:Town Council Meeting
DESCRIPTION:
URL:https://buckfastleigh.gov.uk/event/town-council-meeting-24/
LOCATION:Buckfastleigh Town Hall – Room 3
END:VEVENT
BEGIN:VEVENT
DTSTART;TZID=UTC:20171101T190000
DTEND;TZID=UTC:20171101T213000
DTSTAMP:20260423T065043
CREATED:20170926T155458Z
LAST-MODIFIED:20170926T155458Z
UID:5990-1509562800-1509571800@buckfastleigh.gov.uk
SUMMARY:Planning\, Environment and Transport Committee
DESCRIPTION:
URL:https://buckfastleigh.gov.uk/event/planning-environment-and-transport-committee-17/
LOCATION:Buckfastleigh Town Hall – Room 3
END:VEVENT
BEGIN:VEVENT
DTSTART;TZID=UTC:20171027T150000
DTEND;TZID=UTC:20171027T180000
DTSTAMP:20260423T065043
CREATED:20171024T152525Z
LAST-MODIFIED:20171024T152525Z
UID:6046-1509116400-1509127200@buckfastleigh.gov.uk
SUMMARY:Enchanted - FREE Children's Event in Victoria Park
DESCRIPTION:A magical afternoon of crafts\, creativity and storytelling for Halloween including lantern making\, creepie crawlie crafts and seasonal creations. \nFeel free to dress up and dress warmly! \nTicket re  free\, but booking is essential via Eventbrite or local venues in the town – www.eventbrite.co.uk/e/enchanted-crafts-creativity-for-halloween-tickets-38865332255 \nWarm and delicious refreshments for sale. \nIn the event of wet weather the Town Hall will be used.
URL:https://buckfastleigh.gov.uk/event/enchanted-free-childrens-event-in-victoria-park/
LOCATION:Victoria Park\, Plymouth Road\, Buckfastleigh\, United Kingdom
END:VEVENT
BEGIN:VEVENT
DTSTART;TZID=UTC:20171025T193000
DTEND;TZID=UTC:20171025T210000
DTSTAMP:20260423T065043
CREATED:20170809T095255Z
LAST-MODIFIED:20170809T095255Z
UID:5858-1508959800-1508965200@buckfastleigh.gov.uk
SUMMARY:Finance Committee
DESCRIPTION:
URL:https://buckfastleigh.gov.uk/event/finance-committee-19/
LOCATION:Buckfastleigh Town Hall – Chamber
END:VEVENT
BEGIN:VEVENT
DTSTART;TZID=UTC:20171021T193000
DTEND;TZID=UTC:20171021T230000
DTSTAMP:20260423T065043
CREATED:20170912T092809Z
LAST-MODIFIED:20170912T092809Z
UID:5957-1508614200-1508626800@buckfastleigh.gov.uk
SUMMARY:South Devon Big Band & The Liberty Sisters - October 21st 2017 7:30pm St Luke's Church
DESCRIPTION:Tickets £10 from Bradley’s Estate Agents 01364 643627\, Trefor Jones 01364 642642 or on the door.
URL:https://buckfastleigh.gov.uk/event/south-devon-big-band-the-liberty-sisters-october-21st-2017-730pm-st-lukes-church/
LOCATION:St. Lukes Church
END:VEVENT
BEGIN:VEVENT
DTSTART;TZID=UTC:20171017T183000
DTEND;TZID=UTC:20171017T213000
DTSTAMP:20260423T065043
CREATED:20170822T095705Z
LAST-MODIFIED:20170822T095705Z
UID:5903-1508265000-1508275800@buckfastleigh.gov.uk
SUMMARY:Buckfastleigh Flood Warden Training
DESCRIPTION:
URL:https://buckfastleigh.gov.uk/event/buckfastleigh-flood-warden-training-3/
LOCATION:Buckfastleigh Town Hall – Room 3
END:VEVENT
BEGIN:VEVENT
DTSTART;TZID=UTC:20171011T073000
DTEND;TZID=UTC:20171011T213000
DTSTAMP:20260423T065043
CREATED:20170809T095043Z
LAST-MODIFIED:20170809T095043Z
UID:5854-1507707000-1507757400@buckfastleigh.gov.uk
SUMMARY:Town Council Meeting
DESCRIPTION:
URL:https://buckfastleigh.gov.uk/event/town-council-meeting-23/
LOCATION:Buckfastleigh Town Hall – Room 3
END:VEVENT
BEGIN:VEVENT
DTSTART;TZID=UTC:20171010T193000
DTEND;TZID=UTC:20171010T210000
DTSTAMP:20260423T065043
CREATED:20170809T095201Z
LAST-MODIFIED:20170809T095201Z
UID:5856-1507663800-1507669200@buckfastleigh.gov.uk
SUMMARY:Tourism\, Recreation and Economic Development Committee
DESCRIPTION:
URL:https://buckfastleigh.gov.uk/event/tourism-recreation-and-economic-development-committee-7/
LOCATION:Buckfastleigh Town Hall – Chamber
END:VEVENT
BEGIN:VEVENT
DTSTART;TZID=UTC:20171008T100000
DTEND;TZID=UTC:20171008T160000
DTSTAMP:20260423T065043
CREATED:20170927T102128Z
LAST-MODIFIED:20170927T102140Z
UID:5994-1507456800-1507478400@buckfastleigh.gov.uk
SUMMARY:Buckfastleigh Apple Pie Day Sunday 8th October - Millennium Green 10am- 4pm
DESCRIPTION:Bring your own apples and use the 15 gallon press to make juice.\nHot food\, Traders\, Free kids activities\, Apple juice & Cider for sale\, Bouncy Castle & Face painting.
URL:https://buckfastleigh.gov.uk/event/buckfastleigh-apple-pie-day-sunday-8th-october-millennium-green-10am-4pm/
END:VEVENT
BEGIN:VEVENT
DTSTART;TZID=UTC:20171007T130000
DTEND;TZID=UTC:20171007T160000
DTSTAMP:20260423T065043
CREATED:20170904T104906Z
LAST-MODIFIED:20170904T104906Z
UID:5934-1507381200-1507392000@buckfastleigh.gov.uk
SUMMARY:Apple Pressing
DESCRIPTION:Dangerous Dads Apple Pressing – All welcome\, Community/Family event\nNew Park\, near Buckfast\, TQ11 0HL\nBring clean plastic bottles!
URL:https://buckfastleigh.gov.uk/event/apple-pressing/
END:VEVENT
BEGIN:VEVENT
DTSTART;TZID=UTC:20171006T190000
DTEND;TZID=UTC:20171006T210000
DTSTAMP:20260423T065043
CREATED:20170927T101856Z
LAST-MODIFIED:20170927T101856Z
UID:5992-1507316400-1507323600@buckfastleigh.gov.uk
SUMMARY:BINGO! St Luke's Church (lower hall) Friday 6th October
DESCRIPTION:All welcome to a Bingo Evening at St Luke’s Church\, Buckfastleigh.\nAshburton District Friends of Guiding (Girl Guides)\nPrizes\, Raffle and refreshments.
URL:https://buckfastleigh.gov.uk/event/bingo-st-lukes-church-lower-hall-friday-6th-october/
END:VEVENT
BEGIN:VEVENT
DTSTART;TZID=UTC:20171005T184500
DTEND;TZID=UTC:20171005T210000
DTSTAMP:20260423T065043
CREATED:20170920T114215Z
LAST-MODIFIED:20170920T114229Z
UID:5970-1507229100-1507237200@buckfastleigh.gov.uk
SUMMARY:FREE Community Training Programme
DESCRIPTION:Dear Community Organiser \n******What’s the point of your organisation?****** \nDo you run a local community group\, charity or not for profit organisation?  Have you ever read your groups constitution?  Do you know what your main purpose is and are you clear about your roles and responsibilities?  Having a really good grasp of some of these issues can really help you work with local people and show funders that you are an organisation worth investing in. \nBuckfastleigh Town Council are running a FREE workshop for Buckfastleigh and Buckfast not for profit organisations\, charities and community groups on THURSDAY 5 OCTOBER at 6.45pm in Buckfastleigh Town Hall. (Organisations not from TQ11 are welcome if places are available and we would welcome donations to help cover our costs.) \nYou should register your interest by emailing clerk@buckfastleigh.gov.uk giving your name\, the name of your organisation and a contact number by Friday 29 September. \nPlease share with others in Buckfast and Buckfastleigh who might be interested.
URL:https://buckfastleigh.gov.uk/event/free-community-training-programme/
LOCATION:Buckfastleigh Town Hall – Room 2
END:VEVENT
END:VCALENDAR