BEGIN:VCALENDAR
VERSION:2.0
PRODID:-//Buckfastleigh Town Council - ECPv6.15.20//NONSGML v1.0//EN
CALSCALE:GREGORIAN
METHOD:PUBLISH
X-WR-CALNAME:Buckfastleigh Town Council
X-ORIGINAL-URL:https://buckfastleigh.gov.uk
X-WR-CALDESC:Events for Buckfastleigh Town Council
REFRESH-INTERVAL;VALUE=DURATION:PT1H
X-Robots-Tag:noindex
X-PUBLISHED-TTL:PT1H
BEGIN:VTIMEZONE
TZID:UTC
BEGIN:STANDARD
TZOFFSETFROM:+0000
TZOFFSETTO:+0000
TZNAME:UTC
DTSTART:20160101T000000
END:STANDARD
END:VTIMEZONE
BEGIN:VEVENT
DTSTART;TZID=UTC:20170909T130000
DTEND;TZID=UTC:20170909T160000
DTSTAMP:20260424T025223
CREATED:20170904T102639Z
LAST-MODIFIED:20170904T102639Z
UID:5918-1504962000-1504972800@buckfastleigh.gov.uk
SUMMARY:Dangerous Dads Blackberry Picking Saturday 9th September 1-4pm
DESCRIPTION:
URL:https://buckfastleigh.gov.uk/event/dangerous-dads-blackberry-picking-saturday-9th-september-1-4pm/
LOCATION:Devon
END:VEVENT
BEGIN:VEVENT
DTSTART;TZID=UTC:20170907T143000
DTEND;TZID=UTC:20170907T193000
DTSTAMP:20260424T025223
CREATED:20170818T141835Z
LAST-MODIFIED:20170818T141835Z
UID:5895-1504794600-1504812600@buckfastleigh.gov.uk
SUMMARY:Public Exhibition - Land at Holne Road\, Buckfastleigh
DESCRIPTION:You are invited by Burrington Estates to view the emerging development proposals for a forthcoming residential development on land at Holne Road\, Buckfastleigh. \nFurther to the community survey circulated earlier in August\, this event gives the local community the opportunity to provide feedback on the detailed proposals to the developer before a planning application is submitted later this year.
URL:https://buckfastleigh.gov.uk/event/public-exhibition-land-at-holne-road-buckfastleigh/
LOCATION:Buckfastleigh Town Hall- Main Hall\, Bossell Road\, Buckfastleigh\, Devon\, TQ11 0DD\, United Kingdom
END:VEVENT
BEGIN:VEVENT
DTSTART;TZID=UTC:20170906T190000
DTEND;TZID=UTC:20170906T210000
DTSTAMP:20260424T025223
CREATED:20170809T094616Z
LAST-MODIFIED:20170809T094616Z
UID:5846-1504724400-1504731600@buckfastleigh.gov.uk
SUMMARY:Planning\, Environment and Transport Committee
DESCRIPTION:
URL:https://buckfastleigh.gov.uk/event/planning-environment-and-transport-committee-15/
LOCATION:Buckfastleigh Town Hall – Chamber
END:VEVENT
BEGIN:VEVENT
DTSTART;TZID=UTC:20170831T140000
DTEND;TZID=UTC:20170831T153000
DTSTAMP:20260424T025223
CREATED:20170816T100439Z
LAST-MODIFIED:20170816T100439Z
UID:5888-1504188000-1504193400@buckfastleigh.gov.uk
SUMMARY:William Pengelly Cave Studies Trust - Guided Walks
DESCRIPTION:
URL:https://buckfastleigh.gov.uk/event/william-pengelly-cave-studies-trust-guided-walks-10/
LOCATION:William Pengelly Cave Studies Centre\, Russets Lane\, Buckfastleigh
END:VEVENT
BEGIN:VEVENT
DTSTART;TZID=UTC:20170831T110000
DTEND;TZID=UTC:20170831T123000
DTSTAMP:20260424T025223
CREATED:20170816T100355Z
LAST-MODIFIED:20170816T100355Z
UID:5886-1504177200-1504182600@buckfastleigh.gov.uk
SUMMARY:William Pengelly Cave Studies Trust - Guided Walks
DESCRIPTION:See entry for 16.08.17
URL:https://buckfastleigh.gov.uk/event/william-pengelly-cave-studies-trust-guided-walks-9/
LOCATION:William Pengelly Cave Studies Centre\, Russets Lane\, Buckfastleigh
END:VEVENT
BEGIN:VEVENT
DTSTART;TZID=UTC:20170830T163000
DTEND;TZID=UTC:20170830T183000
DTSTAMP:20260424T025223
CREATED:20170818T135225Z
LAST-MODIFIED:20170818T135225Z
UID:5893-1504110600-1504117800@buckfastleigh.gov.uk
SUMMARY:Dartmoor's House Martins with naturalist John Walters
DESCRIPTION:Can you tell the difference between a House Martin and a Swallow? John Walters will uncover the secret lives of these amazing birds and tell you about the Dartmoor House Martin Project. \nDartmoor’s House Martins need our help – in the last 30 years they have been lost from half the places they used to be found in Devon. Come and find out what we can do to help them. \nA circular walk with naturalist John Walters around the town lasting about 2 hours. This event is free\, but booking is required due to limited numbers. To reserve your place\, please contact Dartmoor National Park Authority hq@dartmoor.gov.uk or 01626 832093. \nFor more information about the project\, visit www.dartmoorhousemartins.org
URL:https://buckfastleigh.gov.uk/event/dartmoors-house-martins-with-naturalist-john-walters/
LOCATION:Victoria Park\, Plymouth Road\, Buckfastleigh\, United Kingdom
END:VEVENT
BEGIN:VEVENT
DTSTART;TZID=UTC:20170830T140000
DTEND;TZID=UTC:20170830T153000
DTSTAMP:20260424T025223
CREATED:20170816T100250Z
LAST-MODIFIED:20170816T100250Z
UID:5884-1504101600-1504107000@buckfastleigh.gov.uk
SUMMARY:William Pengelly Cave Studies Trust - Guided Walks
DESCRIPTION:
URL:https://buckfastleigh.gov.uk/event/william-pengelly-cave-studies-trust-guided-walks-8/
LOCATION:William Pengelly Cave Studies Centre\, Russets Lane\, Buckfastleigh
END:VEVENT
BEGIN:VEVENT
DTSTART;TZID=UTC:20170830T110000
DTEND;TZID=UTC:20170830T123000
DTSTAMP:20260424T025223
CREATED:20170816T100157Z
LAST-MODIFIED:20170816T100157Z
UID:5882-1504090800-1504096200@buckfastleigh.gov.uk
SUMMARY:William Pengelly Cave Studies Trust - Guided Walks
DESCRIPTION:See entry for 16.08.17
URL:https://buckfastleigh.gov.uk/event/william-pengelly-cave-studies-trust-guided-walks-7/
LOCATION:William Pengelly Cave Studies Centre\, Russets Lane\, Buckfastleigh
END:VEVENT
BEGIN:VEVENT
DTSTART;TZID=UTC:20170824T140000
DTEND;TZID=UTC:20170824T153000
DTSTAMP:20260424T025223
CREATED:20170816T095947Z
LAST-MODIFIED:20170816T100706Z
UID:5879-1503583200-1503588600@buckfastleigh.gov.uk
SUMMARY:William Pengelly Cave Studies Trust
DESCRIPTION:
URL:https://buckfastleigh.gov.uk/event/wiilaim-pengelly-cave-studies-trust/
LOCATION:William Pengelly Cave Studies Centre\, Russets Lane\, Buckfastleigh
END:VEVENT
BEGIN:VEVENT
DTSTART;TZID=UTC:20170824T110000
DTEND;TZID=UTC:20170824T123000
DTSTAMP:20260424T025223
CREATED:20170816T095901Z
LAST-MODIFIED:20170816T100933Z
UID:5877-1503572400-1503577800@buckfastleigh.gov.uk
SUMMARY:William Pengelly Cave Studies Trust - Guided Walks
DESCRIPTION:See entry for 16.08.17
URL:https://buckfastleigh.gov.uk/event/william-pengelly-cave-studies-trust-guided-walks-6/
LOCATION:William Pengelly Cave Studies Centre\, Russets Lane\, Buckfastleigh
END:VEVENT
BEGIN:VEVENT
DTSTART;TZID=UTC:20170823T140000
DTEND;TZID=UTC:20170823T153000
DTSTAMP:20260424T025223
CREATED:20170816T095748Z
LAST-MODIFIED:20170816T100609Z
UID:5875-1503496800-1503502200@buckfastleigh.gov.uk
SUMMARY:William Pengelly Cave Studies Trust - Guided Walks
DESCRIPTION:
URL:https://buckfastleigh.gov.uk/event/william-pengelly-cave-studies-trust-guided-walks-5/
LOCATION:William Pengelly Cave Studies Centre\, Russets Lane\, Buckfastleigh
END:VEVENT
BEGIN:VEVENT
DTSTART;TZID=UTC:20170823T110000
DTEND;TZID=UTC:20170823T123000
DTSTAMP:20260424T025223
CREATED:20170816T095654Z
LAST-MODIFIED:20170816T095654Z
UID:5873-1503486000-1503491400@buckfastleigh.gov.uk
SUMMARY:William Pengelly Cave Studies Trust - Guided Walks
DESCRIPTION:See entry for 16.08.17
URL:https://buckfastleigh.gov.uk/event/william-pengelly-cave-studies-trust-guided-walks-4/
LOCATION:William Pengelly Cave Studies Centre\, Russets Lane\, Buckfastleigh
END:VEVENT
BEGIN:VEVENT
DTSTART;TZID=UTC:20170817T140000
DTEND;TZID=UTC:20170817T153000
DTSTAMP:20260424T025223
CREATED:20170816T095552Z
LAST-MODIFIED:20170816T095552Z
UID:5871-1502978400-1502983800@buckfastleigh.gov.uk
SUMMARY:William Pengelly Cave Studies Trust - Guided Walks
DESCRIPTION:
URL:https://buckfastleigh.gov.uk/event/william-pengelly-cave-studies-trust-guided-walks-3/
LOCATION:William Pengelly Cave Studies Centre\, Russets Lane\, Buckfastleigh
END:VEVENT
BEGIN:VEVENT
DTSTART;TZID=UTC:20170817T110000
DTEND;TZID=UTC:20170817T123000
DTSTAMP:20260424T025223
CREATED:20170816T095450Z
LAST-MODIFIED:20170816T095450Z
UID:5869-1502967600-1502973000@buckfastleigh.gov.uk
SUMMARY:William Pengelly Cave Studies Trust - Guided Walks
DESCRIPTION:See entry for 16.08.17
URL:https://buckfastleigh.gov.uk/event/william-pengelly-cave-studies-trust-guided-walks-2/
LOCATION:William Pengelly Cave Studies Centre\, Russets Lane\, Buckfastleigh
END:VEVENT
BEGIN:VEVENT
DTSTART;TZID=UTC:20170816T140000
DTEND;TZID=UTC:20170816T153000
DTSTAMP:20260424T025223
CREATED:20170816T095153Z
LAST-MODIFIED:20170816T095153Z
UID:5867-1502892000-1502897400@buckfastleigh.gov.uk
SUMMARY:William Pengelly Cave Studies Trust - Guided Walks
DESCRIPTION:
URL:https://buckfastleigh.gov.uk/event/william-pengelly-cave-studies-trust-guided-walks/
LOCATION:William Pengelly Cave Studies Centre\, Russets Lane\, Buckfastleigh
END:VEVENT
BEGIN:VEVENT
DTSTART;TZID=UTC:20170816T110000
DTEND;TZID=UTC:20170816T123000
DTSTAMP:20260424T025223
CREATED:20170816T094907Z
LAST-MODIFIED:20170816T094907Z
UID:5864-1502881200-1502886600@buckfastleigh.gov.uk
SUMMARY:William Pengelly Cave Studies Centre\, Russets Lane\, Buckfastleigh - Guided Walks
DESCRIPTION:Find out about where the local rocks came from – an amazing story of 350 million years of development with volcanoes\, coral reefs and a huge mountain chain – all in Devon. \nLearn about the caves and how they were formed. \nVisit a cave and see the remains of elephant\, hippo\, bison\, hyaena and many other creatures that lived in Devon 100\,000 years ago. \nDiscover how limestone burning was big business in the 19th century. \nWalks take about 1.5 hours. No booking is needed or special clothing. There is a charge. \nFor more information call 01837 840259 or 10752 775195
URL:https://buckfastleigh.gov.uk/event/william-pengelly-cave-studies-centre-russets-lane-buckfastleigh-guided-walks/
LOCATION:William Pengelly Cave Studies Centre\, Russets Lane\, Buckfastleigh
END:VEVENT
BEGIN:VEVENT
DTSTART;TZID=UTC:20170810T103000
DTEND;TZID=UTC:20170810T233000
DTSTAMP:20260424T025223
CREATED:20170809T094429Z
LAST-MODIFIED:20170809T094429Z
UID:5843-1502361000-1502407800@buckfastleigh.gov.uk
SUMMARY:Police Surgery
DESCRIPTION:With PCSO Yates for anyone with anything they wish to discuss.
URL:https://buckfastleigh.gov.uk/event/police-surgery-10/
LOCATION:St. Lukes Church
END:VEVENT
BEGIN:VEVENT
DTSTART;TZID=UTC:20170809T210000
DTEND;TZID=UTC:20170809T224500
DTSTAMP:20260424T025223
CREATED:20170731T092409Z
LAST-MODIFIED:20170731T093056Z
UID:5826-1502312400-1502318700@buckfastleigh.gov.uk
SUMMARY:South Devon Railway Vintage Bus - British Fireworks Championship Trip
DESCRIPTION:Beat the traffic jams\, forget about parking problems and travel in style on our historic Routemaster bus directly to the heart of Plymouth.  \nThe British Firework Championships return to Plymouth for two days in August with six of the country’s top pyrotechnics companies battling for prizes.  \nThis spectacular event will be held on Plymouth Hoe on Wednesday 9th August and Thursday 10th August. The displays start at 9:30pm and will see four tonnes of fireworks literally going up in smoke.  \nCompanies taking part this year are AJ Pyrotechnics\, Dragon Fireworks\, Nemisis Pyrotechnics\, Selstar Fireworks\, Smart Pyrotechnics and The UK Firework & Events Company. \nOur Routemaster bus will drop you off in the heart of Plymouth – a short walk from the Hoe. You will arrive in time to enjoy the pre-competition entertainment each evening. \nBOOKING ESSENTIAL @ https://southdevonrailway.digitickets.co.uk/tickets \nBus Times  \nAshburton (Bull Ring) 6.30pm  \nBuckfastleigh (Railway Station) 6.45pm  \nIvybridge (Bus stop in Leonards Road\, next to BP station) 7.15pm \nReturn Departure Time  \nFrom Royal Parade\, Plymouth 10:45pm  \nFares  \nAshburton / Buckfastleigh Return – £14 per adult per night – £11 per child per night.  \nIvybridge Return – £10 per adult per night – £8 per child per night.
URL:https://buckfastleigh.gov.uk/event/south-devon-railway-vintage-bus-british-fireworks-championship-trip/
LOCATION:Devon
END:VEVENT
BEGIN:VEVENT
DTSTART;TZID=UTC:20170802T190000
DTEND;TZID=UTC:20170802T210000
DTSTAMP:20260424T025223
CREATED:20170626T132954Z
LAST-MODIFIED:20170626T132954Z
UID:5747-1501700400-1501707600@buckfastleigh.gov.uk
SUMMARY:Planning\, Environment and Transport Committee
DESCRIPTION:
URL:https://buckfastleigh.gov.uk/event/planning-environment-and-transport-committee-14/
LOCATION:Buckfastleigh Town Hall – Chamber
END:VEVENT
BEGIN:VEVENT
DTSTART;TZID=UTC:20170727T184500
DTEND;TZID=UTC:20170727T204500
DTSTAMP:20260424T025223
CREATED:20170705T164556Z
LAST-MODIFIED:20170705T164556Z
UID:5766-1501181100-1501188300@buckfastleigh.gov.uk
SUMMARY:Fund-Raising for Beginners
DESCRIPTION:Buckfastleigh Town Council are running a FREE workshop for not for profit organisations and community groups. The workshop will cover possible sources of funding for your group\, the things to consider before you write your application and how to maximise your chances of success. \nRegister your interest by emailing clerk@buckfastleigh.gov.uk or call 01364 642576 giving your name\, the name of your organisation and a contact number by Friday 14th July. \nAll community not for profit groups who are considering applying for Town Council funding should come along and help increase our communities funding potential.
URL:https://buckfastleigh.gov.uk/event/fund-raising-for-beginners/
LOCATION:Buckfastleigh Town Hall – Room 3
END:VEVENT
BEGIN:VEVENT
DTSTART;TZID=UTC:20170716T140000
DTEND;TZID=UTC:20170716T170000
DTSTAMP:20260424T025223
CREATED:20170704T103910Z
LAST-MODIFIED:20170704T103910Z
UID:5762-1500213600-1500224400@buckfastleigh.gov.uk
SUMMARY:Buckfastleigh Residents Association CAR BOOT SALE AND FUN DOG SHOW!
DESCRIPTION:Sunday 16th July at 2pm. Round Cross Field\, Higher Mill Lane\, Buckfastleigh 2-5pm \nSellers 12;30pm Cars/Tables £5 Vans £7
URL:https://buckfastleigh.gov.uk/event/buckfastleigh-residents-association-car-boot-sale-and-fun-dog-show/
LOCATION:Devon
END:VEVENT
BEGIN:VEVENT
DTSTART;TZID=UTC:20170715T100000
DTEND;TZID=UTC:20170716T160000
DTSTAMP:20260424T025223
CREATED:20170624T091639Z
LAST-MODIFIED:20170624T094536Z
UID:5722-1500112800-1500220800@buckfastleigh.gov.uk
SUMMARY:Buckfastleigh Festival of Sport
DESCRIPTION:There are a huge range of FREE activities for you to try out at our 2 day Festival Of Sport at Victoria Park and Buckfastleigh Football club on Sat 15th & Sun 16th July 11am – 4pm each day… \nSo far we have: football\, rugby\, cricket\, petanque\, Karate\, caving\, climbing\, parkour\, lifeguarding\, basketball\, water polo\, e-bikes\, table tennis\, skittles\, rounders\, pure stretch\, Circuit Training\, women’s running\, zumba\, aquafit\, water volleyball and junior duathalon! \nFind out more on FaceBook \nAnd we’re also pleased to host the amazing Colourscape experience! \nColourscape is a sculpture of colour and light that you go inside. Take a look at the video below to see! \n\nhttps://youtu.be/rYfonfHlX2M
URL:https://buckfastleigh.gov.uk/event/buckfastleigh-festival-of-sport/
LOCATION:Victoria Park\, Plymouth Road\, Buckfastleigh\, United Kingdom
END:VEVENT
BEGIN:VEVENT
DTSTART;TZID=UTC:20170712T193000
DTEND;TZID=UTC:20170712T220000
DTSTAMP:20260424T025223
CREATED:20170626T132832Z
LAST-MODIFIED:20170626T132832Z
UID:5745-1499887800-1499896800@buckfastleigh.gov.uk
SUMMARY:Town Council Meeting
DESCRIPTION:
URL:https://buckfastleigh.gov.uk/event/town-council-meeting-21/
LOCATION:Buckfastleigh Town Hall – Room 3
END:VEVENT
BEGIN:VEVENT
DTSTART;TZID=UTC:20170710T193000
DTEND;TZID=UTC:20170710T213000
DTSTAMP:20260424T025223
CREATED:20170614T152055Z
LAST-MODIFIED:20170614T152136Z
UID:5712-1499715000-1499722200@buckfastleigh.gov.uk
SUMMARY:Buckfastleigh - Where Next? Community Workshop
DESCRIPTION:How is the council spending your money?\nWhat are your priorities?\nWhat should we do next?\n\nWe want your ideas and input on planning the projects we take on as a community backed by the Town Council next year. This is the first community engagement workshop to plan for 2017/18. Come and bring your thoughts… \n…and eat cake! \nSt Luke’s Church Hall
URL:https://buckfastleigh.gov.uk/event/buckfastleigh-where-next-community-workshop/
LOCATION:St. Lukes Church
END:VEVENT
BEGIN:VEVENT
DTSTART;TZID=UTC:20170705T190000
DTEND;TZID=UTC:20170705T210000
DTSTAMP:20260424T025223
CREATED:20170626T132747Z
LAST-MODIFIED:20170626T132900Z
UID:5743-1499281200-1499288400@buckfastleigh.gov.uk
SUMMARY:Planning\, Environment and Transport Committee
DESCRIPTION:
URL:https://buckfastleigh.gov.uk/event/planning-environment-and-transport-committee-13/
LOCATION:Buckfastleigh Town Hall – Chamber
END:VEVENT
BEGIN:VEVENT
DTSTART;TZID=UTC:20170703T193000
DTEND;TZID=UTC:20170703T213000
DTSTAMP:20260424T025223
CREATED:20170626T132700Z
LAST-MODIFIED:20170628T153936Z
UID:5741-1499110200-1499117400@buckfastleigh.gov.uk
SUMMARY:Tourism\, Recreation and Economic Development Committee
DESCRIPTION:
URL:https://buckfastleigh.gov.uk/event/tourism-recreation-and-economic-development-committee-6/
LOCATION:Buckfastleigh Town Hall – Chamber
END:VEVENT
BEGIN:VEVENT
DTSTART;TZID=UTC:20170628T193000
DTEND;TZID=UTC:20170628T210000
DTSTAMP:20260424T025223
CREATED:20170426T152644Z
LAST-MODIFIED:20170426T152644Z
UID:5564-1498678200-1498683600@buckfastleigh.gov.uk
SUMMARY:Finance Committee
DESCRIPTION:
URL:https://buckfastleigh.gov.uk/event/finance-committee-17/
LOCATION:Devon
END:VEVENT
BEGIN:VEVENT
DTSTART;TZID=UTC:20170625T130000
DTEND;TZID=UTC:20170625T190000
DTSTAMP:20260424T025223
CREATED:20170503T105631Z
LAST-MODIFIED:20170503T105631Z
UID:5581-1498395600-1498417200@buckfastleigh.gov.uk
SUMMARY:The 2017 Buckfastleigh Annual Fun Day!
DESCRIPTION:Sunday 25th June from 1pm at the Orchard Millennium Green with Vintage Vocal Trio The Liberty Sisters. Games\, stalls\, music\, BBQ\, and the famous Duck Race! 
URL:https://buckfastleigh.gov.uk/event/the-2017-buckfastleigh-annual-fun-day/
LOCATION:Devon
END:VEVENT
BEGIN:VEVENT
DTSTART;TZID=UTC:20170624T143000
DTEND;TZID=UTC:20170624T170000
DTSTAMP:20260424T025223
CREATED:20170526T122844Z
LAST-MODIFIED:20170526T122844Z
UID:5682-1498314600-1498323600@buckfastleigh.gov.uk
SUMMARY:Cream Tea 4 Africa
DESCRIPTION:To be held at 7 Hembury Park\, Buckfast with donations to the Gambia Fellowship Association (Registered Charity No: 1071386)\, helping to provide medical care for children in The Gambia. \nWith cream teas\, raffle\, preserves and a bring and buy plant sale. \n 
URL:https://buckfastleigh.gov.uk/event/cream-tea-4-africa-2/
LOCATION:Devon
END:VEVENT
BEGIN:VEVENT
DTSTART;TZID=UTC:20170622T103000
DTEND;TZID=UTC:20170622T233000
DTSTAMP:20260424T025223
CREATED:20170531T083119Z
LAST-MODIFIED:20170531T083119Z
UID:5685-1498127400-1498174200@buckfastleigh.gov.uk
SUMMARY:Police Surgery
DESCRIPTION:PCSO James Yates will be available for an informal chat.
URL:https://buckfastleigh.gov.uk/event/police-surgery-9/
LOCATION:St. Lukes Church
END:VEVENT
END:VCALENDAR