BEGIN:VCALENDAR
VERSION:2.0
PRODID:-//Buckfastleigh Town Council - ECPv6.15.20//NONSGML v1.0//EN
CALSCALE:GREGORIAN
METHOD:PUBLISH
X-WR-CALNAME:Buckfastleigh Town Council
X-ORIGINAL-URL:https://buckfastleigh.gov.uk
X-WR-CALDESC:Events for Buckfastleigh Town Council
REFRESH-INTERVAL;VALUE=DURATION:PT1H
X-Robots-Tag:noindex
X-PUBLISHED-TTL:PT1H
BEGIN:VTIMEZONE
TZID:UTC
BEGIN:STANDARD
TZOFFSETFROM:+0000
TZOFFSETTO:+0000
TZNAME:UTC
DTSTART:20160101T000000
END:STANDARD
END:VTIMEZONE
BEGIN:VEVENT
DTSTART;TZID=UTC:20180404T190000
DTEND;TZID=UTC:20180404T203000
DTSTAMP:20260423T095143
CREATED:20180404T160207Z
LAST-MODIFIED:20180404T160207Z
UID:6614-1522868400-1522873800@buckfastleigh.gov.uk
SUMMARY:Environment and Transport Committee
DESCRIPTION:
URL:https://buckfastleigh.gov.uk/event/environment-and-transport-committee-3/
LOCATION:Buckfastleigh Town Hall – Chamber
END:VEVENT
BEGIN:VEVENT
DTSTART;TZID=UTC:20180403T193000
DTEND;TZID=UTC:20180403T210000
DTSTAMP:20260423T095143
CREATED:20180404T160107Z
LAST-MODIFIED:20181003T160000Z
UID:6612-1522783800-1522789200@buckfastleigh.gov.uk
SUMMARY:Tourism\, Recreation and Economic Development Committee
DESCRIPTION: Agenda (Published 5 working days before the meeting)\n Minutes (available after approval at next meeting)
URL:https://buckfastleigh.gov.uk/event/tourism-recreation-and-economic-development-committee-9/
LOCATION:Buckfastleigh Town Hall – Chamber
CATEGORIES:Town Council Meeting
END:VEVENT
BEGIN:VEVENT
DTSTART;TZID=UTC:20180328T193000
DTEND;TZID=UTC:20180328T210000
DTSTAMP:20260423T095143
CREATED:20180131T131540Z
LAST-MODIFIED:20180525T144722Z
UID:6369-1522265400-1522270800@buckfastleigh.gov.uk
SUMMARY:Finance Committee
DESCRIPTION:
URL:https://buckfastleigh.gov.uk/event/finance-committee-22/
LOCATION:Devon
END:VEVENT
BEGIN:VEVENT
DTSTART;TZID=UTC:20180318T100000
DTEND;TZID=UTC:20180318T160000
DTSTAMP:20260423T095143
CREATED:20180131T131244Z
LAST-MODIFIED:20180131T131244Z
UID:6363-1521367200-1521388800@buckfastleigh.gov.uk
SUMMARY:Buckfastleigh Wool Gathering
DESCRIPTION:Back for a 3rd year\, a gathering of designer makers\, spinners\, dyers\, felters\, weavers\, knitters\, sheep breeders\, artisans and wool enthusiasts. With taster sessions\, demonstrations\, a delicious pop-up cafe and marketplace. \nEntry by donation – drop-in throughout the day – All Welcome \nOrganised by South Devon Wool Works
URL:https://buckfastleigh.gov.uk/event/buckfastleigh-wool-gathering-3/
LOCATION:Devon
END:VEVENT
BEGIN:VEVENT
DTSTART;TZID=UTC:20180314T193000
DTEND;TZID=UTC:20180314T213000
DTSTAMP:20260423T095143
CREATED:20180131T131454Z
LAST-MODIFIED:20180131T131454Z
UID:6367-1521055800-1521063000@buckfastleigh.gov.uk
SUMMARY:Town Council Meeting
DESCRIPTION:
URL:https://buckfastleigh.gov.uk/event/town-council-meeting-28/
LOCATION:Buckfastleigh Town Hall – Room 3
END:VEVENT
BEGIN:VEVENT
DTSTART;TZID=UTC:20180307T190000
DTEND;TZID=UTC:20180307T203000
DTSTAMP:20260423T095143
CREATED:20180131T131409Z
LAST-MODIFIED:20180131T131409Z
UID:6365-1520449200-1520454600@buckfastleigh.gov.uk
SUMMARY:Environment and Transport Committee
DESCRIPTION:
URL:https://buckfastleigh.gov.uk/event/environment-and-transport-committee-2/
LOCATION:Buckfastleigh Town Hall – Chamber
END:VEVENT
BEGIN:VEVENT
DTSTART;TZID=UTC:20180305T193000
DTEND;TZID=UTC:20180305T213000
DTSTAMP:20260423T095143
CREATED:20180305T155121Z
LAST-MODIFIED:20180305T155121Z
UID:6488-1520278200-1520285400@buckfastleigh.gov.uk
SUMMARY:Finance Committee
DESCRIPTION:Rescheduled from Wednesday 28 February 2018
URL:https://buckfastleigh.gov.uk/event/finance-committee-23/
LOCATION:Buckfastleigh Town Hall – Chamber
END:VEVENT
BEGIN:VEVENT
DTSTART;TZID=UTC:20180228T193000
DTEND;TZID=UTC:20180228T210000
DTSTAMP:20260423T095143
CREATED:20180104T120053Z
LAST-MODIFIED:20180104T120053Z
UID:6305-1519846200-1519851600@buckfastleigh.gov.uk
SUMMARY:Finance Committee
DESCRIPTION:
URL:https://buckfastleigh.gov.uk/event/finance-committee-21/
LOCATION:Buckfastleigh Town Hall – Chamber
END:VEVENT
BEGIN:VEVENT
DTSTART;TZID=UTC:20180226T193000
DTEND;TZID=UTC:20180226T210000
DTSTAMP:20260423T095143
CREATED:20180131T132130Z
LAST-MODIFIED:20180131T132130Z
UID:6371-1519673400-1519678800@buckfastleigh.gov.uk
SUMMARY:Parking in Buckfastleigh & Buckfast
DESCRIPTION:Do you have trouble parking in the town? Do you come home from work and struggle to find a parking space near your home? \nThe Town Council would like to invite you to an informal meeting in the Town Hall where residents and Town Councillors will  have the opportunity to look at all the parking problems and concerns in the town. \n 
URL:https://buckfastleigh.gov.uk/event/parking-in-buckfastleigh-buckfast/
LOCATION:Buckfastleigh Town Hall – Room 2
END:VEVENT
BEGIN:VEVENT
DTSTART;TZID=UTC:20180220T193000
DTEND;TZID=UTC:20180220T210000
DTSTAMP:20260423T095143
CREATED:20180131T142133Z
LAST-MODIFIED:20180131T142133Z
UID:6382-1519155000-1519160400@buckfastleigh.gov.uk
SUMMARY:Our Community - the Future of our Town's Green Spaces
DESCRIPTION:An initial meeting to discuss the possible uses and pros and cons of Teignbridge District Council owned plots of land within the parish of Buckfastleigh which have been offered back to the Town Council. \nIf you want to have a say\, become involved\, suggest ideas\, or just listen\, please come along to the meeting. Refreshments will be available. \nFor further information contact Mark Maish on 07977 927104 or email: markmaish@yahoo.com
URL:https://buckfastleigh.gov.uk/event/our-community-the-future-of-our-towns-green-spaces/
LOCATION:Buckfastleigh Town Hall – Room 2
END:VEVENT
BEGIN:VEVENT
DTSTART;TZID=UTC:20180214T193000
DTEND;TZID=UTC:20180214T213000
DTSTAMP:20260423T095143
CREATED:20180104T115953Z
LAST-MODIFIED:20180104T115953Z
UID:6303-1518636600-1518643800@buckfastleigh.gov.uk
SUMMARY:Town Council Meeting
DESCRIPTION:
URL:https://buckfastleigh.gov.uk/event/town-council-meeting-27/
LOCATION:Buckfastleigh Town Hall – Room 3
END:VEVENT
BEGIN:VEVENT
DTSTART;TZID=UTC:20180212T193000
DTEND;TZID=UTC:20180212T210000
DTSTAMP:20260423T095143
CREATED:20180126T172131Z
LAST-MODIFIED:20180131T125205Z
UID:6357-1518463800-1518469200@buckfastleigh.gov.uk
SUMMARY:The Orchard Millennium Green Annual General Meeting
DESCRIPTION:Members of the community who would like to hear about activities during 2017 and those planned for the coming year are very welcome.
URL:https://buckfastleigh.gov.uk/event/the-orchard-millennium-green-annual-public-meeting/
LOCATION:Buckfastleigh Town Hall – Room 3
END:VEVENT
BEGIN:VEVENT
DTSTART;TZID=UTC:20180207T190000
DTEND;TZID=UTC:20180207T203000
DTSTAMP:20260423T095143
CREATED:20180104T115902Z
LAST-MODIFIED:20180104T115902Z
UID:6301-1518030000-1518035400@buckfastleigh.gov.uk
SUMMARY:Environment and Transport Committee
DESCRIPTION:
URL:https://buckfastleigh.gov.uk/event/environment-and-transport-committee/
LOCATION:Buckfastleigh Town Hall – Chamber
END:VEVENT
BEGIN:VEVENT
DTSTART;TZID=UTC:20180203T203000
DTEND;TZID=UTC:20180203T223000
DTSTAMP:20260423T095143
CREATED:20180131T132624Z
LAST-MODIFIED:20180131T132624Z
UID:6373-1517689800-1517697000@buckfastleigh.gov.uk
SUMMARY:Buckfastleigh Cinema
DESCRIPTION:Buckfastleigh Cinema presents ‘Logan Lucky’ – a highly rated comedy ‘heist’ movie starring Daniel Craig. \nAdults £5.00\, under 16s £2.00 – tickets from Buckfastleigh and Buckfast Post Offices\, Refurnish\, The Town Hall\, The Seed or on the door. 8.30pm start\, bar from 7.30pm with cocktails\, mocktails\, wine\, beer\, ice cream and nibbles. \nCome along to your award winning local cinema!
URL:https://buckfastleigh.gov.uk/event/buckfastleigh-cinema/
LOCATION:Buckfastleigh Town Hall – Main Hall
END:VEVENT
BEGIN:VEVENT
DTSTART;TZID=UTC:20180125T103000
DTEND;TZID=UTC:20180125T233000
DTSTAMP:20260423T095143
CREATED:20171212T120846Z
LAST-MODIFIED:20171212T120846Z
UID:6201-1516876200-1516923000@buckfastleigh.gov.uk
SUMMARY:Police Surgery
DESCRIPTION:Anyone with anything they wish to discuss is encouraged to come along and have an informal chat with PCSO Yates.
URL:https://buckfastleigh.gov.uk/event/police-surgery-11/
LOCATION:St. Lukes Church
END:VEVENT
BEGIN:VEVENT
DTSTART;TZID=UTC:20180124T193000
DTEND;TZID=UTC:20180124T210000
DTSTAMP:20260423T095143
CREATED:20171208T150918Z
LAST-MODIFIED:20171208T150918Z
UID:6185-1516822200-1516827600@buckfastleigh.gov.uk
SUMMARY:Finance Committee
DESCRIPTION:
URL:https://buckfastleigh.gov.uk/event/finance-committee-20/
LOCATION:Buckfastleigh Town Hall – Chamber
END:VEVENT
BEGIN:VEVENT
DTSTART;TZID=UTC:20180116T193000
DTEND;TZID=UTC:20180116T210000
DTSTAMP:20260423T095143
CREATED:20171208T150832Z
LAST-MODIFIED:20171208T150832Z
UID:6183-1516131000-1516136400@buckfastleigh.gov.uk
SUMMARY:Tourism\, Recreation and Economic Development Committee
DESCRIPTION:
URL:https://buckfastleigh.gov.uk/event/tourism-recreation-and-economic-development-committee-8/
LOCATION:Buckfastleigh Town Hall – Chamber
END:VEVENT
BEGIN:VEVENT
DTSTART;TZID=UTC:20180110T193000
DTEND;TZID=UTC:20180110T213000
DTSTAMP:20260423T095143
CREATED:20171208T150657Z
LAST-MODIFIED:20171208T150657Z
UID:6181-1515612600-1515619800@buckfastleigh.gov.uk
SUMMARY:Town Council Meeting
DESCRIPTION:
URL:https://buckfastleigh.gov.uk/event/town-council-meeting-26/
LOCATION:Buckfastleigh Town Hall – Room 3
END:VEVENT
BEGIN:VEVENT
DTSTART;TZID=UTC:20180103T190000
DTEND;TZID=UTC:20180103T203000
DTSTAMP:20260423T095143
CREATED:20171208T150539Z
LAST-MODIFIED:20171208T150539Z
UID:6179-1515006000-1515011400@buckfastleigh.gov.uk
SUMMARY:Planning\, Environment and Transport Committee
DESCRIPTION:
URL:https://buckfastleigh.gov.uk/event/planning-environment-and-transport-committee-19/
LOCATION:Buckfastleigh Town Hall – Chamber
END:VEVENT
BEGIN:VEVENT
DTSTART;TZID=UTC:20171217T150000
DTEND;TZID=UTC:20171217T160000
DTSTAMP:20260423T095143
CREATED:20171208T151954Z
LAST-MODIFIED:20171208T151954Z
UID:6191-1513522800-1513526400@buckfastleigh.gov.uk
SUMMARY:Buckfast Methodist Chapel Carol Service
DESCRIPTION:Everyone Welcome
URL:https://buckfastleigh.gov.uk/event/buckfast-methodist-chapel-carol-service-2/
LOCATION:Buckfast Methodist Chapel\, Buckfast Abbey
END:VEVENT
BEGIN:VEVENT
DTSTART;TZID=UTC:20171216T193000
DTEND;TZID=UTC:20171216T210000
DTSTAMP:20260423T095143
CREATED:20171208T150440Z
LAST-MODIFIED:20171208T150440Z
UID:6177-1513452600-1513458000@buckfastleigh.gov.uk
SUMMARY:The Collati Singers
DESCRIPTION:Bob Chilcott – On Christmas Night\, Vaughan Williams – Fantasia and a selection of seasonal music with conductor Trefor Farrow and organist Robin Stubbs \nFREE entry with retiring collection
URL:https://buckfastleigh.gov.uk/event/the-collati-singers-2/
LOCATION:St. Lukes Church
END:VEVENT
BEGIN:VEVENT
DTSTART;TZID=UTC:20171216T153000
DTEND;TZID=UTC:20171216T233000
DTSTAMP:20260423T095143
CREATED:20171110T101947Z
LAST-MODIFIED:20171208T160448Z
UID:6070-1513438200-1513467000@buckfastleigh.gov.uk
SUMMARY:Buckfastleigh Cinema Club presents: The BFG + It's a Wonderful Life
DESCRIPTION:
URL:https://buckfastleigh.gov.uk/event/buckfastleigh-cinema-club-presents-saturday-16th-december/
LOCATION:Buckfastleigh Town Hall
END:VEVENT
BEGIN:VEVENT
DTSTART;TZID=UTC:20171213T193000
DTEND;TZID=UTC:20171213T213000
DTSTAMP:20260423T095143
CREATED:20171010T201512Z
LAST-MODIFIED:20171010T201512Z
UID:6016-1513193400-1513200600@buckfastleigh.gov.uk
SUMMARY:Town Council Meeting
DESCRIPTION:
URL:https://buckfastleigh.gov.uk/event/town-council-meeting-25/
LOCATION:Devon
END:VEVENT
BEGIN:VEVENT
DTSTART;TZID=UTC:20171210T080000
DTEND;TZID=UTC:20171210T170000
DTSTAMP:20260423T095143
CREATED:20171127T120041Z
LAST-MODIFIED:20171127T120041Z
UID:6134-1512892800-1512925200@buckfastleigh.gov.uk
SUMMARY:Totnes YFC Charity Log Chop - Delivery Sunday 10th December
DESCRIPTION:Totnes YFC Charity Log Chop in aid of Rowcroft Hospice & The Juvenile Diabetes Research Foundation.\n£65 for a Pick Up load of logs\, delivered FREE within 15 miles of Totnes.\nCall Jordan 07532 184474 or Tom 07412 282624
URL:https://buckfastleigh.gov.uk/event/totnes-yfc-charity-log-chop-delivery-sunday-10th-december/
LOCATION:Devon
END:VEVENT
BEGIN:VEVENT
DTSTART;TZID=UTC:20171209T163000
DTEND;TZID=UTC:20171209T213000
DTSTAMP:20260423T095143
CREATED:20171121T111423Z
LAST-MODIFIED:20171121T111423Z
UID:6119-1512837000-1512855000@buckfastleigh.gov.uk
SUMMARY:The Seed Community Festive Meal Saturday 9th December 2017 @ Buckfastleigh Town Hall
DESCRIPTION:“Our fourth and festive community meal of the year is taking place on Saturday 9th December at the Town Hall!!!! We have teamed up with Hoedown events and this time it will be a sit down seasonal meal for all the family and dance time/live music afterwards. There will be some children activities and fun for everyone of all ages. There will be a licensed bar and also a chance to come and help out the chef in the kitchen and learn some new skills and have a blast.If you would like to be involved in helping in the kitchen or at the event generally please get in touch with Liz (07866 179402). Tickets to reserve your places can be got at The Seed. They are £2 each which is refundable on the night. Vegan/Vegetarian/Children well catered for! Its going to be so much fun!!!”
URL:https://buckfastleigh.gov.uk/event/the-seed-community-festive-meal-saturday-9th-december-2017-buckfastleigh-town-hall/
LOCATION:Buckfastleigh Town Hall – Main Hall
ORGANIZER;CN="The Seed":MAILTO:buckfastleighseed@gmail.com
END:VEVENT
BEGIN:VEVENT
DTSTART;TZID=UTC:20171209T100000
DTEND;TZID=UTC:20171209T130000
DTSTAMP:20260423T095143
CREATED:20170904T105431Z
LAST-MODIFIED:20170904T105431Z
UID:5938-1512813600-1512824400@buckfastleigh.gov.uk
SUMMARY:Make Christmas Presents and a Christmas Wreath
DESCRIPTION:Dangerous Dads – Save £££££ this year making your own fab gifts and an evergreen wreath for the front door!\nMeet at Waycotts Orchard\, Meffifield Road\, Buckfastleigh.
URL:https://buckfastleigh.gov.uk/event/make-christmas-presents-and-a-christmas-wreath/
LOCATION:Devon
END:VEVENT
BEGIN:VEVENT
DTSTART;TZID=UTC:20171207T190000
DTEND;TZID=UTC:20171207T210000
DTSTAMP:20260423T095143
CREATED:20171120T144434Z
LAST-MODIFIED:20171120T144434Z
UID:6112-1512673200-1512680400@buckfastleigh.gov.uk
SUMMARY:FREE Community Training Programme
DESCRIPTION:People\, partners and funding – essential elements for creating a successful community group. See the Home Page for further details. \nRegister your interest by emailing clerk@buckfastleigh.gov.uk giving your name\, the name of your organisation and a contact number by Tuesday 5th December.
URL:https://buckfastleigh.gov.uk/event/free-community-training-programme-2/
LOCATION:Buckfastleigh Town Hall – Room 2
END:VEVENT
BEGIN:VEVENT
DTSTART;TZID=UTC:20171206T160000
DTEND;TZID=UTC:20171206T200000
DTSTAMP:20260423T095143
CREATED:20171013T092605Z
LAST-MODIFIED:20171013T092605Z
UID:6036-1512576000-1512590400@buckfastleigh.gov.uk
SUMMARY:Buckfastleigh Christmas Fair 6th December 4-8pm
DESCRIPTION:“Following last year’s huge success this year’s 3rd annual Buckfastleigh Christmas Fair will take place in the heart of town on Wednesday 6th December.\nAnother fun packed evening is planned for the whole family and live street entertainment for all will be the theme. The evening will start with local school children getting us in to the early spirit of Christmas with their special blend of carols. Local musicians will brighten the streets with music for the ears\, while story teller Greg Porter will captivate children with stories written for the occasion. There will also be an opportunity for children to busy themselves in the craft workshop.\nBy special appointment Elfic – Juggler & Jester will be joining us and is sure to have us rolling in laughter with his comic interaction and Peter Dell will join us once again to entertain us all with classic songs from old. We have also been assured that Santa and his helpers will be paying us a special visit!\nOver 40 street stalls will be selling a wide range of seasonal goods\, food\, ideal gifts for Christmas and many local shops will stay open for late shopping. There will be a giant bouncy slide\, balloons\, popcorn and much\, much more.\nAs with last year the annual ‘Carols on the Green’ will be linking arms with the Christmas Fair. Time for the start of ‘Carols on the Green’ will be announced shortly.\nRaffle tickets for the ‘Cash Prize Draw’ will be on sale on the night so please dig deep to support the running of this fabulous evening.\nThe evening’s event will take place in Fore Street\, Station Road and Elliot Plain and will run from 4.00 – 8.00pm. Road closure will be in place from 2.00pm – 9.00pm to allow stall holders to prepare their wares.\nIf you would like an application form to run your own stall or require any other information about the evening please drop in to see Cathy Veasey in the Brainwave Charity Shop\, Fore Street\, or contact Paul Roberts on 07740492842 or by email on roberts999@hotmail.com\nCome and join us. We look forward to seeing you there”
URL:https://buckfastleigh.gov.uk/event/buckfastleigh-christmas-fair-6th-december-4-8pm/
LOCATION:Devon
ORGANIZER;CN="Buckfastleigh Christmas Fair":MAILTO:roberts999@hotmail.com
END:VEVENT
BEGIN:VEVENT
DTSTART;TZID=UTC:20171206T093000
DTEND;TZID=UTC:20171206T110000
DTSTAMP:20260423T095143
CREATED:20171010T201344Z
LAST-MODIFIED:20171010T201430Z
UID:6013-1512552600-1512558000@buckfastleigh.gov.uk
SUMMARY:Planning\, Environment and Transport Committee
DESCRIPTION:Please note that this is a morning meeting due to the Buckfastleigh Christmas Fair in the evening
URL:https://buckfastleigh.gov.uk/event/planning-environment-and-transport-committee-18/
LOCATION:Buckfastleigh Town Hall – Chamber
END:VEVENT
BEGIN:VEVENT
DTSTART;TZID=UTC:20171203T193000
DTEND;TZID=UTC:20171203T213000
DTSTAMP:20260423T095143
CREATED:20171124T143703Z
LAST-MODIFIED:20171124T143703Z
UID:6132-1512329400-1512336600@buckfastleigh.gov.uk
SUMMARY:Wolf's End - a play by the MED Theatre's Young Company
DESCRIPTION:In the 1780s\, at a time of great change on Dartmoor\, roads and houses are built\, moorland is enclosed and conifer forests replace the native scrub\, but how did the improvers’ dreams of turning the Moor into an agricultural prairie impact its wild inhabitants? And would the new roads really prepare the way for prosperity on Dartmoor? \n“Wolf’s End” is a new drama by MED Theatre’s Wild Nights Company\, explores this period of development and integrates the legend of the last wolves to be killed in Britain\, rumoured to have been shot on Dartmoor at this time. \nTickets: £7.00/£5.00 –  email: info@medtheatre.co.uk or call 01647 441356
URL:https://buckfastleigh.gov.uk/event/wolfs-end-a-play-by-the-med-theatres-young-company/
LOCATION:Buckfast Village Hall\, Buckfast Road\, Buckfast\, United Kingdom
END:VEVENT
END:VCALENDAR