BEGIN:VCALENDAR
VERSION:2.0
PRODID:-//Buckfastleigh Town Council - ECPv6.15.20//NONSGML v1.0//EN
CALSCALE:GREGORIAN
METHOD:PUBLISH
X-ORIGINAL-URL:https://buckfastleigh.gov.uk
X-WR-CALDESC:Events for Buckfastleigh Town Council
REFRESH-INTERVAL;VALUE=DURATION:PT1H
X-Robots-Tag:noindex
X-PUBLISHED-TTL:PT1H
BEGIN:VTIMEZONE
TZID:UTC
BEGIN:STANDARD
TZOFFSETFROM:+0000
TZOFFSETTO:+0000
TZNAME:UTC
DTSTART:20180101T000000
END:STANDARD
END:VTIMEZONE
BEGIN:VEVENT
DTSTART;TZID=UTC:20191203T193000
DTEND;TZID=UTC:20191203T210000
DTSTAMP:20260423T150221
CREATED:20190930T091640Z
LAST-MODIFIED:20200109T104235Z
UID:9697-1575401400-1575406800@buckfastleigh.gov.uk
SUMMARY:Buckfastleigh Matters Meeting
DESCRIPTION:Agenda  (Published 5 working days before the meeting)\nMinutes  (available after approval at next meeting)
URL:https://buckfastleigh.gov.uk/event/buckfastleigh-matters-meeting-5/
LOCATION:Buckfastleigh Town Hall
CATEGORIES:Town Council Meeting
END:VEVENT
BEGIN:VEVENT
DTSTART;TZID=UTC:20191204T100000
DTEND;TZID=UTC:20191204T120000
DTSTAMP:20260423T150221
CREATED:20190709T093211Z
LAST-MODIFIED:20190709T093211Z
UID:9405-1575453600-1575460800@buckfastleigh.gov.uk
SUMMARY:Walking for Health
DESCRIPTION:Walking for Health offers free easy guided walks in a variety of locations.  All walks start from Woodholme car park.  Meet there at 9.45 am for a 10 am start and car share. \nToday’s walk goes to Hembury Woods and down to the river Dart.   Contact Val Hoare:  01803 866133 / 07792 802307.  More information about Walking for Health is here.
URL:https://buckfastleigh.gov.uk/event/walking-for-health-23/
LOCATION:victoria woodholme car park\, Plymouth Road\, Buckfastleigh\, TQ11 0BD
CATEGORIES:Walking for Health
END:VEVENT
BEGIN:VEVENT
DTSTART;TZID=UTC:20191204T150000
DTEND;TZID=UTC:20191204T200000
DTSTAMP:20260423T150221
CREATED:20190930T090122Z
LAST-MODIFIED:20190930T090122Z
UID:9695-1575471600-1575489600@buckfastleigh.gov.uk
SUMMARY:Christmas Fair
DESCRIPTION:Street market stalls\, late night opening\, children’s magician Sicromagic\, Higher Beings stilt walker\, Jazz with Band Friday\, children’s choirs\, artists’ exhibition\, street auction\, Santa and much more!
URL:https://buckfastleigh.gov.uk/event/christmas-fair-2/
END:VEVENT
BEGIN:VEVENT
DTSTART;TZID=UTC:20191204T150000
DTEND;TZID=UTC:20191204T200000
DTSTAMP:20260423T150221
CREATED:20191031T114811Z
LAST-MODIFIED:20191031T114811Z
UID:9859-1575471600-1575489600@buckfastleigh.gov.uk
SUMMARY:Art in the Yard @ Buckfastleigh Christmas Fair
DESCRIPTION:Art in the Yard @ Buckfastleigh Christmas Fair – a chance to meet your local Makers & Artists
URL:https://buckfastleigh.gov.uk/event/art-in-the-yard-buckfastleigh-christmas-fair/
LOCATION:Longwood Court
ORGANIZER;CN="Buckfastleigh Christmas Fair":MAILTO:roberts999@hotmail.com
END:VEVENT
BEGIN:VEVENT
DTSTART;TZID=UTC:20191207T193000
DTEND;TZID=UTC:20191208T003000
DTSTAMP:20260423T150221
CREATED:20191111T103225Z
LAST-MODIFIED:20191128T122901Z
UID:9930-1575747000-1575765000@buckfastleigh.gov.uk
SUMMARY:The Rambunctious Social Club return to Buckfastleigh Town Hall
DESCRIPTION:“Clubbing for the Creatively Curious”
URL:https://buckfastleigh.gov.uk/event/the-rambunctious-social-club-return-to-buckfastleigh-town-hall-on-saturday-7th-december/
LOCATION:Buckfastleigh Town Hall
END:VEVENT
BEGIN:VEVENT
DTSTART;TZID=UTC:20191208T150000
DTEND;TZID=UTC:20191208T173000
DTSTAMP:20260423T150221
CREATED:20191128T121757Z
LAST-MODIFIED:20191128T121903Z
UID:10033-1575817200-1575826200@buckfastleigh.gov.uk
SUMMARY:Enchanted Christmas Family Event
DESCRIPTION:
URL:https://buckfastleigh.gov.uk/event/enchanted-christmas-family-event/
LOCATION:Buckfastleigh Town Hall
ORGANIZER;CN="Buckfastleigh Town Council":MAILTO:clerk@buckfastleigh.gov.uk
END:VEVENT
BEGIN:VEVENT
DTSTART;TZID=UTC:20191211T193000
DTEND;TZID=UTC:20191211T210000
DTSTAMP:20260423T150221
CREATED:20190930T085839Z
LAST-MODIFIED:20200116T133203Z
UID:9693-1576092600-1576098000@buckfastleigh.gov.uk
SUMMARY:Council Matters Meeting
DESCRIPTION:Agenda  (Published 5 working days before the meeting)\nMinutes (available after approval at next meeting)
URL:https://buckfastleigh.gov.uk/event/council-matters-meeting-5/
LOCATION:Buckfastleigh Town Hall
CATEGORIES:Town Council Meeting
END:VEVENT
BEGIN:VEVENT
DTSTART;TZID=UTC:20191214T170000
DTEND;TZID=UTC:20191214T180000
DTSTAMP:20260423T150221
CREATED:20191128T120301Z
LAST-MODIFIED:20191128T120301Z
UID:10026-1576342800-1576346400@buckfastleigh.gov.uk
SUMMARY:Claire's Magical Hair (Storytelling)
DESCRIPTION:Once there was a girl whose hair could not be cut. Her mother tried scissors\, which only broke! Her father tried an axe. Same thing! But why? Why is she the only girl with magical hair? It takes a meeting with a wise old woman and many more adventures before she discovers what her hair is really for. \nRunning time 40 minutes. Ages 4+ \nStorytelling by Leo Sofer with music by Sundara Sofer. \nLeo started storytelling in 1989 and has given thousands of performances for children in schools all over England. He has created a website of stories for children\, Palace of Stories\, which features over 100 audio stories for children. \nSundara Sofer started playing music as a young child\, and plays accordion\, harmonium\, flutes and whistles. Her latest love is the Handpan\, a magical instrument that instantly transports its listeners into story land! Sundara and Leo have been playing music together since they met in 1999.
URL:https://buckfastleigh.gov.uk/event/claires-magical-hair-storytelling/
LOCATION:Jellyfish Art Hub
END:VEVENT
BEGIN:VEVENT
DTSTART;TZID=UTC:20191214T193000
DTEND;TZID=UTC:20191214T213000
DTSTAMP:20260423T150221
CREATED:20190911T102406Z
LAST-MODIFIED:20190911T102734Z
UID:9597-1576351800-1576359000@buckfastleigh.gov.uk
SUMMARY:Psychic Medium Nikki Kitt at Buckfastleigh Town Hall
DESCRIPTION:
URL:https://buckfastleigh.gov.uk/event/psychic-medium-nikki-kitt-at-buckfastleigh-town-hall/
LOCATION:Buckfastleigh Town Hall – Main Hall
END:VEVENT
BEGIN:VEVENT
DTSTART;TZID=UTC:20191218T110000
DTEND;TZID=UTC:20191218T150000
DTSTAMP:20260423T150221
CREATED:20191209T095830Z
LAST-MODIFIED:20191209T095830Z
UID:10149-1576666800-1576681200@buckfastleigh.gov.uk
SUMMARY:Walking for Health
DESCRIPTION:Walking for Health offers free easy guided walks in a variety of locations.  All walks start from Woodholme car park.  For this walk\, meet there at 11.00 am and car share. \nToday’s walk goes around Buckfast Abbey and will be followed by a shared Christmas Lunch.  Contact Val Hoare:  01803 866133 / 07792 802307.  More information about Walking for Health is here.
URL:https://buckfastleigh.gov.uk/event/walking-for-health-25/
LOCATION:victoria woodholme car park\, Plymouth Road\, Buckfastleigh\, TQ11 0BD
CATEGORIES:Walking for Health
END:VEVENT
BEGIN:VEVENT
DTSTART;TZID=UTC:20191221T190000
DTEND;TZID=UTC:20191221T200000
DTSTAMP:20260423T150221
CREATED:20191128T120659Z
LAST-MODIFIED:20191128T120659Z
UID:10028-1576954800-1576958400@buckfastleigh.gov.uk
SUMMARY:Jack and the Devil's Purse (Puppet Show)
DESCRIPTION:Puppetry for adults and older children by Angel Heart Theatre.  \nIn this darkly humorous and devilishly thought-provoking show the value of money and the nature of individual responsibility is played out with verve and comic bravado\, proving true the old saying\, ‘The Devil dances in empty pockets’. \n“I am the temptation… but I am not the sin.” So says the the Devil in Angel Heart Theatre’s re-telling of the traditional Scottish Travellers’ tale\, ‘Jack and the Devil’s Purse’. In it an idle young lad by the name of Jack lives alone with his aged mother and bemoans the tedium of a poor life. if only he were rich beyond belief… and so enters the Devil.  \nPerformed by James Richardson and Dave Oliver. Live music by Felicity Hollow. www.angelhearttheatre.com \nhttps://www.youtube.com/watch?v=diTeVJYiXa8 \nPLEASE NOTE: ONLY FOR AGES 10 YEARS AND OLDER. \nUnlike all of the other shows in the Jellyfish Festival this would NOT be suitable for younger children. \nThis performance is also on at 9 pm.
URL:https://buckfastleigh.gov.uk/event/jack-and-the-devils-purse-puppet-show/
LOCATION:Jellyfish Art Hub
END:VEVENT
BEGIN:VEVENT
DTSTART;TZID=UTC:20191225T120000
DTEND;TZID=UTC:20191225T150000
DTSTAMP:20260423T150221
CREATED:20191118T124551Z
LAST-MODIFIED:20191118T124729Z
UID:9982-1577275200-1577286000@buckfastleigh.gov.uk
SUMMARY:Community Christmas Lunch
DESCRIPTION:
URL:https://buckfastleigh.gov.uk/event/community-christmas-lunch-2/
LOCATION:Rill Estate
END:VEVENT
END:VCALENDAR