BEGIN:VCALENDAR
VERSION:2.0
PRODID:-//Buckfastleigh Town Council - ECPv6.15.20//NONSGML v1.0//EN
CALSCALE:GREGORIAN
METHOD:PUBLISH
X-WR-CALNAME:Buckfastleigh Town Council
X-ORIGINAL-URL:https://buckfastleigh.gov.uk
X-WR-CALDESC:Events for Buckfastleigh Town Council
REFRESH-INTERVAL;VALUE=DURATION:PT1H
X-Robots-Tag:noindex
X-PUBLISHED-TTL:PT1H
BEGIN:VTIMEZONE
TZID:UTC
BEGIN:STANDARD
TZOFFSETFROM:+0000
TZOFFSETTO:+0000
TZNAME:UTC
DTSTART:20190101T000000
END:STANDARD
END:VTIMEZONE
BEGIN:VEVENT
DTSTART;TZID=UTC:20200104T170000
DTEND;TZID=UTC:20200104T180000
DTSTAMP:20260423T131855
CREATED:20191128T121053Z
LAST-MODIFIED:20191128T121053Z
UID:10031-1578157200-1578160800@buckfastleigh.gov.uk
SUMMARY:Adventures in Storyland (Storytelling)
DESCRIPTION:Clive PiG  – aka Mister Storyfella   – is a globetrotting storyteller\, songster and potato juggler. Have you heard the one about the cockroach who married a mouse? \nGuffaw and raise an eyebrow to some of the most humorous and curious tales he has collected on recent travels around the world. \nGlobetrotting Clive PiG –aka Mister Storyfella – is an international storyteller and children’s author. Born in St.Albans\, Hertfordshire\, he attended the Muriel Green Nursery School. Nowadays he lives on Dartmoor in Devon\, UK.  \nHis dynamic delivery of traditional and original tales is theatrical and interactive\, combining music and song\, rhythm and rhyme and appeals to all ages\, making him a popular performer in the UK and beyond. \nThis travelling talesman has sung songs on TV in New York City\, shared stories in Zaatari refugee camp in Jordan\, and spouted poetry at Number 10 Downing Street.  \nRecent forays abroad include Brunei\, Ecuador\, Myanmar\, Oman and Uganda. \nClive is equally at home sharing stories by the fireside with you and your friends or performing on a stage for hundreds of eager ears.   \nSigned copies of his books Unicorn in the Playground\, and Jurassic Cove will be available to purchase @£5.99 each. \n“He doesn’t just tell the story\, he lives the story.” \n Emma Cordy\, Stage Manager\, Big Top\, Kidz Field\, Glastonbury Festival.
URL:https://buckfastleigh.gov.uk/event/adventures-in-storyland-storytelling/
LOCATION:Jellyfish Art Hub
END:VEVENT
BEGIN:VEVENT
DTSTART;TZID=UTC:20200108T193000
DTEND;TZID=UTC:20200108T210000
DTSTAMP:20260423T131855
CREATED:20191001T090508Z
LAST-MODIFIED:20200206T124021Z
UID:9714-1578511800-1578517200@buckfastleigh.gov.uk
SUMMARY:Buckfastleigh Matters Meeting
DESCRIPTION:Agenda  (Published 5 working days before the meeting)\nMinutes (available after approval at next meeting)
URL:https://buckfastleigh.gov.uk/event/buckfastleigh-matters-meeting-6/
LOCATION:Buckfastleigh Town Hall
CATEGORIES:Town Council Meeting
END:VEVENT
BEGIN:VEVENT
DTSTART;TZID=UTC:20200110T100000
DTEND;TZID=UTC:20200110T120000
DTSTAMP:20260423T131855
CREATED:20200106T105543Z
LAST-MODIFIED:20200106T105543Z
UID:10338-1578650400-1578657600@buckfastleigh.gov.uk
SUMMARY:Health and Wellbeing Drop-In
DESCRIPTION:
URL:https://buckfastleigh.gov.uk/event/health-and-wellbeing-drop-in/
LOCATION:The Living Room\, Fore Street\, Buckfastleigh
END:VEVENT
BEGIN:VEVENT
DTSTART;TZID=UTC:20200115T100000
DTEND;TZID=UTC:20200115T130000
DTSTAMP:20260423T131855
CREATED:20191219T105151Z
LAST-MODIFIED:20191219T105456Z
UID:10260-1579082400-1579093200@buckfastleigh.gov.uk
SUMMARY:Walking for Health
DESCRIPTION:Walking for Health offers free easy guided walks in a variety of locations.  All walks start from Woodholme car park.  Meet at 9.45 am for a 10 am start. \nToday’s walk will be a local walk.  Contact Val Hoare:  01803 866133 / 07792 802307.  More information about Walking for Health is here.
URL:https://buckfastleigh.gov.uk/event/walking-for-health-26/
LOCATION:victoria woodholme car park\, Plymouth Road\, Buckfastleigh\, TQ11 0BD
CATEGORIES:Walking for Health
END:VEVENT
BEGIN:VEVENT
DTSTART;TZID=UTC:20200115T193000
DTEND;TZID=UTC:20200115T210000
DTSTAMP:20260423T131855
CREATED:20200116T125856Z
LAST-MODIFIED:20200213T161854Z
UID:10402-1579116600-1579122000@buckfastleigh.gov.uk
SUMMARY:Council Matters Meeting
DESCRIPTION:Agenda (Published 5 working days before the meeting)\nMinutes  (available after approval at next meeting)\nKey messages
URL:https://buckfastleigh.gov.uk/event/council-matters-meeting-6/
LOCATION:Buckfastleigh Town Hall
CATEGORIES:Town Council Meeting
END:VEVENT
BEGIN:VEVENT
DTSTART;TZID=UTC:20200122T193000
DTEND;TZID=UTC:20200122T210000
DTSTAMP:20260423T131855
CREATED:20191001T090730Z
LAST-MODIFIED:20200228T123017Z
UID:9717-1579721400-1579726800@buckfastleigh.gov.uk
SUMMARY:Town Council Meeting
DESCRIPTION:Agenda  (Published 5 working days before the meeting)\nMinutes  (available after approval at next meeting)\nKey messages
URL:https://buckfastleigh.gov.uk/event/town-council-meeting-43/
LOCATION:Buckfastleigh Town Hall
CATEGORIES:Town Council Meeting
END:VEVENT
BEGIN:VEVENT
DTSTART;TZID=UTC:20200124T180000
DTEND;TZID=UTC:20200124T210000
DTSTAMP:20260423T131855
CREATED:20191210T113442Z
LAST-MODIFIED:20200113T151718Z
UID:10154-1579888800-1579899600@buckfastleigh.gov.uk
SUMMARY:Buckfastleigh SOUP + Heart of Buckfastleigh awards
DESCRIPTION:SOUP is a non-bureaucratic way to support and fund local community projects\, which started in Detroit in 2010.  The idea is simple: Local people come together\, give a donation for a bowl of soup\, and listen to others pitch their project idea.  Pitchers each have the floor for up to five minutes and must rely on their passion and speaking abilities to win over the audience.  With the presentations over\, soup is served and participants will have time to think\, chat with others\, and mull over the ideas before choosing their favourite idea.  The winning pitches get to take home\, between them\, a share both of money taken at the door and of a local donation.  This time\, thanks to the generosity of a local donor and the Mayor’s Fund\, the sum to be distributed is £1\,000. \nOn the same evening\, we will also be presenting the Heart of Buckfastleigh Awards to people who have made an extra special contribution to the community in the past year. \nReserve your free tickets here. 
URL:https://buckfastleigh.gov.uk/event/buckfastleigh-soup-2/
LOCATION:Buckfastleigh Town Hall
END:VEVENT
BEGIN:VEVENT
DTSTART;TZID=UTC:20200125T103000
DTEND;TZID=UTC:20200125T123000
DTSTAMP:20260423T131855
CREATED:20200113T125630Z
LAST-MODIFIED:20200121T115207Z
UID:10390-1579948200-1579955400@buckfastleigh.gov.uk
SUMMARY:Chinese New Year workshop
DESCRIPTION:Celebrate the start of the Year of the Rat\, Chinese New Year! Paper lanterns and finger rats to take home \n 
URL:https://buckfastleigh.gov.uk/event/chinese-new-year-workshop/
LOCATION:Buckfastleigh Town Hall
END:VEVENT
BEGIN:VEVENT
DTSTART;TZID=UTC:20200126T100000
DTEND;TZID=UTC:20200126T120000
DTSTAMP:20260423T131855
CREATED:20200121T153050Z
LAST-MODIFIED:20200121T161408Z
UID:10440-1580032800-1580040000@buckfastleigh.gov.uk
SUMMARY:Inflatable Fun - for 10 years and under
DESCRIPTION:Moorfun bring their bouncy castle and other inflatables to the Town Hall once again.  
URL:https://buckfastleigh.gov.uk/event/inflatable-fun-for-10-years-and-under/
LOCATION:Buckfastleigh Town Hall
END:VEVENT
BEGIN:VEVENT
DTSTART;TZID=UTC:20200129T100000
DTEND;TZID=UTC:20200129T120000
DTSTAMP:20260423T131855
CREATED:20200127T143130Z
LAST-MODIFIED:20200127T143130Z
UID:10486-1580292000-1580299200@buckfastleigh.gov.uk
SUMMARY:Walking for Health
DESCRIPTION:Walking for Health offers free easy guided walks in a variety of locations.  All walks start from Woodholme car park.  Meet at 9.45 am for a 10 am start. \nToday’s walk will be a local walk up Buckfastleigh Church Hill.  Contact Val Hoare:  01803 866133 / 07792 802307.  More information about Walking for Health is here.
URL:https://buckfastleigh.gov.uk/event/walking-for-health-27/
LOCATION:victoria woodholme car park\, Plymouth Road\, Buckfastleigh\, TQ11 0BD
CATEGORIES:Walking for Health
END:VEVENT
END:VCALENDAR