BEGIN:VCALENDAR
VERSION:2.0
PRODID:-//Buckfastleigh Town Council - ECPv6.15.20//NONSGML v1.0//EN
CALSCALE:GREGORIAN
METHOD:PUBLISH
X-WR-CALNAME:Buckfastleigh Town Council
X-ORIGINAL-URL:https://buckfastleigh.gov.uk
X-WR-CALDESC:Events for Buckfastleigh Town Council
REFRESH-INTERVAL;VALUE=DURATION:PT1H
X-Robots-Tag:noindex
X-PUBLISHED-TTL:PT1H
BEGIN:VTIMEZONE
TZID:UTC
BEGIN:STANDARD
TZOFFSETFROM:+0000
TZOFFSETTO:+0000
TZNAME:UTC
DTSTART:20190101T000000
END:STANDARD
END:VTIMEZONE
BEGIN:VEVENT
DTSTART;TZID=UTC:20200805T100000
DTEND;TZID=UTC:20200805T120000
DTSTAMP:20260422T175123
CREATED:20200716T091832Z
LAST-MODIFIED:20200716T091832Z
UID:11307-1596621600-1596628800@buckfastleigh.gov.uk
SUMMARY:Walking for Health
DESCRIPTION:Walking for Health offers free easy guided walks in a variety of locations.  All walks start from Woodholme car park.  Meet at 9.45 am for a 10 am start. \nCurrently\, all walks will be in the immediate local area and socially distanced.  Contact Val Hoare:  01803 866133 or Chris Taylor:  01364 643569.  More information about Walking for Health is here.
URL:https://buckfastleigh.gov.uk/event/walking-for-health-42/
LOCATION:victoria woodholme car park\, Plymouth Road\, Buckfastleigh\, TQ11 0BD
CATEGORIES:Walking for Health
END:VEVENT
BEGIN:VEVENT
DTSTART;TZID=UTC:20200808T100000
DTEND;TZID=UTC:20200808T123000
DTSTAMP:20260422T175123
CREATED:20200803T114006Z
LAST-MODIFIED:20200803T114006Z
UID:11381-1596880800-1596889800@buckfastleigh.gov.uk
SUMMARY:Have Your Say - Councillors' Surgery
DESCRIPTION:
URL:https://buckfastleigh.gov.uk/event/have-your-say-councillors-surgery/
LOCATION:55 Fore Street
ORGANIZER;CN="Buckfastleigh Town Council":MAILTO:clerk@buckfastleigh.gov.uk
END:VEVENT
BEGIN:VEVENT
DTSTART;TZID=UTC:20200808T113000
DTEND;TZID=UTC:20200808T153000
DTSTAMP:20260422T175123
CREATED:20200723T112949Z
LAST-MODIFIED:20200723T112949Z
UID:11351-1596886200-1596900600@buckfastleigh.gov.uk
SUMMARY:Valiant Soldier Opens
DESCRIPTION:
URL:https://buckfastleigh.gov.uk/event/valiant-soldier-opens/
LOCATION:The Valiant Soldier\, 80 Fore St\, Buckfastleigh\, TQ11 0BS
END:VEVENT
BEGIN:VEVENT
DTSTART;TZID=UTC:20200812T190000
DTEND;TZID=UTC:20200812T210000
DTSTAMP:20260422T175123
CREATED:20200603T101604Z
LAST-MODIFIED:20200917T091744Z
UID:11191-1597258800-1597266000@buckfastleigh.gov.uk
SUMMARY:Town Council Meeting
DESCRIPTION:Agenda  (Published 5 working days before the meeting)\nMinutes  (available after approval at next meeting)\n\nPLEASE NOTE THAT THIS MEETING WILL BE HELD REMOTELY USING ZOOM. PLEASE EMAIL THE CLERK BY 5.30pm PRIOR TO THE MEETING FOR THE MEETING ID AND PASSWORD AT: clerk@buckfastleigh.gov.uk 
URL:https://buckfastleigh.gov.uk/event/town-council-meeting-46/
CATEGORIES:Town Council Meeting
END:VEVENT
BEGIN:VEVENT
DTSTART;TZID=UTC:20200819T100000
DTEND;TZID=UTC:20200819T120000
DTSTAMP:20260422T175123
CREATED:20200716T091957Z
LAST-MODIFIED:20200716T092704Z
UID:11309-1597831200-1597838400@buckfastleigh.gov.uk
SUMMARY:Walking for Health
DESCRIPTION:Walking for Health offers free easy guided walks in a variety of locations.  All walks start from Woodholme car park.  Meet at 9.45 am for a 10 am start. \nCurrently\, all walks will be in the immediate local area and socially distanced.  Contact Val Hoare:  01803 866133 or Chris Taylor:  01364 643569.  More information about Walking for Health is here.
URL:https://buckfastleigh.gov.uk/event/walking-for-health-43/
LOCATION:victoria woodholme car park\, Plymouth Road\, Buckfastleigh\, TQ11 0BD
CATEGORIES:Walking for Health
END:VEVENT
END:VCALENDAR