BEGIN:VCALENDAR
VERSION:2.0
PRODID:-//Buckfastleigh Town Council - ECPv6.15.20//NONSGML v1.0//EN
CALSCALE:GREGORIAN
METHOD:PUBLISH
X-WR-CALNAME:Buckfastleigh Town Council
X-ORIGINAL-URL:https://buckfastleigh.gov.uk
X-WR-CALDESC:Events for Buckfastleigh Town Council
REFRESH-INTERVAL;VALUE=DURATION:PT1H
X-Robots-Tag:noindex
X-PUBLISHED-TTL:PT1H
BEGIN:VTIMEZONE
TZID:UTC
BEGIN:STANDARD
TZOFFSETFROM:+0000
TZOFFSETTO:+0000
TZNAME:UTC
DTSTART:20190101T000000
END:STANDARD
END:VTIMEZONE
BEGIN:VEVENT
DTSTART;TZID=UTC:20200902T100000
DTEND;TZID=UTC:20200902T120000
DTSTAMP:20260422T175122
CREATED:20200827T110723Z
LAST-MODIFIED:20200827T110723Z
UID:11492-1599040800-1599048000@buckfastleigh.gov.uk
SUMMARY:Walking for Health
DESCRIPTION:Walking for Health offers free easy guided walks in a variety of locations.  All walks start from Woodholme car park.  Meet at 9.45 am for a 10 am start. \nCurrently\, all walks will be in the immediate local area and socially distanced.  Today’s walk goes to Dean Court Farm Shop for coffee together outside.  Contact Val Hoare:  01803 866133 or Chris Taylor:  01364 643569.  More information about Walking for Health is here.
URL:https://buckfastleigh.gov.uk/event/walking-for-health-44/
LOCATION:victoria woodholme car park\, Plymouth Road\, Buckfastleigh\, TQ11 0BD
CATEGORIES:Walking for Health
END:VEVENT
BEGIN:VEVENT
DTSTART;TZID=UTC:20200905T100000
DTEND;TZID=UTC:20200905T113000
DTSTAMP:20260422T175122
CREATED:20200903T111012Z
LAST-MODIFIED:20200904T163025Z
UID:11531-1599300000-1599305400@buckfastleigh.gov.uk
SUMMARY:Councillors' Surgery
DESCRIPTION:
URL:https://buckfastleigh.gov.uk/event/councillors-surgery/
LOCATION:55 Fore Street
ORGANIZER;CN="Buckfastleigh Town Council":MAILTO:clerk@buckfastleigh.gov.uk
END:VEVENT
BEGIN:VEVENT
DTSTART;TZID=UTC:20200916T100000
DTEND;TZID=UTC:20200916T120000
DTSTAMP:20260422T175122
CREATED:20200827T110928Z
LAST-MODIFIED:20200827T110928Z
UID:11494-1600250400-1600257600@buckfastleigh.gov.uk
SUMMARY:Walking for Health
DESCRIPTION:Walking for Health offers free easy guided walks in a variety of locations.  All walks start from Woodholme car park.  Meet at 9.45 am for a 10 am start. \nCurrently\, all walks will be in the immediate local area and socially distanced.  Today’s walk goes around town and to the football field. \nContact Val Hoare:  01803 866133 or Chris Taylor:  01364 643569.  More information about Walking for Health is here.
URL:https://buckfastleigh.gov.uk/event/walking-for-health-45/
LOCATION:victoria woodholme car park\, Plymouth Road\, Buckfastleigh\, TQ11 0BD
CATEGORIES:Walking for Health
END:VEVENT
BEGIN:VEVENT
DTSTART;TZID=UTC:20200916T190000
DTEND;TZID=UTC:20200916T210000
DTSTAMP:20260422T175122
CREATED:20200217T104549Z
LAST-MODIFIED:20201026T102003Z
UID:10679-1600282800-1600290000@buckfastleigh.gov.uk
SUMMARY:Town Council Meeting
DESCRIPTION:Agenda  (Published 5 working days before the meeting)\nMinutes\n\nTown Council meetings are currently being held using the remote meeting service Zoom. If you would like to join the meeting scheduled for 16th September 2020 at 7.00pm please use the following login details required to join the meeting: \n\n\n\nJoin Zoom Meeting\nhttps://us02web.zoom.us/j/81782018696?pwd=U2JRMUp2djhraTlVL0NYaVZ1YlNiQT09\n\nMeeting ID: 817 8201 8696\nPasscode: 854889\n\nPlease note that Members of the Public will be kept in the waiting room facility in Zoom until the meeting commences.\n\n\n\nAny member of the public and press who wishes to attend the Town Council meeting will need to download\nZoom. Please visit https://zoom.us/meetings where you will be able to download the App.\nThe website gives tutorials and demonstrations on how to download Zoom and how to join\nmeetings.
URL:https://buckfastleigh.gov.uk/event/town-council-meeting-council-matters-5/
LOCATION:Buckfastleigh Town Hall
CATEGORIES:Town Council Meeting
END:VEVENT
BEGIN:VEVENT
DTSTART;TZID=UTC:20200930T100000
DTEND;TZID=UTC:20200930T120000
DTSTAMP:20260422T175122
CREATED:20200827T111153Z
LAST-MODIFIED:20200929T092827Z
UID:11496-1601460000-1601467200@buckfastleigh.gov.uk
SUMMARY:Walking for Health
DESCRIPTION:Walking for Health offers free easy guided walks in a variety of locations.  All walks start from Woodholme car park.  Meet at 9.45 am for a 10 am start. \nCurrently\, all walks will be in the immediate local area and socially distanced.   Today’s walk goes to Church Steps and the Pengelly Cave Centre. \n\nAll walks are along generally flat and firm (tarmac or track) surfaces with gentle inclines for approximately 1½ miles to view the scenery\, flora and fauna and history of Dartmoor.  The walks are broken half way with a vacuum flask type mini–picnic or a stop off on the return journey for light refreshments.\n \n\n\nALL WELCOME\n\nContact Val Hoare:  01803 866133 or Chris Taylor:  01364 643569.  More information about Walking for Health is on the Teignbridge Walking for Health website.
URL:https://buckfastleigh.gov.uk/event/walking-for-health-46/
LOCATION:victoria woodholme car park\, Plymouth Road\, Buckfastleigh\, TQ11 0BD
CATEGORIES:Walking for Health
END:VEVENT
END:VCALENDAR