BEGIN:VCALENDAR
VERSION:2.0
PRODID:-//Buckfastleigh Town Council - ECPv6.15.20//NONSGML v1.0//EN
CALSCALE:GREGORIAN
METHOD:PUBLISH
X-WR-CALNAME:Buckfastleigh Town Council
X-ORIGINAL-URL:https://buckfastleigh.gov.uk
X-WR-CALDESC:Events for Buckfastleigh Town Council
REFRESH-INTERVAL;VALUE=DURATION:PT1H
X-Robots-Tag:noindex
X-PUBLISHED-TTL:PT1H
BEGIN:VTIMEZONE
TZID:UTC
BEGIN:STANDARD
TZOFFSETFROM:+0000
TZOFFSETTO:+0000
TZNAME:UTC
DTSTART:20190101T000000
END:STANDARD
END:VTIMEZONE
BEGIN:VEVENT
DTSTART;TZID=UTC:20201014T100000
DTEND;TZID=UTC:20201014T123000
DTSTAMP:20260422T143846
CREATED:20200929T091839Z
LAST-MODIFIED:20200929T092916Z
UID:11692-1602669600-1602678600@buckfastleigh.gov.uk
SUMMARY:Walking for Health
DESCRIPTION:Walking for Health offers free easy guided walks in a variety of locations.  All walks start from Woodholme car park.  Meet at 9.45 am for a 10 am start. \nToday’s walk goes to the Holy Brook valley (car share). \n\nAll walks are along generally flat and firm (tarmac or track) surfaces with gentle inclines for approximately 1½ miles to view the scenery\, flora and fauna and history of Dartmoor.  The walks are broken half way with a vacuum flask type mini–picnic or a stop off on the return journey for light refreshments.\n \n\n\nALL WELCOME\n\nContact Val Hoare:  01803 866133 or Chris Taylor:  01364 643569.  More information about Walking for Health is on the Teignbridge Walking for Health website.
URL:https://buckfastleigh.gov.uk/event/walking-for-health-47/
LOCATION:victoria woodholme car park\, Plymouth Road\, Buckfastleigh\, TQ11 0BD
CATEGORIES:Walking for Health
END:VEVENT
BEGIN:VEVENT
DTSTART;TZID=UTC:20201021T190000
DTEND;TZID=UTC:20201021T210000
DTSTAMP:20260422T143846
CREATED:20200217T104835Z
LAST-MODIFIED:20201119T123148Z
UID:10683-1603306800-1603314000@buckfastleigh.gov.uk
SUMMARY:Town Council Meeting
DESCRIPTION:Agenda  (Published 5 working days before the meeting)\nMinutes  (available after approval at next meeting)\n\n\n\n\n\nTown Council meetings are currently being held using the remote meeting service Zoom. If you would like to join the meeting scheduled for 21st October 2020 at 7.00pm please use the following login details required to join the meeting: \n\n\n\nJoin Zoom Meeting\n\nhttps://us02web.zoom.us/j/84516500329?pwd=bGk3VlFqWXQ5KzFEY2QxRXU3UFdyQT09                                                                  Meeting ID: 845 1650 0329                                                                                                                                                                  Passcode: 365059 \nPlease note that Members of the Public will be kept in the waiting room facility in Zoom until the meeting commences. \n\n\n\n\nAny member of the public and press who wishes to attend the Town Council meeting will need to download\nZoom. Please visit https://zoom.us/meetings where you will be able to download the App.\nThe website gives tutorials and demonstrations on how to download Zoom and how to join\nmeetings. \n\n\n\n\nKEY MESSAGES \n1.   New Councillor – Members of the Council welcomed the newly co-opted Councillor Erin Kohler-Ockmore.  Erin has lived in town for 10 years and is a volunteer with many local organisations. \n2.   Christmas Celebrations – Plans for socially distanced Christmas celebrations were discussed.  These may include Window Wanderland displays around town plus exciting light projections. \n3.   Verge Management – The Town Council agreed to take over selected sites within the parish for verge management to preserve and enhance wildlife habitat \n4.   Buckfast Care Village Planning Application – There was broad support for the amended planning application for the proposed Care Village at Buckfast Abbey\, although the Council will request assurance from the planning authority that a community facility is available for use by local residents and groups before demolition of Buckfast Village Hall takes place
URL:https://buckfastleigh.gov.uk/event/town-council-meeting-council-matters-6/
LOCATION:Buckfastleigh Town Hall
CATEGORIES:Town Council Meeting
END:VEVENT
BEGIN:VEVENT
DTSTART;TZID=UTC:20201028T100000
DTEND;TZID=UTC:20201028T123000
DTSTAMP:20260422T143846
CREATED:20200929T092049Z
LAST-MODIFIED:20200929T092957Z
UID:11694-1603879200-1603888200@buckfastleigh.gov.uk
SUMMARY:Walking for Health
DESCRIPTION:Walking for Health offers free easy guided walks in a variety of locations.  All walks start from Woodholme car park.  Meet at 9.45 am for a 10 am start. \nToday’s walk goes to Hembury Woods and the River Dart (car share). \n\nAll walks are along generally flat and firm (tarmac or track) surfaces with gentle inclines for approximately 1½ miles to view the scenery\, flora and fauna and history of Dartmoor.  The walks are broken half way with a vacuum flask type mini–picnic or a stop off on the return journey for light refreshments.\n \n\n\nALL WELCOME\n\nContact Val Hoare:  01803 866133 or Chris Taylor:  01364 643569.  More information about Walking for Health is on the Teignbridge Walking for Health website.
URL:https://buckfastleigh.gov.uk/event/walking-for-health-48/
LOCATION:victoria woodholme car park\, Plymouth Road\, Buckfastleigh\, TQ11 0BD
CATEGORIES:Walking for Health
END:VEVENT
END:VCALENDAR