BEGIN:VCALENDAR
VERSION:2.0
PRODID:-//Buckfastleigh Town Council - ECPv6.15.20//NONSGML v1.0//EN
CALSCALE:GREGORIAN
METHOD:PUBLISH
X-ORIGINAL-URL:https://buckfastleigh.gov.uk
X-WR-CALDESC:Events for Buckfastleigh Town Council
REFRESH-INTERVAL;VALUE=DURATION:PT1H
X-Robots-Tag:noindex
X-PUBLISHED-TTL:PT1H
BEGIN:VTIMEZONE
TZID:UTC
BEGIN:STANDARD
TZOFFSETFROM:+0000
TZOFFSETTO:+0000
TZNAME:UTC
DTSTART:20190101T000000
END:STANDARD
END:VTIMEZONE
BEGIN:VEVENT
DTSTART;TZID=UTC:20201103T193000
DTEND;TZID=UTC:20201103T203000
DTSTAMP:20260422T130250
CREATED:20201027T130942Z
LAST-MODIFIED:20201027T130942Z
UID:11862-1604431800-1604435400@buckfastleigh.gov.uk
SUMMARY:Celebrate "Be Wild: The 1st Year"
DESCRIPTION:Come hear about all the amazing nature\, wildlife and community projects run by Be Wild in its very first year. \nStreaming live on the Be Buckfasleigh Facebook page:
URL:https://buckfastleigh.gov.uk/event/celebrate-be-wild-the-1st-year/
END:VEVENT
BEGIN:VEVENT
DTSTART;TZID=UTC:20201104T190000
DTEND;TZID=UTC:20201104T210000
DTSTAMP:20260422T130250
CREATED:20201022T095443Z
LAST-MODIFIED:20201203T133633Z
UID:11796-1604516400-1604523600@buckfastleigh.gov.uk
SUMMARY:Town Council Meeting
DESCRIPTION:Agenda  (Published 5 working days before the meeting)\nMinutes  (available after approval at next meeting)\n\nTown Council meetings are currently being held using the remote meeting service Zoom. If you would like to join the meeting scheduled for 4th November 2020 at 7.00pm please use the following login details required to join the meeting: \n\n\n\nJoin Zoom Meeting\nhttps://us02web.zoom.us/j/88049931197?pwd=TTIxUDhvV0RVVjNIRWFzL2dXM3FCUT09\nMeeting ID: 880 4993 1197\nPasscode: 302649\nPlease note that Members of the Public will be kept in the waiting room facility in Zoom until the meeting commences.\n\n\n\nAny member of the public and press who wishes to attend the Town Council meeting will need to download\nZoom. Please visit https://zoom.us/meetings where you will be able to download the App.\nThe website gives tutorials and demonstrations on how to download Zoom and how to join\nmeetings.
URL:https://buckfastleigh.gov.uk/event/town-council-meeting-47/
LOCATION:Buckfastleigh Town Hall
CATEGORIES:Town Council Meeting
END:VEVENT
BEGIN:VEVENT
DTSTART;TZID=UTC:20201108T103000
DTEND;TZID=UTC:20201108T120000
DTSTAMP:20260422T130250
CREATED:20201020T114019Z
LAST-MODIFIED:20201020T120743Z
UID:11789-1604831400-1604836800@buckfastleigh.gov.uk
SUMMARY:Remembrance Sunday Service
DESCRIPTION:Remembrance Sunday  Arrangements                       \n8th November 2020 \n10 .45am St. Luke’s Church Buckfastleigh \nDue to the ongoing situation with the Coronavirus\, this year’s Remembrance Service has had to be adapted. \nAs only 30 people will be able to attend the church service\, it will be by invitation only. \nWe will be live streaming the service and there will be a full recorded service available on the St. Luke’s YouTube channel \nThere will be no service at the War Memorial at Holy Trinity churchyard \nPeople who normally purchase wreaths: these will still be available from Colin Harmes 01364 643623 or 07763066958
URL:https://buckfastleigh.gov.uk/event/remembrance-sunday-service-2/
END:VEVENT
BEGIN:VEVENT
DTSTART;TZID=UTC:20201111T100000
DTEND;TZID=UTC:20201111T123000
DTSTAMP:20260422T130250
CREATED:20200929T092249Z
LAST-MODIFIED:20201102T131451Z
UID:11696-1605088800-1605097800@buckfastleigh.gov.uk
SUMMARY:Walking for Health - CANCELLED
DESCRIPTION:Walking for Health offers free easy guided walks in a variety of locations.  All walks start from Woodholme car park.  Meet at 9.45 am for a 10 am start.  \nToday’s walk goes to Hembury Hill Fort (car share). \n\nAll walks are along generally flat and firm (tarmac or track) surfaces with gentle inclines for approximately 1½ miles to view the scenery\, flora and fauna and history of Dartmoor.  The walks are broken half way with a vacuum flask type mini–picnic or a stop off on the return journey for light refreshments.\n \n\n\nALL WELCOME\n\nContact Val Hoare:  01803 866133 or Chris Taylor:  01364 643569.  More information about Walking for Health is on the Teignbridge Walking for Health website.
URL:https://buckfastleigh.gov.uk/event/walking-for-health-49/
LOCATION:victoria woodholme car park\, Plymouth Road\, Buckfastleigh\, TQ11 0BD
CATEGORIES:Walking for Health
END:VEVENT
BEGIN:VEVENT
DTSTART;TZID=UTC:20201118T190000
DTEND;TZID=UTC:20201118T210000
DTSTAMP:20260422T130250
CREATED:20200217T105102Z
LAST-MODIFIED:20201110T094145Z
UID:10687-1605726000-1605733200@buckfastleigh.gov.uk
SUMMARY:Town Council Meeting - CANCELLED
DESCRIPTION:Agenda (Published 5 working days before the meeting)\nMinutes (available after approval at next meeting)
URL:https://buckfastleigh.gov.uk/event/town-council-meeting-council-matters-7/
LOCATION:Buckfastleigh Town Hall
CATEGORIES:Town Council Meeting
END:VEVENT
BEGIN:VEVENT
DTSTART;TZID=UTC:20201125T100000
DTEND;TZID=UTC:20201125T123000
DTSTAMP:20260422T130250
CREATED:20200929T092434Z
LAST-MODIFIED:20201102T131523Z
UID:11698-1606298400-1606307400@buckfastleigh.gov.uk
SUMMARY:Walking for Health - CANCELLED
DESCRIPTION:Walking for Health offers free easy guided walks in a variety of locations.  All walks start from Woodholme car park.  Meet at 9.45 am for a 10 am start. \nToday’s walk goes to Venford Reservoir (car share). \n\nAll walks are along generally flat and firm (tarmac or track) surfaces with gentle inclines for approximately 1½ miles to view the scenery\, flora and fauna and history of Dartmoor.  The walks are broken half way with a vacuum flask type mini–picnic or a stop off on the return journey for light refreshments.\n \n\n\nALL WELCOME\n\nContact Val Hoare:  01803 866133 or Chris Taylor:  01364 643569.  More information about Walking for Health is on the Teignbridge Walking for Health website.
URL:https://buckfastleigh.gov.uk/event/walking-for-health-50/
LOCATION:victoria woodholme car park\, Plymouth Road\, Buckfastleigh\, TQ11 0BD
CATEGORIES:Walking for Health
END:VEVENT
END:VCALENDAR